Workbook

Sheet Műszaki adattábla
A1: Műszaki adattábla | H1: Szín magyarázat:
A2: FÖLDGÁZ KÖZBESZERZÉS | H2: = Ajánlatkérőnek a barna hátterű cellákat kell kitölteni.
A3: Szerződéses időszak kezdete: | C3: 44470 | H3: = A sárga hátterű cellákban és az "L", "M", "N" oszlopokban automatikusan számol. Nem kell adatokat ezekben megadni.
A4: Szerződéses időszak vége: | C4: 44834 | D4: =IF(C5<12,"Nincs meg az egy év!"," ") | H4: = A kék hátterű cellák mutatják, hogy milyen időtartományban kell megadni a "Tervezett fogyasztás a szerződött időszakban (m3)" adatokat
A5: Szerződéses hónapok száma: | C5: =IF((DAYS360(C3,C4,TRUE))/30<0,"",(DAYS360(C3,C4,))/30) -> 12
A6: Fűtőérték: | C6: 34.3
A7: Váltószám: | C7: 3.2494
A8: Tervezett mennyiség összesen: | C8: =SUM(Q:Q) -> 406251848
A9: Szerződött fölgázmennyiség: | C9: =SUM(P:P) -> 325001494 | G9: 0.8 | H9: Szerződött mennyiség aránya a tervezetthez képest | X9: =IF(C5>0,"Csak a kék háttérrel jelőlt fejlécekhez tartozó oszlopban adhat meg adatokat!"," ") -> Csak a kék háttérrel jelőlt fejlécekhez tartozó oszlopban adhat meg adatokat!
A10: Maximum szerződött mennyiség: | C10: =ROUND(C9*(1+$G$10),0) -> 487502241 | G10: 0.5 | H10: Maximális mennyiség aránya a szerződötthöz képest (opciós mennyiség)
A11: Felhasználási helyek száma: | C11: =COUNTA(E:E)-3 -> 1313 | O11: CSAK a 20 - 99 m3/h kategória esetén kell az N oszlopot kitölteni!
T12: Tervezett fogyasztás a szerződött időszakban (m3) | AF12: Tervezett fogyasztás a szerződött időszakban (kWh)
A13: Szerződő megnevezése | B13: Szerződő címe | C13: Számlafizető megnevezése | D13: Számlafizető címe | E13: Mérési pont azonosító | F13: Fogyasztási hely címe | G13: Aktuális kereskedő megnevezése | H13: Elosztói engedélyes neve | I13: Elosztói engedélyes székhelye | J13: Gázmérők névleges összteljesítménye (m3/h), ill. 100 m3/h feletti mérők esetén a lekötés mennyiségét kell magadni (m3/h) | K13: Kategória besorolás | L13: Mérők névleges összteljesítménye (20 m3/h alatt) (m3/h): | M13: Maximális lekötött teljesítmény (20-99 m3/h között) (kWh/h): | N13: Igényelt lekötött teljesítmény (20-99 m3/h között) (kWh/h) (Az "M" oszlopban szereplő érték vagy annál kisebb; lsd.: 11/2016. (XI. 14.) MEKH rendelet 29. § (6) bekezdése) | O13: Lekötött teljesítmény (100 m3/h - ) (kWh/h) | P13: Szerződött fogyasztás a szerződéses időszakban (kWh/h) | Q13: Tervezett fogyasztás a szerződött időszakban (kWh) | R13: 44470 | S13: 44501 | T13: 44531 | U13: 44562 | V13: 44593 | W13: 44621 | X13: 44652 | Y13: 44682 | Z13: 44713 | AA13: 44743 | AB13: 44774 | AC13: 44805 | AD13: 44470 | AE13: 44501 | AF13: 44531 | AG13: 44562 | AH13: 44593 | AI13: 44621 | AJ13: 44652 | AK13: 44682 | AL13: 44713 | AM13: 44743 | AN13: 44774 | AO13: 44805
A14: Nemzeti Szakértői és Kutató Központ | B14: 1087 Bp.Mosonyi u. 9. | C14: Nemzeti Szakértői és Kutató Központ | D14: 1087 Bp.Mosonyi u. 9. | E14: 39N060006316000L | F14: 1087 Bp.Mosonyi u. 9. | G14: MVM Next Energiakereskedelmi Zrt. | H14: =IF(E14="","",VLOOKUP(LEFT(E14,5),'Technikai cellák'!B:C,2,0)) -> MVM FŐGÁZ Földgázhálózati Kft. | I14: =IF(E14="","",VLOOKUP(H14,'Technikai cellák'!$C$1:$D$12,2,0)) -> 1081 Budapest, II. János Pál pápa tér 20. | J14: 140 | K14: =IF(J14="","",IF(J14<20,"20 alatti",IF(J14<100,"20-99",IF(J14<500,"100-500","500-")))) -> 100-500 | L14: =ROUND(IF(K14="20 alatti",J14*1,0),0) -> 0 | M14: =ROUND(IF(K14="20-99",J14*10.5,0),0) -> 0 | O14: =ROUND((IF(J14<100,0,J14*$C$6)/$C$7),0) -> 1478 | P14: =ROUND(Q14*$G$9,0) -> 1839579 | Q14: =SUM(AD14:AO14) -> 2299474 | R14: 15000 | S14: 30000 | T14: 40000 | U14: 45000 | V14: 35000 | W14: 25000 | X14: 12500 | Y14: 3840 | Z14: 2840 | AA14: 2440 | AB14: 2620 | AC14: 3600 | AD14: =ROUND((R14*$C$6)/$C$7,0) -> 158337 | AE14: =ROUND((S14*$C$6)/$C$7,0) -> 316674 | AF14: =ROUND((T14*$C$6)/$C$7,0) -> 422232 | AG14: =ROUND((U14*$C$6)/$C$7,0) -> 475011 | AH14: =ROUND((V14*$C$6)/$C$7,0) -> 369453 | AI14: =ROUND((W14*$C$6)/$C$7,0) -> 263895 | AJ14: =ROUND((X14*$C$6)/$C$7,0) -> 131947 | AK14: =ROUND((Y14*$C$6)/$C$7,0) -> 40534 | ... AO14: =ROUND((AC14*$C$6)/$C$7,0) -> 38001
A15: Nemzeti Szakértői és Kutató Központ | B15: 1087 Bp.Mosonyi u. 9. | C15: Nemzeti Szakértői és Kutató Központ | D15: 1087 Bp.Mosonyi u. 9. | E15: 39N0614327190006 | F15: 1135 Bp.XIII. Szabolcs u. 33 | G15: MVM Next Energiakereskedelmi Zrt. | H15: =IF(E15="","",VLOOKUP(LEFT(E15,5),'Technikai cellák'!B:C,2,0)) -> MVM FŐGÁZ Földgázhálózati Kft. | I15: =IF(E15="","",VLOOKUP(H15,'Technikai cellák'!$C$1:$D$12,2,0)) -> 1081 Budapest, II. János Pál pápa tér 20. | J15: 20 | K15: =IF(J15="","",IF(J15<20,"20 alatti",IF(J15<100,"20-99",IF(J15<500,"100-500","500-")))) -> 20-99 | L15: =ROUND(IF(K15="20 alatti",J15*1,0),0) -> 0 | M15: =ROUND(IF(K15="20-99",J15*10.5,0),0) -> 210 | N15: 210 | O15: =ROUND((IF(J15<100,0,J15*$C$6)/$C$7),0) -> 0 | P15: =ROUND(Q15*$G$9,0) -> 294778 | Q15: =SUM(AD15:AO15) -> 368472 | R15: 2300 | S15: 4620 | T15: 5820 | U15: 6285 | V15: 5800 | W15: 3600 | X15: 2610 | Y15: 1250 | Z15: 598 | AA15: 579 | AB15: 582 | AC15: 863 | AD15: =ROUND((R15*$C$6)/$C$7,0) -> 24278 | AE15: =ROUND((S15*$C$6)/$C$7,0) -> 48768 | AF15: =ROUND((T15*$C$6)/$C$7,0) -> 61435 | AG15: =ROUND((U15*$C$6)/$C$7,0) -> 66343 | AH15: =ROUND((V15*$C$6)/$C$7,0) -> 61224 | AI15: =ROUND((W15*$C$6)/$C$7,0) -> 38001 | AJ15: =ROUND((X15*$C$6)/$C$7,0) -> 27551 | AK15: =ROUND((Y15*$C$6)/$C$7,0) -> 13195 | ... AO15: =ROUND((AC15*$C$6)/$C$7,0) -> 9110
A16: Nemzeti Szakértői és Kutató Központ | B16: 1087 Bp.Mosonyi u. 9. | C16: Nemzeti Szakértői és Kutató Központ | D16: 1087 Bp.Mosonyi u. 9. | E16: 39N110799410000R | F16: 5000 Szolnok, Tószegi út 24 | G16: MVM Next Energiakereskedelmi Zrt. | H16: =IF(E16="","",VLOOKUP(LEFT(E16,5),'Technikai cellák'!B:C,2,0)) -> TIGÁZ Földgázelosztó Zrt. | I16: =IF(E16="","",VLOOKUP(H16,'Technikai cellák'!$C$1:$D$12,2,0)) -> 4200 Hajdúszoboszló, Rákóczi Ferenc út 184. | J16: 6 | K16: =IF(J16="","",IF(J16<20,"20 alatti",IF(J16<100,"20-99",IF(J16<500,"100-500","500-")))) -> 20 alatti | L16: =ROUND(IF(K16="20 alatti",J16*1,0),0) -> 6 | M16: =ROUND(IF(K16="20-99",J16*10.5,0),0) -> 0 | O16: =ROUND((IF(J16<100,0,J16*$C$6)/$C$7),0) -> 0 | P16: =ROUND(Q16*$G$9,0) -> 40567 | Q16: =SUM(AD16:AO16) -> 50709 | R16: 355 | S16: 510 | T16: 1000 | U16: 1094 | V16: 916 | W16: 502 | X16: 231 | Y16: 87 | Z16: 21 | AA16: 31 | AB16: 20 | AC16: 37 | AD16: =ROUND((R16*$C$6)/$C$7,0) -> 3747 | AE16: =ROUND((S16*$C$6)/$C$7,0) -> 5383 | AF16: =ROUND((T16*$C$6)/$C$7,0) -> 10556 | AG16: =ROUND((U16*$C$6)/$C$7,0) -> 11548 | AH16: =ROUND((V16*$C$6)/$C$7,0) -> 9669 | AI16: =ROUND((W16*$C$6)/$C$7,0) -> 5299 | AJ16: =ROUND((X16*$C$6)/$C$7,0) -> 2438 | AK16: =ROUND((Y16*$C$6)/$C$7,0) -> 918 | ... AO16: =ROUND((AC16*$C$6)/$C$7,0) -> 391
A17: Nemzeti Szakértői és Kutató Központ | B17: 1087 Bp.Mosonyi u. 9. | C17: Nemzeti Szakértői és Kutató Központ | D17: 1087 Bp.Mosonyi u. 9. | E17: 39N040246359000O | F17: 7400 Kaposvár, 48-as ifjúság útja 5 | G17: MVM Next Energiakereskedelmi Zrt. | H17: =IF(E17="","",VLOOKUP(LEFT(E17,5),'Technikai cellák'!B:C,2,0)) -> E.ON Közép-dunántúli Gázhálózati Zrt. | I17: =IF(E17="","",VLOOKUP(H17,'Technikai cellák'!$C$1:$D$12,2,0)) -> 8800 Nagykanizsa, Zrínyi Miklós út 32. | J17: 6 | K17: =IF(J17="","",IF(J17<20,"20 alatti",IF(J17<100,"20-99",IF(J17<500,"100-500","500-")))) -> 20 alatti | L17: =ROUND(IF(K17="20 alatti",J17*1,0),0) -> 6 | M17: =ROUND(IF(K17="20-99",J17*10.5,0),0) -> 0 | O17: =ROUND((IF(J17<100,0,J17*$C$6)/$C$7),0) -> 0 | P17: =ROUND(Q17*$G$9,0) -> 26210 | Q17: =SUM(AD17:AO17) -> 32763 | R17: 230 | S17: 435 | T17: 685 | U17: 650 | V17: 481 | W17: 333 | X17: 130 | Y17: 80 | Z17: 15 | AA17: 15 | AB17: 15 | AC17: 35 | AD17: =ROUND((R17*$C$6)/$C$7,0) -> 2428 | AE17: =ROUND((S17*$C$6)/$C$7,0) -> 4592 | AF17: =ROUND((T17*$C$6)/$C$7,0) -> 7231 | AG17: =ROUND((U17*$C$6)/$C$7,0) -> 6861 | AH17: =ROUND((V17*$C$6)/$C$7,0) -> 5077 | AI17: =ROUND((W17*$C$6)/$C$7,0) -> 3515 | AJ17: =ROUND((X17*$C$6)/$C$7,0) -> 1372 | AK17: =ROUND((Y17*$C$6)/$C$7,0) -> 844 | ... AO17: =ROUND((AC17*$C$6)/$C$7,0) -> 369
A18: Nemzeti Szakértői és Kutató Központ | B18: 1087 Bp.Mosonyi u. 9. | C18: Nemzeti Szakértői és Kutató Központ | D18: 1087 Bp.Mosonyi u. 9. | E18: 39N040152352000I | F18: 8200 Veszprém, Dózsa György u.30 | G18: MVM Next Energiakereskedelmi Zrt. | H18: =IF(E18="","",VLOOKUP(LEFT(E18,5),'Technikai cellák'!B:C,2,0)) -> E.ON Közép-dunántúli Gázhálózati Zrt. | I18: =IF(E18="","",VLOOKUP(H18,'Technikai cellák'!$C$1:$D$12,2,0)) -> 8800 Nagykanizsa, Zrínyi Miklós út 32. | J18: 4 | K18: =IF(J18="","",IF(J18<20,"20 alatti",IF(J18<100,"20-99",IF(J18<500,"100-500","500-")))) -> 20 alatti | L18: =ROUND(IF(K18="20 alatti",J18*1,0),0) -> 4 | M18: =ROUND(IF(K18="20-99",J18*10.5,0),0) -> 0 | O18: =ROUND((IF(J18<100,0,J18*$C$6)/$C$7),0) -> 0 | P18: =ROUND(Q18*$G$9,0) -> 79261 | Q18: =SUM(AD18:AO18) -> 99076 | R18: 585 | S18: 1024 | T18: 1782 | U18: 1800 | V18: 1350 | W18: 1090 | X18: 670 | Y18: 350 | Z18: 150 | AA18: 145 | AB18: 145 | AC18: 295 | AD18: =ROUND((R18*$C$6)/$C$7,0) -> 6175 | AE18: =ROUND((S18*$C$6)/$C$7,0) -> 10809 | AF18: =ROUND((T18*$C$6)/$C$7,0) -> 18810 | AG18: =ROUND((U18*$C$6)/$C$7,0) -> 19000 | AH18: =ROUND((V18*$C$6)/$C$7,0) -> 14250 | AI18: =ROUND((W18*$C$6)/$C$7,0) -> 11506 | AJ18: =ROUND((X18*$C$6)/$C$7,0) -> 7072 | AK18: =ROUND((Y18*$C$6)/$C$7,0) -> 3695 | ... AO18: =ROUND((AC18*$C$6)/$C$7,0) -> 3114
A19: Nemzeti Szakértői és Kutató Központ | B19: 1087 Bp.Mosonyi u. 9. | C19: Nemzeti Szakértői és Kutató Központ | D19: 1087 Bp.Mosonyi u. 9. | E19: 39N050138643000U | F19: 9700 Szombathely, Rákóczi Ferenc u.78 | G19: MVM Next Energiakereskedelmi Zrt. | H19: =IF(E19="","",VLOOKUP(LEFT(E19,5),'Technikai cellák'!B:C,2,0)) -> MVM ÉGÁZ-DÉGÁZ Földgázhálózati Zrt. | I19: =IF(E19="","",VLOOKUP(H19,'Technikai cellák'!$C$1:$D$12,2,0)) -> 6724 Szeged, Pulcz u. 44. | J19: 4 | K19: =IF(J19="","",IF(J19<20,"20 alatti",IF(J19<100,"20-99",IF(J19<500,"100-500","500-")))) -> 20 alatti | L19: =ROUND(IF(K19="20 alatti",J19*1,0),0) -> 4 | M19: =ROUND(IF(K19="20-99",J19*10.5,0),0) -> 0 | O19: =ROUND((IF(J19<100,0,J19*$C$6)/$C$7),0) -> 0 | P19: =ROUND(Q19*$G$9,0) -> 41388 | Q19: =SUM(AD19:AO19) -> 51735 | R19: 445 | S19: 715 | T19: 995 | U19: 950 | V19: 800 | W19: 500 | X19: 245 | Y19: 75 | Z19: 10 | AA19: 10 | AB19: 10 | AC19: 146 | AD19: =ROUND((R19*$C$6)/$C$7,0) -> 4697 | AE19: =ROUND((S19*$C$6)/$C$7,0) -> 7547 | AF19: =ROUND((T19*$C$6)/$C$7,0) -> 10503 | AG19: =ROUND((U19*$C$6)/$C$7,0) -> 10028 | AH19: =ROUND((V19*$C$6)/$C$7,0) -> 8445 | AI19: =ROUND((W19*$C$6)/$C$7,0) -> 5278 | AJ19: =ROUND((X19*$C$6)/$C$7,0) -> 2586 | AK19: =ROUND((Y19*$C$6)/$C$7,0) -> 792 | ... AO19: =ROUND((AC19*$C$6)/$C$7,0) -> 1541
A20: Nemzeti Szakértői és Kutató Központ | B20: 1087 Bp.Mosonyi u. 9. | C20: Nemzeti Szakértői és Kutató Központ | D20: 1087 Bp.Mosonyi u. 9. | E20: 39N111122243000S | F20: 3527 Miskolc, Bajcsy-Zsilinszky u.13 | G20: MVM Next Energiakereskedelmi Zrt. | H20: =IF(E20="","",VLOOKUP(LEFT(E20,5),'Technikai cellák'!B:C,2,0)) -> TIGÁZ Földgázelosztó Zrt. | I20: =IF(E20="","",VLOOKUP(H20,'Technikai cellák'!$C$1:$D$12,2,0)) -> 4200 Hajdúszoboszló, Rákóczi Ferenc út 184. | J20: 6 | K20: =IF(J20="","",IF(J20<20,"20 alatti",IF(J20<100,"20-99",IF(J20<500,"100-500","500-")))) -> 20 alatti | L20: =ROUND(IF(K20="20 alatti",J20*1,0),0) -> 6 | M20: =ROUND(IF(K20="20-99",J20*10.5,0),0) -> 0 | O20: =ROUND((IF(J20<100,0,J20*$C$6)/$C$7),0) -> 0 | P20: =ROUND(Q20*$G$9,0) -> 74314 | Q20: =SUM(AD20:AO20) -> 92893 | R20: 518 | S20: 1270 | T20: 1500 | U20: 1500 | V20: 1266 | W20: 1060 | X20: 642 | Y20: 260 | Z20: 180 | AA20: 180 | AB20: 180 | AC20: 244 | AD20: =ROUND((R20*$C$6)/$C$7,0) -> 5468 | AE20: =ROUND((S20*$C$6)/$C$7,0) -> 13406 | AF20: =ROUND((T20*$C$6)/$C$7,0) -> 15834 | AG20: =ROUND((U20*$C$6)/$C$7,0) -> 15834 | AH20: =ROUND((V20*$C$6)/$C$7,0) -> 13364 | AI20: =ROUND((W20*$C$6)/$C$7,0) -> 11189 | AJ20: =ROUND((X20*$C$6)/$C$7,0) -> 6777 | AK20: =ROUND((Y20*$C$6)/$C$7,0) -> 2745 | ... AO20: =ROUND((AC20*$C$6)/$C$7,0) -> 2576
A21: Nemzeti Védelmi Szolgálat | B21: Budapest, Kerepesi út 47-49. | C21: Nemzeti Védelmi Szolgálat | D21: Budapest, Kerepesi út 47-49. | E21: 39N060912658000A | F21: Budapest, Kerepesi út 47-49. | G21: MVM Next Energiakereskedelmi Zrt. | H21: NKM Földgázhálózati Kft. | I21: 1081 Budapest, II. János Pál pápa tér 20. | J21: 16 | K21: 20 alatti | L21: 16 | M21: 0 | O21: 0 | P21: 177507 | Q21: 221884 | R21: 2300 | S21: 2300 | T21: 2500 | U21: 3500 | V21: 2900 | W21: 1500 | X21: 800 | Y21: 780 | Z21: 780 | AA21: 780 | AB21: 780 | AC21: 2100 | AD21: 24278 | AE21: 24278 | AF21: 26389 | AG21: 36945 | AH21: 30612 | AI21: 15834 | AJ21: 8445 | AK21: 8234 | AL21: 8234 | AM21: 8234 | AN21: 8234 | AO21: 22167
A22: Országos Idegenrendészeti Főigazgatóság | B22: 1117 Budapest, Budafoki út 60.sz. | C22: Országos Idegenrendészeti Főigazgatóság | D22: 1117 Budapest, Budafoki út 60.sz. | E22: 39N0600063370004 | F22: 1117 Budapest, Budafoki út 60.sz. | G22: MVM Next Energiakereskedelmi Zrt. | H22: =IF(E22="","",VLOOKUP(LEFT(E22,5),'Technikai cellák'!B:C,2,0)) -> MVM FŐGÁZ Földgázhálózati Kft. | I22: =IF(E22="","",VLOOKUP(H22,'Technikai cellák'!$C$1:$D$12,2,0)) -> 1081 Budapest, II. János Pál pápa tér 20. | J22: =40+100 -> 140 | K22: =IF(J22="","",IF(J22<20,"20 alatti",IF(J22<100,"20-99",IF(J22<500,"100-500","500-")))) -> 100-500 | L22: =ROUND(IF(K22="20 alatti",J22*1,0),0) -> 0 | M22: =ROUND(IF(K22="20-99",J22*10.5,0),0) -> 0 | O22: =ROUND((IF(J22<100,0,J22*$C$6)/$C$7),0) -> 1478 | P22: =ROUND(Q22*$G$9,0) -> 1138286 | Q22: =SUM(AD22:AO22) -> 1422858 | R22: 10690 | S22: 14889 | T22: 16023 | U22: 20550 | V22: 20518 | W22: 15657 | X22: 12046 | Y22: 7112 | Z22: 4000 | AA22: 4000 | AB22: 4000 | AC22: 5309 | AD22: =ROUND((R22*$C$6)/$C$7,0) -> 112841 | AE22: =ROUND((S22*$C$6)/$C$7,0) -> 157165 | AF22: =ROUND((T22*$C$6)/$C$7,0) -> 169136 | AG22: =ROUND((U22*$C$6)/$C$7,0) -> 216922 | AH22: =ROUND((V22*$C$6)/$C$7,0) -> 216584 | AI22: =ROUND((W22*$C$6)/$C$7,0) -> 165272 | AJ22: =ROUND((X22*$C$6)/$C$7,0) -> 127155 | AK22: =ROUND((Y22*$C$6)/$C$7,0) -> 75073 | ... AO22: =ROUND((AC22*$C$6)/$C$7,0) -> 56041
A23: Országos Idegenrendészeti Főigazgatóság | B23: 1117 Budapest, Budafoki út 60.sz. | C23: Oraszágos Idegenrendészeti Főigazgatóság | D23: 1117 Budapest, Budafoki út 60.sz. | E23: 39N061166020000S | F23: 1117 Budapest, Budafoki út 60.sz. | G23: MVM Next Energiakereskedelmi Zrt. | H23: =IF(E23="","",VLOOKUP(LEFT(E23,5),'Technikai cellák'!B:C,2,0)) -> MVM FŐGÁZ Földgázhálózati Kft. | I23: =IF(E23="","",VLOOKUP(H23,'Technikai cellák'!$C$1:$D$12,2,0)) -> 1081 Budapest, II. János Pál pápa tér 20. | J23: 25 | K23: =IF(J23="","",IF(J23<20,"20 alatti",IF(J23<100,"20-99",IF(J23<500,"100-500","500-")))) -> 20-99 | L23: =ROUND(IF(K23="20 alatti",J23*1,0),0) -> 0 | M23: =ROUND(IF(K23="20-99",J23*10.5,0),0) -> 263 | N23: 263 | O23: =ROUND((IF(J23<100,0,J23*$C$6)/$C$7),0) -> 0 | P23: =ROUND(Q23*$G$9,0) -> 176763 | Q23: =SUM(AD23:AO23) -> 220954 | R23: 2299 | S23: 2604 | T23: 3680 | U23: 3625 | V23: 1851 | W23: 2351 | X23: 1360 | Y23: 494 | Z23: 607 | AA23: 607 | AB23: 607 | AC23: 847 | AD23: =ROUND((R23*$C$6)/$C$7,0) -> 24268 | AE23: =ROUND((S23*$C$6)/$C$7,0) -> 27487 | AF23: =ROUND((T23*$C$6)/$C$7,0) -> 38845 | AG23: =ROUND((U23*$C$6)/$C$7,0) -> 38265 | AH23: =ROUND((V23*$C$6)/$C$7,0) -> 19539 | AI23: =ROUND((W23*$C$6)/$C$7,0) -> 24817 | AJ23: =ROUND((X23*$C$6)/$C$7,0) -> 14356 | AK23: =ROUND((Y23*$C$6)/$C$7,0) -> 5215 | ... AO23: =ROUND((AC23*$C$6)/$C$7,0) -> 8941
A24: Országos Idegenrendészeti Főigazgatóság | B24: 1117 Budapest, Budafoki út 60.sz. | C24: Oraszágos Idegenrendészeti Főigazgatóság | D24: 1117 Budapest, Budafoki út 60.sz. | E24: 39N050751898000D | F24: Szeged, dr.Boros József utca 5. | G24: MVM Next Energiakereskedelmi Zrt. | H24: =IF(E24="","",VLOOKUP(LEFT(E24,5),'Technikai cellák'!B:C,2,0)) -> MVM ÉGÁZ-DÉGÁZ Földgázhálózati Zrt. | I24: =IF(E24="","",VLOOKUP(H24,'Technikai cellák'!$C$1:$D$12,2,0)) -> 6724 Szeged, Pulcz u. 44. | J24: =25+25 -> 50 | K24: =IF(J24="","",IF(J24<20,"20 alatti",IF(J24<100,"20-99",IF(J24<500,"100-500","500-")))) -> 20-99 | L24: =ROUND(IF(K24="20 alatti",J24*1,0),0) -> 0 | M24: =ROUND(IF(K24="20-99",J24*10.5,0),0) -> 525 | N24: 525 | O24: =ROUND((IF(J24<100,0,J24*$C$6)/$C$7),0) -> 0 | P24: =ROUND(Q24*$G$9,0) -> 378322 | Q24: =SUM(AD24:AO24) -> 472902 | R24: 3400 | S24: 6000 | T24: 6000 | U24: 7000 | V24: 7000 | W24: 4600 | X24: 3700 | Y24: 2200 | Z24: 1200 | AA24: 1200 | AB24: 1000 | AC24: 1500 | AD24: =ROUND((R24*$C$6)/$C$7,0) -> 35890 | AE24: =ROUND((S24*$C$6)/$C$7,0) -> 63335 | AF24: =ROUND((T24*$C$6)/$C$7,0) -> 63335 | AG24: =ROUND((U24*$C$6)/$C$7,0) -> 73891 | AH24: =ROUND((V24*$C$6)/$C$7,0) -> 73891 | AI24: =ROUND((W24*$C$6)/$C$7,0) -> 48557 | AJ24: =ROUND((X24*$C$6)/$C$7,0) -> 39056 | AK24: =ROUND((Y24*$C$6)/$C$7,0) -> 23223 | ... AO24: =ROUND((AC24*$C$6)/$C$7,0) -> 15834
A25: Országos Idegenrendészeti Főigazgatóság | B25: 1117 Budapest, Budafoki út 60.sz. | C25: Oraszágos Idegenrendészeti Főigazgatóság | D25: 1117 Budapest, Budafoki út 60.sz. | E25: 39N0613367580002 | F25: 1112 Budapest,Törökbálinti út 4/b | G25: MVM Next Energiakereskedelmi Zrt. | H25: =IF(E25="","",VLOOKUP(LEFT(E25,5),'Technikai cellák'!B:C,2,0)) -> MVM FŐGÁZ Földgázhálózati Kft. | I25: =IF(E25="","",VLOOKUP(H25,'Technikai cellák'!$C$1:$D$12,2,0)) -> 1081 Budapest, II. János Pál pápa tér 20. | J25: 4 | K25: =IF(J25="","",IF(J25<20,"20 alatti",IF(J25<100,"20-99",IF(J25<500,"100-500","500-")))) -> 20 alatti | L25: =ROUND(IF(K25="20 alatti",J25*1,0),0) -> 4 | M25: =ROUND(IF(K25="20-99",J25*10.5,0),0) -> 0 | O25: =ROUND((IF(J25<100,0,J25*$C$6)/$C$7),0) -> 0 | P25: =ROUND(Q25*$G$9,0) -> 11738 | Q25: =SUM(AD25:AO25) -> 14672 | R25: 187 | S25: 187 | T25: 121 | U25: 390 | V25: 50 | W25: 50 | X25: 50 | Y25: 40 | Z25: 40 | AA25: 40 | AB25: 195 | AC25: 40 | AD25: =ROUND((R25*$C$6)/$C$7,0) -> 1974 | AE25: =ROUND((S25*$C$6)/$C$7,0) -> 1974 | AF25: =ROUND((T25*$C$6)/$C$7,0) -> 1277 | AG25: =ROUND((U25*$C$6)/$C$7,0) -> 4117 | AH25: =ROUND((V25*$C$6)/$C$7,0) -> 528 | AI25: =ROUND((W25*$C$6)/$C$7,0) -> 528 | AJ25: =ROUND((X25*$C$6)/$C$7,0) -> 528 | AK25: =ROUND((Y25*$C$6)/$C$7,0) -> 422 | ... AO25: =ROUND((AC25*$C$6)/$C$7,0) -> 422
A26: Országos Idegenrendészeti Főigazgatóság | B26: 1117 Budapest, Budafoki út 60.sz. | C26: Oraszágos Idegenrendészeti Főigazgatóság | D26: 1117 Budapest, Budafoki út 60.sz. | E26: 39N030288529000P | F26: 8000 Székesfehérvár, József A.u.38.sz. | G26: MVM Next Energiakereskedelmi Zrt. | H26: =IF(E26="","",VLOOKUP(LEFT(E26,5),'Technikai cellák'!B:C,2,0)) -> E.ON Dél-dunántúli Gázhálózati Zrt. | I26: =IF(E26="","",VLOOKUP(H26,'Technikai cellák'!$C$1:$D$12,2,0)) -> 7626 Pécs, Búza tér 8/a | J26: 25 | K26: =IF(J26="","",IF(J26<20,"20 alatti",IF(J26<100,"20-99",IF(J26<500,"100-500","500-")))) -> 20-99 | L26: =ROUND(IF(K26="20 alatti",J26*1,0),0) -> 0 | M26: =ROUND(IF(K26="20-99",J26*10.5,0),0) -> 263 | N26: 263 | O26: =ROUND((IF(J26<100,0,J26*$C$6)/$C$7),0) -> 0 | P26: =ROUND(Q26*$G$9,0) -> 75544 | Q26: =SUM(AD26:AO26) -> 94430 | R26: 996 | S26: 1330 | T26: 1330 | U26: 1500 | V26: 1200 | W26: 1100 | X26: 850 | Y26: 200 | Z26: 200 | AA26: 80 | AB26: 80 | AC26: 80 | AD26: =ROUND((R26*$C$6)/$C$7,0) -> 10514 | AE26: =ROUND((S26*$C$6)/$C$7,0) -> 14039 | AF26: =ROUND((T26*$C$6)/$C$7,0) -> 14039 | AG26: =ROUND((U26*$C$6)/$C$7,0) -> 15834 | AH26: =ROUND((V26*$C$6)/$C$7,0) -> 12667 | AI26: =ROUND((W26*$C$6)/$C$7,0) -> 11611 | AJ26: =ROUND((X26*$C$6)/$C$7,0) -> 8972 | AK26: =ROUND((Y26*$C$6)/$C$7,0) -> 2111 | ... AO26: =ROUND((AC26*$C$6)/$C$7,0) -> 844
A27: Országos Idegenrendészeti Főigazgatóság | B27: 1117 Budapest, Budafoki út 60.sz. | C27: Oraszágos Idegenrendészeti Főigazgatóság | D27: 1117 Budapest, Budafoki út 60.sz. | E27: 39N060963471000V | F27: 1104 Budapest, Harmat u. 131. | G27: MVM Next Energiakereskedelmi Zrt. | H27: =IF(E27="","",VLOOKUP(LEFT(E27,5),'Technikai cellák'!B:C,2,0)) -> MVM FŐGÁZ Földgázhálózati Kft. | I27: =IF(E27="","",VLOOKUP(H27,'Technikai cellák'!$C$1:$D$12,2,0)) -> 1081 Budapest, II. János Pál pápa tér 20. | J27: =4+4 -> 8 | K27: =IF(J27="","",IF(J27<20,"20 alatti",IF(J27<100,"20-99",IF(J27<500,"100-500","500-")))) -> 20 alatti | L27: =ROUND(IF(K27="20 alatti",J27*1,0),0) -> 8 | M27: =ROUND(IF(K27="20-99",J27*10.5,0),0) -> 0 | O27: =ROUND((IF(J27<100,0,J27*$C$6)/$C$7),0) -> 0 | P27: =ROUND(Q27*$G$9,0) -> 150865 | Q27: =SUM(AD27:AO27) -> 188581 | R27: 1700 | S27: 1800 | T27: 2000 | U27: 2000 | V27: 1900 | W27: 1950 | X27: 1610 | Y27: 950 | Z27: 855 | AA27: 800 | AB27: 800 | AC27: 1500 | AD27: =ROUND((R27*$C$6)/$C$7,0) -> 17945 | AE27: =ROUND((S27*$C$6)/$C$7,0) -> 19000 | AF27: =ROUND((T27*$C$6)/$C$7,0) -> 21112 | AG27: =ROUND((U27*$C$6)/$C$7,0) -> 21112 | AH27: =ROUND((V27*$C$6)/$C$7,0) -> 20056 | AI27: =ROUND((W27*$C$6)/$C$7,0) -> 20584 | AJ27: =ROUND((X27*$C$6)/$C$7,0) -> 16995 | AK27: =ROUND((Y27*$C$6)/$C$7,0) -> 10028 | ... AO27: =ROUND((AC27*$C$6)/$C$7,0) -> 15834
A28: Országos Idegenrendészeti Főigazgatóság | B28: 1117 Budapest, Budafoki út 60.sz. | C28: Oraszágos Idegenrendészeti Főigazgatóság | D28: 1117 Budapest, Budafoki út 60.sz. | E28: 39N0302499440001 | F28: 7102 Szekszárd, Szent István tér 23. | G28: MVM Next Energiakereskedelmi Zrt. | H28: =IF(E28="","",VLOOKUP(LEFT(E28,5),'Technikai cellák'!B:C,2,0)) -> E.ON Dél-dunántúli Gázhálózati Zrt. | I28: =IF(E28="","",VLOOKUP(H28,'Technikai cellák'!$C$1:$D$12,2,0)) -> 7626 Pécs, Búza tér 8/a | J28: 6 | K28: =IF(J28="","",IF(J28<20,"20 alatti",IF(J28<100,"20-99",IF(J28<500,"100-500","500-")))) -> 20 alatti | L28: =ROUND(IF(K28="20 alatti",J28*1,0),0) -> 6 | M28: =ROUND(IF(K28="20-99",J28*10.5,0),0) -> 0 | O28: =ROUND((IF(J28<100,0,J28*$C$6)/$C$7),0) -> 0 | P28: =ROUND(Q28*$G$9,0) -> 61479 | Q28: =SUM(AD28:AO28) -> 76849 | R28: 230 | S28: 950 | T28: 1000 | U28: 1900 | V28: 1500 | W28: 800 | X28: 300 | Y28: 200 | Z28: 100 | AA28: 100 | AB28: 100 | AC28: 100 | AD28: =ROUND((R28*$C$6)/$C$7,0) -> 2428 | AE28: =ROUND((S28*$C$6)/$C$7,0) -> 10028 | AF28: =ROUND((T28*$C$6)/$C$7,0) -> 10556 | AG28: =ROUND((U28*$C$6)/$C$7,0) -> 20056 | AH28: =ROUND((V28*$C$6)/$C$7,0) -> 15834 | AI28: =ROUND((W28*$C$6)/$C$7,0) -> 8445 | AJ28: =ROUND((X28*$C$6)/$C$7,0) -> 3167 | AK28: =ROUND((Y28*$C$6)/$C$7,0) -> 2111 | ... AO28: =ROUND((AC28*$C$6)/$C$7,0) -> 1056
A29: Országos Idegenrendészeti Főigazgatóság | B29: 1117 Budapest, Budafoki út 60.sz. | C29: Oraszágos Idegenrendészeti Főigazgatóság | D29: 1117 Budapest, Budafoki út 60.sz. | E29: 39N112634376000D | F29: 3526 Miskolc, Hatvanötösök útja 2. | G29: MVM Next Energiakereskedelmi Zrt. | H29: =IF(E29="","",VLOOKUP(LEFT(E29,5),'Technikai cellák'!B:C,2,0)) -> TIGÁZ Földgázelosztó Zrt. | I29: =IF(E29="","",VLOOKUP(H29,'Technikai cellák'!$C$1:$D$12,2,0)) -> 4200 Hajdúszoboszló, Rákóczi Ferenc út 184. | J29: 6 | K29: =IF(J29="","",IF(J29<20,"20 alatti",IF(J29<100,"20-99",IF(J29<500,"100-500","500-")))) -> 20 alatti | L29: =ROUND(IF(K29="20 alatti",J29*1,0),0) -> 6 | M29: =ROUND(IF(K29="20-99",J29*10.5,0),0) -> 0 | O29: =ROUND((IF(J29<100,0,J29*$C$6)/$C$7),0) -> 0 | P29: =ROUND(Q29*$G$9,0) -> 31846 | Q29: =SUM(AD29:AO29) -> 39808 | R29: 274 | S29: 510 | T29: 1441 | U29: 352 | V29: 362 | W29: 232 | X29: 100 | Y29: 100 | Z29: 100 | AA29: 100 | AB29: 100 | AC29: 100 | AD29: =ROUND((R29*$C$6)/$C$7,0) -> 2892 | AE29: =ROUND((S29*$C$6)/$C$7,0) -> 5383 | AF29: =ROUND((T29*$C$6)/$C$7,0) -> 15211 | AG29: =ROUND((U29*$C$6)/$C$7,0) -> 3716 | AH29: =ROUND((V29*$C$6)/$C$7,0) -> 3821 | AI29: =ROUND((W29*$C$6)/$C$7,0) -> 2449 | AJ29: =ROUND((X29*$C$6)/$C$7,0) -> 1056 | AK29: =ROUND((Y29*$C$6)/$C$7,0) -> 1056 | ... AO29: =ROUND((AC29*$C$6)/$C$7,0) -> 1056
A30: Országos Idegenrendészeti Főigazgatóság | B30: 1117 Budapest, Budafoki út 60.sz. | C30: Oraszágos Idegenrendészeti Főigazgatóság | D30: 1117 Budapest, Budafoki út 60.sz. | E30: 39N112612555000D | F30: 2660 Balassagyarmat, Kossuth L. u. 43. | G30: MVM Next Energiakereskedelmi Zrt. | H30: =IF(E30="","",VLOOKUP(LEFT(E30,5),'Technikai cellák'!B:C,2,0)) -> TIGÁZ Földgázelosztó Zrt. | I30: =IF(E30="","",VLOOKUP(H30,'Technikai cellák'!$C$1:$D$12,2,0)) -> 4200 Hajdúszoboszló, Rákóczi Ferenc út 184. | J30: 16 | K30: =IF(J30="","",IF(J30<20,"20 alatti",IF(J30<100,"20-99",IF(J30<500,"100-500","500-")))) -> 20 alatti | L30: =ROUND(IF(K30="20 alatti",J30*1,0),0) -> 16 | M30: =ROUND(IF(K30="20-99",J30*10.5,0),0) -> 0 | O30: =ROUND((IF(J30<100,0,J30*$C$6)/$C$7),0) -> 0 | P30: =ROUND(Q30*$G$9,0) -> 171874 | Q30: =SUM(AD30:AO30) -> 214842 | R30: 1427 | S30: 2559 | T30: 2693 | U30: 2700 | V30: 2700 | W30: 2600 | X30: 2000 | Y30: 1474 | Z30: 500 | AA30: 500 | AB30: 600 | AC30: 600 | AD30: =ROUND((R30*$C$6)/$C$7,0) -> 15063 | AE30: =ROUND((S30*$C$6)/$C$7,0) -> 27012 | AF30: =ROUND((T30*$C$6)/$C$7,0) -> 28427 | AG30: =ROUND((U30*$C$6)/$C$7,0) -> 28501 | AH30: =ROUND((V30*$C$6)/$C$7,0) -> 28501 | AI30: =ROUND((W30*$C$6)/$C$7,0) -> 27445 | AJ30: =ROUND((X30*$C$6)/$C$7,0) -> 21112 | AK30: =ROUND((Y30*$C$6)/$C$7,0) -> 15559 | ... AO30: =ROUND((AC30*$C$6)/$C$7,0) -> 6333
A31: Országos Idegenrendészeti Főigazgatóság | B31: 1117 Budapest, Budafoki út 60.sz. | C31: Oraszágos Idegenrendészeti Főigazgatóság | D31: 1117 Budapest, Budafoki út 60.sz. | E31: 39N0502837610006 | F31: 9700 Szombathely, Kisfaludy u.1. | G31: MVM Next Energiakereskedelmi Zrt. | H31: =IF(E31="","",VLOOKUP(LEFT(E31,5),'Technikai cellák'!B:C,2,0)) -> MVM ÉGÁZ-DÉGÁZ Földgázhálózati Zrt. | I31: =IF(E31="","",VLOOKUP(H31,'Technikai cellák'!$C$1:$D$12,2,0)) -> 6724 Szeged, Pulcz u. 44. | J31: 6 | K31: =IF(J31="","",IF(J31<20,"20 alatti",IF(J31<100,"20-99",IF(J31<500,"100-500","500-")))) -> 20 alatti | L31: =ROUND(IF(K31="20 alatti",J31*1,0),0) -> 6 | M31: =ROUND(IF(K31="20-99",J31*10.5,0),0) -> 0 | O31: =ROUND((IF(J31<100,0,J31*$C$6)/$C$7),0) -> 0 | P31: =ROUND(Q31*$G$9,0) -> 17158 | Q31: =SUM(AD31:AO31) -> 21448 | R31: 118 | S31: 218 | T31: 252 | U31: 175 | V31: 175 | W31: 175 | X31: 175 | Y31: 175 | Z31: 175 | AA31: 175 | AB31: 110 | AC31: 109 | AD31: =ROUND((R31*$C$6)/$C$7,0) -> 1246 | AE31: =ROUND((S31*$C$6)/$C$7,0) -> 2301 | AF31: =ROUND((T31*$C$6)/$C$7,0) -> 2660 | AG31: =ROUND((U31*$C$6)/$C$7,0) -> 1847 | AH31: =ROUND((V31*$C$6)/$C$7,0) -> 1847 | AI31: =ROUND((W31*$C$6)/$C$7,0) -> 1847 | AJ31: =ROUND((X31*$C$6)/$C$7,0) -> 1847 | AK31: =ROUND((Y31*$C$6)/$C$7,0) -> 1847 | ... AO31: =ROUND((AC31*$C$6)/$C$7,0) -> 1151
A32: Országos Idegenrendészeti Főigazgatóság | B32: 1117 Budapest, Budafoki út 60.sz. | C32: Oraszágos Idegenrendészeti Főigazgatóság | D32: 1117 Budapest, Budafoki út 60.sz. | E32: 39N050444805000N | F32: 5600 Békéscsaba, Kétegyházi út 10.sz. | G32: MVM Next Energiakereskedelmi Zrt. | H32: =IF(E32="","",VLOOKUP(LEFT(E32,5),'Technikai cellák'!B:C,2,0)) -> MVM ÉGÁZ-DÉGÁZ Földgázhálózati Zrt. | I32: =IF(E32="","",VLOOKUP(H32,'Technikai cellák'!$C$1:$D$12,2,0)) -> 6724 Szeged, Pulcz u. 44. | J32: 65 | K32: =IF(J32="","",IF(J32<20,"20 alatti",IF(J32<100,"20-99",IF(J32<500,"100-500","500-")))) -> 20-99 | L32: =ROUND(IF(K32="20 alatti",J32*1,0),0) -> 0 | M32: =ROUND(IF(K32="20-99",J32*10.5,0),0) -> 683 | N32: 683 | O32: =ROUND((IF(J32<100,0,J32*$C$6)/$C$7),0) -> 0 | P32: =ROUND(Q32*$G$9,0) -> 617084 | Q32: =SUM(AD32:AO32) -> 771355 | R32: 4706 | S32: 6850 | T32: 8464 | U32: 8708 | V32: 8105 | W32: 8810 | X32: 7300 | Y32: 7100 | Z32: 3665 | AA32: 3592 | AB32: 2574 | AC32: 3200 | AD32: =ROUND((R32*$C$6)/$C$7,0) -> 49676 | AE32: =ROUND((S32*$C$6)/$C$7,0) -> 72307 | AF32: =ROUND((T32*$C$6)/$C$7,0) -> 89344 | AG32: =ROUND((U32*$C$6)/$C$7,0) -> 91920 | AH32: =ROUND((V32*$C$6)/$C$7,0) -> 85555 | AI32: =ROUND((W32*$C$6)/$C$7,0) -> 92997 | AJ32: =ROUND((X32*$C$6)/$C$7,0) -> 77057 | AK32: =ROUND((Y32*$C$6)/$C$7,0) -> 74946 | ... AO32: =ROUND((AC32*$C$6)/$C$7,0) -> 33779
A33: Országos Idegenrendészeti Főigazgatóság | B33: 1117 Budapest, Budafoki út 60.sz. | C33: Oraszágos Idegenrendészeti Főigazgatóság | D33: 1117 Budapest, Budafoki út 60.sz. | E33: 39N112659165000H | F33: 4033 Debrecen, Sámsoni út 145. | G33: MVM Next Energiakereskedelmi Zrt. | H33: =IF(E33="","",VLOOKUP(LEFT(E33,5),'Technikai cellák'!B:C,2,0)) -> TIGÁZ Földgázelosztó Zrt. | I33: =IF(E33="","",VLOOKUP(H33,'Technikai cellák'!$C$1:$D$12,2,0)) -> 4200 Hajdúszoboszló, Rákóczi Ferenc út 184. | J33: 180 | K33: =IF(J33="","",IF(J33<20,"20 alatti",IF(J33<100,"20-99",IF(J33<500,"100-500","500-")))) -> 100-500 | L33: =ROUND(IF(K33="20 alatti",J33*1,0),0) -> 0 | M33: =ROUND(IF(K33="20-99",J33*10.5,0),0) -> 0 | O33: =ROUND((IF(J33<100,0,J33*$C$6)/$C$7),0) -> 1900 | P33: =ROUND(Q33*$G$9,0) -> 586902 | Q33: =SUM(AD33:AO33) -> 733627 | R33: 9000 | S33: 13000 | T33: 11000 | U33: 3000 | V33: 3000 | W33: 3000 | X33: 1500 | Y33: 1500 | Z33: 1500 | AA33: 4000 | AB33: 9000 | AC33: 10000 | AD33: =ROUND((R33*$C$6)/$C$7,0) -> 95002 | AE33: =ROUND((S33*$C$6)/$C$7,0) -> 137225 | AF33: =ROUND((T33*$C$6)/$C$7,0) -> 116114 | AG33: =ROUND((U33*$C$6)/$C$7,0) -> 31667 | AH33: =ROUND((V33*$C$6)/$C$7,0) -> 31667 | AI33: =ROUND((W33*$C$6)/$C$7,0) -> 31667 | AJ33: =ROUND((X33*$C$6)/$C$7,0) -> 15834 | AK33: =ROUND((Y33*$C$6)/$C$7,0) -> 15834 | ... AO33: =ROUND((AC33*$C$6)/$C$7,0) -> 105558
A34: Országos Idegenrendészeti Főigazgatóság | B34: 1117 Budapest, Budafoki út 60.sz. | C34: Oraszágos Idegenrendészeti Főigazgatóság | D34: 1117 Budapest, Budafoki út 60.sz. | E34: 39N050243900000W | F34: Vámosszabadi, Szúnyogház u.3.sz. | G34: MVM Next Energiakereskedelmi Zrt. | H34: =IF(E34="","",VLOOKUP(LEFT(E34,5),'Technikai cellák'!B:C,2,0)) -> MVM ÉGÁZ-DÉGÁZ Földgázhálózati Zrt. | I34: =IF(E34="","",VLOOKUP(H34,'Technikai cellák'!$C$1:$D$12,2,0)) -> 6724 Szeged, Pulcz u. 44. | J34: 40 | K34: =IF(J34="","",IF(J34<20,"20 alatti",IF(J34<100,"20-99",IF(J34<500,"100-500","500-")))) -> 20-99 | L34: =ROUND(IF(K34="20 alatti",J34*1,0),0) -> 0 | M34: =ROUND(IF(K34="20-99",J34*10.5,0),0) -> 420 | N34: 420 | O34: =ROUND((IF(J34<100,0,J34*$C$6)/$C$7),0) -> 0 | P34: =ROUND(Q34*$G$9,0) -> 391453 | Q34: =SUM(AD34:AO34) -> 489316 | R34: 3334 | S34: 4486 | T34: 6881 | U34: 7004 | V34: 7734 | W34: 4618 | X34: 3440 | Y34: 3049 | Z34: 1293 | AA34: 1374 | AB34: 1365 | AC34: 1777 | AD34: =ROUND((R34*$C$6)/$C$7,0) -> 35193 | AE34: =ROUND((S34*$C$6)/$C$7,0) -> 47353 | AF34: =ROUND((T34*$C$6)/$C$7,0) -> 72634 | AG34: =ROUND((U34*$C$6)/$C$7,0) -> 73933 | AH34: =ROUND((V34*$C$6)/$C$7,0) -> 81639 | AI34: =ROUND((W34*$C$6)/$C$7,0) -> 48747 | AJ34: =ROUND((X34*$C$6)/$C$7,0) -> 36312 | AK34: =ROUND((Y34*$C$6)/$C$7,0) -> 32185 | ... AO34: =ROUND((AC34*$C$6)/$C$7,0) -> 18758
A35: Baranya Megyei Katasztórfavédelmi Igazgatóság | B35: 7630 Pécs, Engel János József u. 1. | C35: Baranya Megyei Katasztórfavédelmi Igazgatóság | D35: 7630 Pécs, Engel János József u. 1. | E35: 39N030311271000H | F35: 7630 Pécs, Engel J. út 1. | G35: MVM Next Energiakereskedelmi Zrt. | H35: =IF(E35="","",VLOOKUP(LEFT(E35,5),'Technikai cellák'!B:C,2,0)) -> E.ON Dél-dunántúli Gázhálózati Zrt. | I35: =IF(E35="","",VLOOKUP(H35,'Technikai cellák'!$C$1:$D$12,2,0)) -> 7626 Pécs, Búza tér 8/a | J35: 16 | K35: =IF(J35="","",IF(J35<20,"20 alatti",IF(J35<100,"20-99",IF(J35<500,"100-500","500-")))) -> 20 alatti | L35: =ROUND(IF(K35="20 alatti",J35*1,0),0) -> 16 | M35: =ROUND(IF(K35="20-99",J35*10.5,0),0) -> 0 | O35: =ROUND((IF(J35<100,0,J35*$C$6)/$C$7),0) -> 0 | P35: =ROUND(Q35*$G$9,0) -> 113748 | Q35: =SUM(AD35:AO35) -> 142185 | R35: 2690 | S35: 2450 | T35: 1870 | U35: 20 | V35: 25 | W35: 15 | X35: 0 | Y35: 15 | Z35: 20 | AA35: 930 | AB35: 2025 | AC35: 3410 | AD35: =ROUND((R35*$C$6)/$C$7,0) -> 28395 | AE35: =ROUND((S35*$C$6)/$C$7,0) -> 25862 | AF35: =ROUND((T35*$C$6)/$C$7,0) -> 19739 | AG35: =ROUND((U35*$C$6)/$C$7,0) -> 211 | AH35: =ROUND((V35*$C$6)/$C$7,0) -> 264 | AI35: =ROUND((W35*$C$6)/$C$7,0) -> 158 | AJ35: =ROUND((X35*$C$6)/$C$7,0) -> 0 | AK35: =ROUND((Y35*$C$6)/$C$7,0) -> 158 | ... AO35: =ROUND((AC35*$C$6)/$C$7,0) -> 35995
A36: Baranya Megyei Katasztórfavédelmi Igazgatóság | B36: 7630 Pécs, Engel János József u. 1. | C36: Baranya Megyei Katasztórfavédelmi Igazgatóság | D36: 7630 Pécs, Engel János József u. 1. | E36: 39N0302901450005 | F36: 7980 Siklós, Gyűdi út 24. | G36: MVM Next Energiakereskedelmi Zrt. | H36: =IF(E36="","",VLOOKUP(LEFT(E36,5),'Technikai cellák'!B:C,2,0)) -> E.ON Dél-dunántúli Gázhálózati Zrt. | I36: =IF(E36="","",VLOOKUP(H36,'Technikai cellák'!$C$1:$D$12,2,0)) -> 7626 Pécs, Búza tér 8/a | J36: 16 | K36: =IF(J36="","",IF(J36<20,"20 alatti",IF(J36<100,"20-99",IF(J36<500,"100-500","500-")))) -> 20 alatti | L36: =ROUND(IF(K36="20 alatti",J36*1,0),0) -> 16 | M36: =ROUND(IF(K36="20-99",J36*10.5,0),0) -> 0 | O36: =ROUND((IF(J36<100,0,J36*$C$6)/$C$7),0) -> 0 | P36: =ROUND(Q36*$G$9,0) -> 196634 | Q36: =SUM(AD36:AO36) -> 245792 | R36: 4200 | S36: 3200 | T36: 2900 | U36: 1250 | V36: 960 | W36: 310 | X36: 270 | Y36: 285 | Z36: 290 | AA36: 1970 | AB36: 3050 | AC36: 4600 | AD36: =ROUND((R36*$C$6)/$C$7,0) -> 44334 | AE36: =ROUND((S36*$C$6)/$C$7,0) -> 33779 | AF36: =ROUND((T36*$C$6)/$C$7,0) -> 30612 | AG36: =ROUND((U36*$C$6)/$C$7,0) -> 13195 | AH36: =ROUND((V36*$C$6)/$C$7,0) -> 10134 | AI36: =ROUND((W36*$C$6)/$C$7,0) -> 3272 | AJ36: =ROUND((X36*$C$6)/$C$7,0) -> 2850 | AK36: =ROUND((Y36*$C$6)/$C$7,0) -> 3008 | ... AO36: =ROUND((AC36*$C$6)/$C$7,0) -> 48557
A37: Baranya Megyei Katasztórfavédelmi Igazgatóság | B37: 7630 Pécs, Engel János József u. 1. | C37: Baranya Megyei Katasztórfavédelmi Igazgatóság | D37: 7630 Pécs, Engel János József u. 1. | E37: 39N030166005000P | F37: 7700 Mohács, Liszt F. u. 28. | G37: MVM Next Energiakereskedelmi Zrt. | H37: =IF(E37="","",VLOOKUP(LEFT(E37,5),'Technikai cellák'!B:C,2,0)) -> E.ON Dél-dunántúli Gázhálózati Zrt. | I37: =IF(E37="","",VLOOKUP(H37,'Technikai cellák'!$C$1:$D$12,2,0)) -> 7626 Pécs, Búza tér 8/a | J37: 16 | K37: =IF(J37="","",IF(J37<20,"20 alatti",IF(J37<100,"20-99",IF(J37<500,"100-500","500-")))) -> 20 alatti | L37: =ROUND(IF(K37="20 alatti",J37*1,0),0) -> 16 | M37: =ROUND(IF(K37="20-99",J37*10.5,0),0) -> 0 | O37: =ROUND((IF(J37<100,0,J37*$C$6)/$C$7),0) -> 0 | P37: =ROUND(Q37*$G$9,0) -> 176662 | Q37: =SUM(AD37:AO37) -> 220827 | R37: 3500 | S37: 2870 | T37: 2800 | U37: 1170 | V37: 710 | W37: 415 | X37: 400 | Y37: 425 | Z37: 440 | AA37: 1945 | AB37: 2810 | AC37: 3435 | AD37: =ROUND((R37*$C$6)/$C$7,0) -> 36945 | AE37: =ROUND((S37*$C$6)/$C$7,0) -> 30295 | AF37: =ROUND((T37*$C$6)/$C$7,0) -> 29556 | AG37: =ROUND((U37*$C$6)/$C$7,0) -> 12350 | AH37: =ROUND((V37*$C$6)/$C$7,0) -> 7495 | AI37: =ROUND((W37*$C$6)/$C$7,0) -> 4381 | AJ37: =ROUND((X37*$C$6)/$C$7,0) -> 4222 | AK37: =ROUND((Y37*$C$6)/$C$7,0) -> 4486 | ... AO37: =ROUND((AC37*$C$6)/$C$7,0) -> 36259
A38: Baranya Megyei Katasztórfavédelmi Igazgatóság | B38: 7630 Pécs, Engel János József u. 1. | C38: Baranya Megyei Katasztórfavédelmi Igazgatóság | D38: 7630 Pécs, Engel János József u. 1. | E38: 39N030188004000X | F38: 7900 Szigetvár, József A u. 87. | G38: MVM Next Energiakereskedelmi Zrt. | H38: =IF(E38="","",VLOOKUP(LEFT(E38,5),'Technikai cellák'!B:C,2,0)) -> E.ON Dél-dunántúli Gázhálózati Zrt. | I38: =IF(E38="","",VLOOKUP(H38,'Technikai cellák'!$C$1:$D$12,2,0)) -> 7626 Pécs, Búza tér 8/a | J38: 10 | K38: =IF(J38="","",IF(J38<20,"20 alatti",IF(J38<100,"20-99",IF(J38<500,"100-500","500-")))) -> 20 alatti | L38: =ROUND(IF(K38="20 alatti",J38*1,0),0) -> 10 | M38: =ROUND(IF(K38="20-99",J38*10.5,0),0) -> 0 | O38: =ROUND((IF(J38<100,0,J38*$C$6)/$C$7),0) -> 0 | P38: =ROUND(Q38*$G$9,0) -> 163446 | Q38: =SUM(AD38:AO38) -> 204308 | R38: 3770 | S38: 3200 | T38: 2870 | U38: 980 | V38: 420 | W38: 0 | X38: 0 | Y38: 0 | Z38: 75 | AA38: 1690 | AB38: 2520 | AC38: 3830 | AD38: =ROUND((R38*$C$6)/$C$7,0) -> 39795 | AE38: =ROUND((S38*$C$6)/$C$7,0) -> 33779 | AF38: =ROUND((T38*$C$6)/$C$7,0) -> 30295 | AG38: =ROUND((U38*$C$6)/$C$7,0) -> 10345 | AH38: =ROUND((V38*$C$6)/$C$7,0) -> 4433 | AI38: =ROUND((W38*$C$6)/$C$7,0) -> 0 | AJ38: =ROUND((X38*$C$6)/$C$7,0) -> 0 | AK38: =ROUND((Y38*$C$6)/$C$7,0) -> 0 | ... AO38: =ROUND((AC38*$C$6)/$C$7,0) -> 40429
A39: Baranya Megyei Katasztórfavédelmi Igazgatóság | B39: 7630 Pécs, Engel János József u. 1. | C39: Baranya Megyei Katasztórfavédelmi Igazgatóság | D39: 7630 Pécs, Engel János József u. 1. | E39: 39N030291834000X | F39: 7960 Sellye, Dráva u. 23. | G39: MVM Next Energiakereskedelmi Zrt. | H39: =IF(E39="","",VLOOKUP(LEFT(E39,5),'Technikai cellák'!B:C,2,0)) -> E.ON Dél-dunántúli Gázhálózati Zrt. | I39: =IF(E39="","",VLOOKUP(H39,'Technikai cellák'!$C$1:$D$12,2,0)) -> 7626 Pécs, Búza tér 8/a | J39: 4 | K39: =IF(J39="","",IF(J39<20,"20 alatti",IF(J39<100,"20-99",IF(J39<500,"100-500","500-")))) -> 20 alatti | L39: =ROUND(IF(K39="20 alatti",J39*1,0),0) -> 4 | M39: =ROUND(IF(K39="20-99",J39*10.5,0),0) -> 0 | O39: =ROUND((IF(J39<100,0,J39*$C$6)/$C$7),0) -> 0 | P39: =ROUND(Q39*$G$9,0) -> 57382 | Q39: =SUM(AD39:AO39) -> 71727 | R39: 1280 | S39: 920 | T39: 845 | U39: 475 | V39: 260 | W39: 0 | X39: 0 | Y39: 5 | Z39: 80 | AA39: 660 | AB39: 930 | AC39: 1340 | AD39: =ROUND((R39*$C$6)/$C$7,0) -> 13511 | AE39: =ROUND((S39*$C$6)/$C$7,0) -> 9711 | AF39: =ROUND((T39*$C$6)/$C$7,0) -> 8920 | AG39: =ROUND((U39*$C$6)/$C$7,0) -> 5014 | AH39: =ROUND((V39*$C$6)/$C$7,0) -> 2745 | AI39: =ROUND((W39*$C$6)/$C$7,0) -> 0 | AJ39: =ROUND((X39*$C$6)/$C$7,0) -> 0 | AK39: =ROUND((Y39*$C$6)/$C$7,0) -> 53 | ... AO39: =ROUND((AC39*$C$6)/$C$7,0) -> 14145
A40: Baranya Megyei Katasztórfavédelmi Igazgatóság | B40: 7630 Pécs, Engel János József u. 1. | C40: Baranya Megyei Katasztórfavédelmi Igazgatóság | D40: 7630 Pécs, Engel János József u. 1. | E40: 39N0302258650004 | F40: 7726 Véménd, Szabadság tér 11. | G40: MVM Next Energiakereskedelmi Zrt. | H40: =IF(E40="","",VLOOKUP(LEFT(E40,5),'Technikai cellák'!B:C,2,0)) -> E.ON Dél-dunántúli Gázhálózati Zrt. | I40: =IF(E40="","",VLOOKUP(H40,'Technikai cellák'!$C$1:$D$12,2,0)) -> 7626 Pécs, Búza tér 8/a | J40: 4 | K40: =IF(J40="","",IF(J40<20,"20 alatti",IF(J40<100,"20-99",IF(J40<500,"100-500","500-")))) -> 20 alatti | L40: =ROUND(IF(K40="20 alatti",J40*1,0),0) -> 4 | M40: =ROUND(IF(K40="20-99",J40*10.5,0),0) -> 0 | O40: =ROUND((IF(J40<100,0,J40*$C$6)/$C$7),0) -> 0 | P40: =ROUND(Q40*$G$9,0) -> 52526 | Q40: =SUM(AD40:AO40) -> 65658 | R40: 1110 | S40: 825 | T40: 805 | U40: 410 | V40: 300 | W40: 95 | X40: 90 | Y40: 90 | Z40: 115 | AA40: 525 | AB40: 875 | AC40: 980 | AD40: =ROUND((R40*$C$6)/$C$7,0) -> 11717 | AE40: =ROUND((S40*$C$6)/$C$7,0) -> 8709 | AF40: =ROUND((T40*$C$6)/$C$7,0) -> 8497 | AG40: =ROUND((U40*$C$6)/$C$7,0) -> 4328 | AH40: =ROUND((V40*$C$6)/$C$7,0) -> 3167 | AI40: =ROUND((W40*$C$6)/$C$7,0) -> 1003 | AJ40: =ROUND((X40*$C$6)/$C$7,0) -> 950 | AK40: =ROUND((Y40*$C$6)/$C$7,0) -> 950 | ... AO40: =ROUND((AC40*$C$6)/$C$7,0) -> 10345
A41: Baranya Megyei Katasztórfavédelmi Igazgatóság | B41: 7630 Pécs, Engel János József u. 1. | C41: Baranya Megyei Katasztórfavédelmi Igazgatóság | D41: 7630 Pécs, Engel János József u. 1. | E41: 39N030057192000R | F41: 7634 Pécs, Szentlőrinci út 4/1. | G41: MVM Next Energiakereskedelmi Zrt. | H41: =IF(E41="","",VLOOKUP(LEFT(E41,5),'Technikai cellák'!B:C,2,0)) -> E.ON Dél-dunántúli Gázhálózati Zrt. | I41: =IF(E41="","",VLOOKUP(H41,'Technikai cellák'!$C$1:$D$12,2,0)) -> 7626 Pécs, Búza tér 8/a | J41: 10 | K41: =IF(J41="","",IF(J41<20,"20 alatti",IF(J41<100,"20-99",IF(J41<500,"100-500","500-")))) -> 20 alatti | L41: =ROUND(IF(K41="20 alatti",J41*1,0),0) -> 10 | M41: =ROUND(IF(K41="20-99",J41*10.5,0),0) -> 0 | O41: =ROUND((IF(J41<100,0,J41*$C$6)/$C$7),0) -> 0 | P41: =ROUND(Q41*$G$9,0) -> 73341 | Q41: =SUM(AD41:AO41) -> 91676 | R41: 1535 | S41: 1125 | T41: 1100 | U41: 430 | V41: 325 | W41: 130 | X41: 80 | Y41: 110 | Z41: 250 | AA41: 655 | AB41: 1170 | AC41: 1775 | AD41: =ROUND((R41*$C$6)/$C$7,0) -> 16203 | AE41: =ROUND((S41*$C$6)/$C$7,0) -> 11875 | AF41: =ROUND((T41*$C$6)/$C$7,0) -> 11611 | AG41: =ROUND((U41*$C$6)/$C$7,0) -> 4539 | AH41: =ROUND((V41*$C$6)/$C$7,0) -> 3431 | AI41: =ROUND((W41*$C$6)/$C$7,0) -> 1372 | AJ41: =ROUND((X41*$C$6)/$C$7,0) -> 844 | AK41: =ROUND((Y41*$C$6)/$C$7,0) -> 1161 | ... AO41: =ROUND((AC41*$C$6)/$C$7,0) -> 18737
A42: Baranya Megyei Katasztórfavédelmi Igazgatóság | B42: 7630 Pécs, Engel János József u. 1. | C42: Baranya Megyei Katasztórfavédelmi Igazgatóság | D42: 7630 Pécs, Engel János József u. 1. | E42: 39N030337093000H | F42: 7370 Sásd, Temető u. 3. | G42: MVM Next Energiakereskedelmi Zrt. | H42: =IF(E42="","",VLOOKUP(LEFT(E42,5),'Technikai cellák'!B:C,2,0)) -> E.ON Dél-dunántúli Gázhálózati Zrt. | I42: =IF(E42="","",VLOOKUP(H42,'Technikai cellák'!$C$1:$D$12,2,0)) -> 7626 Pécs, Búza tér 8/a | J42: 4 | K42: =IF(J42="","",IF(J42<20,"20 alatti",IF(J42<100,"20-99",IF(J42<500,"100-500","500-")))) -> 20 alatti | L42: =ROUND(IF(K42="20 alatti",J42*1,0),0) -> 4 | M42: =ROUND(IF(K42="20-99",J42*10.5,0),0) -> 0 | O42: =ROUND((IF(J42<100,0,J42*$C$6)/$C$7),0) -> 0 | P42: =ROUND(Q42*$G$9,0) -> 52526 | Q42: =SUM(AD42:AO42) -> 65658 | R42: 1110 | S42: 825 | T42: 805 | U42: 410 | V42: 300 | W42: 95 | X42: 90 | Y42: 90 | Z42: 115 | AA42: 525 | AB42: 875 | AC42: 980 | AD42: =ROUND((R42*$C$6)/$C$7,0) -> 11717 | AE42: =ROUND((S42*$C$6)/$C$7,0) -> 8709 | AF42: =ROUND((T42*$C$6)/$C$7,0) -> 8497 | AG42: =ROUND((U42*$C$6)/$C$7,0) -> 4328 | AH42: =ROUND((V42*$C$6)/$C$7,0) -> 3167 | AI42: =ROUND((W42*$C$6)/$C$7,0) -> 1003 | AJ42: =ROUND((X42*$C$6)/$C$7,0) -> 950 | AK42: =ROUND((Y42*$C$6)/$C$7,0) -> 950 | ... AO42: =ROUND((AC42*$C$6)/$C$7,0) -> 10345
A43: Baranya Megyei Katasztórfavédelmi Igazgatóság | B43: 7630 Pécs, Engel János József u. 1. | C43: Baranya Megyei Katasztórfavédelmi Igazgatóság | D43: 7630 Pécs, Engel János József u. 1. | E43: 39N030344003000C | F43: 7773 Villány, Ady Endre Fasor 7/A | G43: MVM Next Energiakereskedelmi Zrt. | H43: =IF(E43="","",VLOOKUP(LEFT(E43,5),'Technikai cellák'!B:C,2,0)) -> E.ON Dél-dunántúli Gázhálózati Zrt. | I43: =IF(E43="","",VLOOKUP(H43,'Technikai cellák'!$C$1:$D$12,2,0)) -> 7626 Pécs, Búza tér 8/a | J43: 4 | K43: =IF(J43="","",IF(J43<20,"20 alatti",IF(J43<100,"20-99",IF(J43<500,"100-500","500-")))) -> 20 alatti | L43: =ROUND(IF(K43="20 alatti",J43*1,0),0) -> 4 | M43: =ROUND(IF(K43="20-99",J43*10.5,0),0) -> 0 | O43: =ROUND((IF(J43<100,0,J43*$C$6)/$C$7),0) -> 0 | P43: =ROUND(Q43*$G$9,0) -> 52526 | Q43: =SUM(AD43:AO43) -> 65658 | R43: 1110 | S43: 825 | T43: 805 | U43: 410 | V43: 300 | W43: 95 | X43: 90 | Y43: 90 | Z43: 115 | AA43: 525 | AB43: 875 | AC43: 980 | AD43: =ROUND((R43*$C$6)/$C$7,0) -> 11717 | AE43: =ROUND((S43*$C$6)/$C$7,0) -> 8709 | AF43: =ROUND((T43*$C$6)/$C$7,0) -> 8497 | AG43: =ROUND((U43*$C$6)/$C$7,0) -> 4328 | AH43: =ROUND((V43*$C$6)/$C$7,0) -> 3167 | AI43: =ROUND((W43*$C$6)/$C$7,0) -> 1003 | AJ43: =ROUND((X43*$C$6)/$C$7,0) -> 950 | AK43: =ROUND((Y43*$C$6)/$C$7,0) -> 950 | ... AO43: =ROUND((AC43*$C$6)/$C$7,0) -> 10345
A44: Bács-Kiskun Megyei Katasztrófavédelmi Igazgatóság | B44: 6000 Kecskemét, Deák Ferenc tér 3. | C44: Bács-Kiskun Megyei Katasztrófavédelmi Igazgatóság | D44: 6000 Kecskemét, Deák Ferenc tér 3. | E44: 39N050620667000L | F44: 6076 Ágasegyháza,Kossuth Lajos u. 21. (raktár) | G44: MVM Next Energiakereskedelmi Zrt. | H44: =IF(E44="","",VLOOKUP(LEFT(E44,5),'Technikai cellák'!B:C,2,0)) -> MVM ÉGÁZ-DÉGÁZ Földgázhálózati Zrt. | I44: =IF(E44="","",VLOOKUP(H44,'Technikai cellák'!$C$1:$D$12,2,0)) -> 6724 Szeged, Pulcz u. 44. | J44: 16 | K44: =IF(J44="","",IF(J44<20,"20 alatti",IF(J44<100,"20-99",IF(J44<500,"100-500","500-")))) -> 20 alatti | L44: =ROUND(IF(K44="20 alatti",J44*1,0),0) -> 16 | M44: =ROUND(IF(K44="20-99",J44*10.5,0),0) -> 0 | O44: =ROUND((IF(J44<100,0,J44*$C$6)/$C$7),0) -> 0 | P44: =ROUND(Q44*$G$9,0) -> 9347 | Q44: =SUM(AD44:AO44) -> 11684 | R44: 95 | S44: 92 | T44: 92 | U44: 92 | V44: 92 | W44: 92 | X44: 92 | Y44: 92 | Z44: 92 | AA44: 92 | AB44: 92 | AC44: 92 | AD44: =ROUND((R44*$C$6)/$C$7,0) -> 1003 | AE44: =ROUND((S44*$C$6)/$C$7,0) -> 971 | AF44: =ROUND((T44*$C$6)/$C$7,0) -> 971 | AG44: =ROUND((U44*$C$6)/$C$7,0) -> 971 | AH44: =ROUND((V44*$C$6)/$C$7,0) -> 971 | AI44: =ROUND((W44*$C$6)/$C$7,0) -> 971 | AJ44: =ROUND((X44*$C$6)/$C$7,0) -> 971 | AK44: =ROUND((Y44*$C$6)/$C$7,0) -> 971 | ... AO44: =ROUND((AC44*$C$6)/$C$7,0) -> 971
A45: Bács-Kiskun Megyei Katasztrófavédelmi Igazgatóság | B45: 6000 Kecskemét, Deák Ferenc tér 3. | C45: Bács-Kiskun Megyei Katasztrófavédelmi Igazgatóság | D45: 6000 Kecskemét, Deák Ferenc tér 3. | E45: 39N050042842000X | F45: 6076 Ágasegyháza,Kossuth Lajos u. 21. (oktató bázis) | G45: MVM Next Energiakereskedelmi Zrt. | H45: =IF(E45="","",VLOOKUP(LEFT(E45,5),'Technikai cellák'!B:C,2,0)) -> MVM ÉGÁZ-DÉGÁZ Földgázhálózati Zrt. | I45: =IF(E45="","",VLOOKUP(H45,'Technikai cellák'!$C$1:$D$12,2,0)) -> 6724 Szeged, Pulcz u. 44. | J45: 4 | K45: =IF(J45="","",IF(J45<20,"20 alatti",IF(J45<100,"20-99",IF(J45<500,"100-500","500-")))) -> 20 alatti | L45: =ROUND(IF(K45="20 alatti",J45*1,0),0) -> 4 | M45: =ROUND(IF(K45="20-99",J45*10.5,0),0) -> 0 | O45: =ROUND((IF(J45<100,0,J45*$C$6)/$C$7),0) -> 0 | P45: =ROUND(Q45*$G$9,0) -> 8708 | Q45: =SUM(AD45:AO45) -> 10885 | R45: 85 | S45: 86 | T45: 86 | U45: 86 | V45: 86 | W45: 86 | X45: 86 | Y45: 86 | Z45: 86 | AA45: 86 | AB45: 86 | AC45: 86 | AD45: =ROUND((R45*$C$6)/$C$7,0) -> 897 | AE45: =ROUND((S45*$C$6)/$C$7,0) -> 908 | AF45: =ROUND((T45*$C$6)/$C$7,0) -> 908 | AG45: =ROUND((U45*$C$6)/$C$7,0) -> 908 | AH45: =ROUND((V45*$C$6)/$C$7,0) -> 908 | AI45: =ROUND((W45*$C$6)/$C$7,0) -> 908 | AJ45: =ROUND((X45*$C$6)/$C$7,0) -> 908 | AK45: =ROUND((Y45*$C$6)/$C$7,0) -> 908 | ... AO45: =ROUND((AC45*$C$6)/$C$7,0) -> 908
A46: Bács-Kiskun Megyei Katasztrófavédelmi Igazgatóság | B46: 6000 Kecskemét, Deák Ferenc tér 3. | C46: Bács-Kiskun Megyei Katasztrófavédelmi Igazgatóság | D46: 6000 Kecskemét, Deák Ferenc tér 3. | E46: 39N050456639000B | F46: 6500 Baja,Tóth K. u. 25. | G46: MVM Next Energiakereskedelmi Zrt. | H46: =IF(E46="","",VLOOKUP(LEFT(E46,5),'Technikai cellák'!B:C,2,0)) -> MVM ÉGÁZ-DÉGÁZ Földgázhálózati Zrt. | I46: =IF(E46="","",VLOOKUP(H46,'Technikai cellák'!$C$1:$D$12,2,0)) -> 6724 Szeged, Pulcz u. 44. | J46: 10 | K46: =IF(J46="","",IF(J46<20,"20 alatti",IF(J46<100,"20-99",IF(J46<500,"100-500","500-")))) -> 20 alatti | L46: =ROUND(IF(K46="20 alatti",J46*1,0),0) -> 10 | M46: =ROUND(IF(K46="20-99",J46*10.5,0),0) -> 0 | O46: =ROUND((IF(J46<100,0,J46*$C$6)/$C$7),0) -> 0 | P46: =ROUND(Q46*$G$9,0) -> 146656 | Q46: =SUM(AD46:AO46) -> 183320 | R46: 1450 | S46: 1447 | T46: 1447 | U46: 1447 | V46: 1447 | W46: 1447 | X46: 1447 | Y46: 1447 | Z46: 1447 | AA46: 1447 | AB46: 1447 | AC46: 1447 | AD46: =ROUND((R46*$C$6)/$C$7,0) -> 15306 | AE46: =ROUND((S46*$C$6)/$C$7,0) -> 15274 | AF46: =ROUND((T46*$C$6)/$C$7,0) -> 15274 | AG46: =ROUND((U46*$C$6)/$C$7,0) -> 15274 | AH46: =ROUND((V46*$C$6)/$C$7,0) -> 15274 | AI46: =ROUND((W46*$C$6)/$C$7,0) -> 15274 | AJ46: =ROUND((X46*$C$6)/$C$7,0) -> 15274 | AK46: =ROUND((Y46*$C$6)/$C$7,0) -> 15274 | ... AO46: =ROUND((AC46*$C$6)/$C$7,0) -> 15274
A47: Bács-Kiskun Megyei Katasztrófavédelmi Igazgatóság | B47: 6000 Kecskemét, Deák Ferenc tér 3. | C47: Bács-Kiskun Megyei Katasztrófavédelmi Igazgatóság | D47: 6000 Kecskemét, Deák Ferenc tér 3. | E47: 39N050464918000E | F47: 6500 Baja, Bajcsy-Zsilinszky. u. 10. | G47: MVM Next Energiakereskedelmi Zrt. | H47: =IF(E47="","",VLOOKUP(LEFT(E47,5),'Technikai cellák'!B:C,2,0)) -> MVM ÉGÁZ-DÉGÁZ Földgázhálózati Zrt. | I47: =IF(E47="","",VLOOKUP(H47,'Technikai cellák'!$C$1:$D$12,2,0)) -> 6724 Szeged, Pulcz u. 44. | J47: 40 | K47: =IF(J47="","",IF(J47<20,"20 alatti",IF(J47<100,"20-99",IF(J47<500,"100-500","500-")))) -> 20-99 | L47: =ROUND(IF(K47="20 alatti",J47*1,0),0) -> 0 | M47: =ROUND(IF(K47="20-99",J47*10.5,0),0) -> 420 | N47: 420 | O47: =ROUND((IF(J47<100,0,J47*$C$6)/$C$7),0) -> 0 | P47: =ROUND(Q47*$G$9,0) -> 135977 | Q47: =SUM(AD47:AO47) -> 169971 | R47: 1342 | S47: 1342 | T47: 1342 | U47: 1342 | V47: 1342 | W47: 1342 | X47: 1342 | Y47: 1342 | Z47: 1342 | AA47: 1342 | AB47: 1342 | AC47: 1340 | AD47: =ROUND((R47*$C$6)/$C$7,0) -> 14166 | AE47: =ROUND((S47*$C$6)/$C$7,0) -> 14166 | AF47: =ROUND((T47*$C$6)/$C$7,0) -> 14166 | AG47: =ROUND((U47*$C$6)/$C$7,0) -> 14166 | AH47: =ROUND((V47*$C$6)/$C$7,0) -> 14166 | AI47: =ROUND((W47*$C$6)/$C$7,0) -> 14166 | AJ47: =ROUND((X47*$C$6)/$C$7,0) -> 14166 | AK47: =ROUND((Y47*$C$6)/$C$7,0) -> 14166 | ... AO47: =ROUND((AC47*$C$6)/$C$7,0) -> 14145
A48: Bács-Kiskun Megyei Katasztrófavédelmi Igazgatóság | B48: 6000 Kecskemét, Deák Ferenc tér 3. | C48: Bács-Kiskun Megyei Katasztrófavédelmi Igazgatóság | D48: 6000 Kecskemét, Deák Ferenc tér 3. | E48: 39N050494296000Z | F48: 6500 Baja, Bajcsy-Zsilinszky. u. 10. | G48: MVM Next Energiakereskedelmi Zrt. | H48: =IF(E48="","",VLOOKUP(LEFT(E48,5),'Technikai cellák'!B:C,2,0)) -> MVM ÉGÁZ-DÉGÁZ Földgázhálózati Zrt. | I48: =IF(E48="","",VLOOKUP(H48,'Technikai cellák'!$C$1:$D$12,2,0)) -> 6724 Szeged, Pulcz u. 44. | J48: 4 | K48: =IF(J48="","",IF(J48<20,"20 alatti",IF(J48<100,"20-99",IF(J48<500,"100-500","500-")))) -> 20 alatti | L48: =ROUND(IF(K48="20 alatti",J48*1,0),0) -> 4 | M48: =ROUND(IF(K48="20-99",J48*10.5,0),0) -> 0 | O48: =ROUND((IF(J48<100,0,J48*$C$6)/$C$7),0) -> 0 | P48: =ROUND(Q48*$G$9,0) -> 9023 | Q48: =SUM(AD48:AO48) -> 11279 | R48: 90 | S48: 89 | T48: 89 | U48: 89 | V48: 89 | W48: 89 | X48: 89 | Y48: 89 | Z48: 89 | AA48: 89 | AB48: 89 | AC48: 89 | AD48: =ROUND((R48*$C$6)/$C$7,0) -> 950 | AE48: =ROUND((S48*$C$6)/$C$7,0) -> 939 | AF48: =ROUND((T48*$C$6)/$C$7,0) -> 939 | AG48: =ROUND((U48*$C$6)/$C$7,0) -> 939 | AH48: =ROUND((V48*$C$6)/$C$7,0) -> 939 | AI48: =ROUND((W48*$C$6)/$C$7,0) -> 939 | AJ48: =ROUND((X48*$C$6)/$C$7,0) -> 939 | AK48: =ROUND((Y48*$C$6)/$C$7,0) -> 939 | ... AO48: =ROUND((AC48*$C$6)/$C$7,0) -> 939
A49: Bács-Kiskun Megyei Katasztrófavédelmi Igazgatóság | B49: 6000 Kecskemét, Deák Ferenc tér 3. | C49: Bács-Kiskun Megyei Katasztrófavédelmi Igazgatóság | D49: 6000 Kecskemét, Deák Ferenc tér 3. | E49: 39N0506275340005 | F49: 6300 Kalocsa, Búzapiac tér. 7. | G49: MVM Next Energiakereskedelmi Zrt. | H49: =IF(E49="","",VLOOKUP(LEFT(E49,5),'Technikai cellák'!B:C,2,0)) -> MVM ÉGÁZ-DÉGÁZ Földgázhálózati Zrt. | I49: =IF(E49="","",VLOOKUP(H49,'Technikai cellák'!$C$1:$D$12,2,0)) -> 6724 Szeged, Pulcz u. 44. | J49: 16 | K49: =IF(J49="","",IF(J49<20,"20 alatti",IF(J49<100,"20-99",IF(J49<500,"100-500","500-")))) -> 20 alatti | L49: =ROUND(IF(K49="20 alatti",J49*1,0),0) -> 16 | M49: =ROUND(IF(K49="20-99",J49*10.5,0),0) -> 0 | O49: =ROUND((IF(J49<100,0,J49*$C$6)/$C$7),0) -> 0 | P49: =ROUND(Q49*$G$9,0) -> 113139 | Q49: =SUM(AD49:AO49) -> 141424 | R49: 1122 | S49: 1116 | T49: 1116 | U49: 1116 | V49: 1116 | W49: 1116 | X49: 1116 | Y49: 1116 | Z49: 1116 | AA49: 1116 | AB49: 1116 | AC49: 1116 | AD49: =ROUND((R49*$C$6)/$C$7,0) -> 11844 | AE49: =ROUND((S49*$C$6)/$C$7,0) -> 11780 | AF49: =ROUND((T49*$C$6)/$C$7,0) -> 11780 | AG49: =ROUND((U49*$C$6)/$C$7,0) -> 11780 | AH49: =ROUND((V49*$C$6)/$C$7,0) -> 11780 | AI49: =ROUND((W49*$C$6)/$C$7,0) -> 11780 | AJ49: =ROUND((X49*$C$6)/$C$7,0) -> 11780 | AK49: =ROUND((Y49*$C$6)/$C$7,0) -> 11780 | ... AO49: =ROUND((AC49*$C$6)/$C$7,0) -> 11780
A50: Bács-Kiskun Megyei Katasztrófavédelmi Igazgatóság | B50: 6000 Kecskemét, Deák Ferenc tér 3. | C50: Bács-Kiskun Megyei Katasztrófavédelmi Igazgatóság | D50: 6000 Kecskemét, Deák Ferenc tér 3. | E50: 39N0504630810004 | F50: 6000 Kecskemét, Deák F. tér 4. (HTP) | G50: MVM Next Energiakereskedelmi Zrt. | H50: =IF(E50="","",VLOOKUP(LEFT(E50,5),'Technikai cellák'!B:C,2,0)) -> MVM ÉGÁZ-DÉGÁZ Földgázhálózati Zrt. | I50: =IF(E50="","",VLOOKUP(H50,'Technikai cellák'!$C$1:$D$12,2,0)) -> 6724 Szeged, Pulcz u. 44. | J50: 16 | K50: =IF(J50="","",IF(J50<20,"20 alatti",IF(J50<100,"20-99",IF(J50<500,"100-500","500-")))) -> 20 alatti | L50: =ROUND(IF(K50="20 alatti",J50*1,0),0) -> 16 | M50: =ROUND(IF(K50="20-99",J50*10.5,0),0) -> 0 | O50: =ROUND((IF(J50<100,0,J50*$C$6)/$C$7),0) -> 0 | P50: =ROUND(Q50*$G$9,0) -> 210122 | Q50: =SUM(AD50:AO50) -> 262652 | R50: 2074 | S50: 2074 | T50: 2074 | U50: 2074 | V50: 2074 | W50: 2074 | X50: 2074 | Y50: 2074 | Z50: 2074 | AA50: 2074 | AB50: 2074 | AC50: 2068 | AD50: =ROUND((R50*$C$6)/$C$7,0) -> 21893 | AE50: =ROUND((S50*$C$6)/$C$7,0) -> 21893 | AF50: =ROUND((T50*$C$6)/$C$7,0) -> 21893 | AG50: =ROUND((U50*$C$6)/$C$7,0) -> 21893 | AH50: =ROUND((V50*$C$6)/$C$7,0) -> 21893 | AI50: =ROUND((W50*$C$6)/$C$7,0) -> 21893 | AJ50: =ROUND((X50*$C$6)/$C$7,0) -> 21893 | AK50: =ROUND((Y50*$C$6)/$C$7,0) -> 21893 | ... AO50: =ROUND((AC50*$C$6)/$C$7,0) -> 21829
A51: Bács-Kiskun Megyei Katasztrófavédelmi Igazgatóság | B51: 6000 Kecskemét, Deák Ferenc tér 3. | C51: Bács-Kiskun Megyei Katasztrófavédelmi Igazgatóság | D51: 6000 Kecskemét, Deák Ferenc tér 3. | E51: 39N050162142000H | F51: 6000 Kecskemét, Deák F. tér 4. (I.em 2.) | G51: MVM Next Energiakereskedelmi Zrt. | H51: =IF(E51="","",VLOOKUP(LEFT(E51,5),'Technikai cellák'!B:C,2,0)) -> MVM ÉGÁZ-DÉGÁZ Földgázhálózati Zrt. | I51: =IF(E51="","",VLOOKUP(H51,'Technikai cellák'!$C$1:$D$12,2,0)) -> 6724 Szeged, Pulcz u. 44. | J51: 4 | K51: =IF(J51="","",IF(J51<20,"20 alatti",IF(J51<100,"20-99",IF(J51<500,"100-500","500-")))) -> 20 alatti | L51: =ROUND(IF(K51="20 alatti",J51*1,0),0) -> 4 | M51: =ROUND(IF(K51="20-99",J51*10.5,0),0) -> 0 | O51: =ROUND((IF(J51<100,0,J51*$C$6)/$C$7),0) -> 0 | P51: =ROUND(Q51*$G$9,0) -> 0 | Q51: =SUM(AD51:AO51) -> 0 | R51: 0 | S51: 0 | T51: 0 | U51: 0 | V51: 0 | W51: 0 | X51: 0 | Y51: 0 | Z51: 0 | AA51: 0 | AB51: 0 | AC51: 0 | AD51: =ROUND((R51*$C$6)/$C$7,0) -> 0 | AE51: =ROUND((S51*$C$6)/$C$7,0) -> 0 | AF51: =ROUND((T51*$C$6)/$C$7,0) -> 0 | AG51: =ROUND((U51*$C$6)/$C$7,0) -> 0 | AH51: =ROUND((V51*$C$6)/$C$7,0) -> 0 | AI51: =ROUND((W51*$C$6)/$C$7,0) -> 0 | AJ51: =ROUND((X51*$C$6)/$C$7,0) -> 0 | AK51: =ROUND((Y51*$C$6)/$C$7,0) -> 0 | ... AO51: =ROUND((AC51*$C$6)/$C$7,0) -> 0
A52: Bács-Kiskun Megyei Katasztrófavédelmi Igazgatóság | B52: 6000 Kecskemét, Deák Ferenc tér 3. | C52: Bács-Kiskun Megyei Katasztrófavédelmi Igazgatóság | D52: 6000 Kecskemét, Deák Ferenc tér 3. | E52: 39N050162182000U | F52: 6000 Kecskemét, Deák F. tér 4. (II. em. 1.) | G52: MVM Next Energiakereskedelmi Zrt. | H52: =IF(E52="","",VLOOKUP(LEFT(E52,5),'Technikai cellák'!B:C,2,0)) -> MVM ÉGÁZ-DÉGÁZ Földgázhálózati Zrt. | I52: =IF(E52="","",VLOOKUP(H52,'Technikai cellák'!$C$1:$D$12,2,0)) -> 6724 Szeged, Pulcz u. 44. | J52: 4 | K52: =IF(J52="","",IF(J52<20,"20 alatti",IF(J52<100,"20-99",IF(J52<500,"100-500","500-")))) -> 20 alatti | L52: =ROUND(IF(K52="20 alatti",J52*1,0),0) -> 4 | M52: =ROUND(IF(K52="20-99",J52*10.5,0),0) -> 0 | O52: =ROUND((IF(J52<100,0,J52*$C$6)/$C$7),0) -> 0 | P52: =ROUND(Q52*$G$9,0) -> 1101 | Q52: =SUM(AD52:AO52) -> 1376 | R52: 20 | S52: 20 | T52: 10 | U52: 5 | V52: 5 | W52: 10 | X52: 10 | Y52: 10 | Z52: 10 | AA52: 10 | AB52: 10 | AC52: 10 | AD52: =ROUND((R52*$C$6)/$C$7,0) -> 211 | AE52: =ROUND((S52*$C$6)/$C$7,0) -> 211 | AF52: =ROUND((T52*$C$6)/$C$7,0) -> 106 | AG52: =ROUND((U52*$C$6)/$C$7,0) -> 53 | AH52: =ROUND((V52*$C$6)/$C$7,0) -> 53 | AI52: =ROUND((W52*$C$6)/$C$7,0) -> 106 | AJ52: =ROUND((X52*$C$6)/$C$7,0) -> 106 | AK52: =ROUND((Y52*$C$6)/$C$7,0) -> 106 | ... AO52: =ROUND((AC52*$C$6)/$C$7,0) -> 106
A53: Bács-Kiskun Megyei Katasztrófavédelmi Igazgatóság | B53: 6000 Kecskemét, Deák Ferenc tér 3. | C53: Bács-Kiskun Megyei Katasztrófavédelmi Igazgatóság | D53: 6000 Kecskemét, Deák Ferenc tér 3. | E53: 39N050162086000H | F53: 6000 Kecskemét, Deák F. tér 4. (I. em. 1.) | G53: MVM Next Energiakereskedelmi Zrt. | H53: =IF(E53="","",VLOOKUP(LEFT(E53,5),'Technikai cellák'!B:C,2,0)) -> MVM ÉGÁZ-DÉGÁZ Földgázhálózati Zrt. | I53: =IF(E53="","",VLOOKUP(H53,'Technikai cellák'!$C$1:$D$12,2,0)) -> 6724 Szeged, Pulcz u. 44. | J53: 4 | K53: =IF(J53="","",IF(J53<20,"20 alatti",IF(J53<100,"20-99",IF(J53<500,"100-500","500-")))) -> 20 alatti | L53: =ROUND(IF(K53="20 alatti",J53*1,0),0) -> 4 | M53: =ROUND(IF(K53="20-99",J53*10.5,0),0) -> 0 | O53: =ROUND((IF(J53<100,0,J53*$C$6)/$C$7),0) -> 0 | P53: =ROUND(Q53*$G$9,0) -> 17 | Q53: =SUM(AD53:AO53) -> 21 | R53: 2 | S53: 0 | T53: 0 | U53: 0 | V53: 0 | W53: 0 | X53: 0 | Y53: 0 | Z53: 0 | AA53: 0 | AB53: 0 | AC53: 0 | AD53: =ROUND((R53*$C$6)/$C$7,0) -> 21 | AE53: =ROUND((S53*$C$6)/$C$7,0) -> 0 | AF53: =ROUND((T53*$C$6)/$C$7,0) -> 0 | AG53: =ROUND((U53*$C$6)/$C$7,0) -> 0 | AH53: =ROUND((V53*$C$6)/$C$7,0) -> 0 | AI53: =ROUND((W53*$C$6)/$C$7,0) -> 0 | AJ53: =ROUND((X53*$C$6)/$C$7,0) -> 0 | AK53: =ROUND((Y53*$C$6)/$C$7,0) -> 0 | ... AO53: =ROUND((AC53*$C$6)/$C$7,0) -> 0
A54: Bács-Kiskun Megyei Katasztrófavédelmi Igazgatóság | B54: 6000 Kecskemét, Deák Ferenc tér 3. | C54: Bács-Kiskun Megyei Katasztrófavédelmi Igazgatóság | D54: 6000 Kecskemét, Deák Ferenc tér 3. | E54: 39N050162238000N | F54: 6000 Kecskemét, Deák F. tér 4. (II. em. 2.) | G54: MVM Next Energiakereskedelmi Zrt. | H54: =IF(E54="","",VLOOKUP(LEFT(E54,5),'Technikai cellák'!B:C,2,0)) -> MVM ÉGÁZ-DÉGÁZ Földgázhálózati Zrt. | I54: =IF(E54="","",VLOOKUP(H54,'Technikai cellák'!$C$1:$D$12,2,0)) -> 6724 Szeged, Pulcz u. 44. | J54: 4 | K54: =IF(J54="","",IF(J54<20,"20 alatti",IF(J54<100,"20-99",IF(J54<500,"100-500","500-")))) -> 20 alatti | L54: =ROUND(IF(K54="20 alatti",J54*1,0),0) -> 4 | M54: =ROUND(IF(K54="20-99",J54*10.5,0),0) -> 0 | O54: =ROUND((IF(J54<100,0,J54*$C$6)/$C$7),0) -> 0 | P54: =ROUND(Q54*$G$9,0) -> 2236 | Q54: =SUM(AD54:AO54) -> 2795 | R54: 22 | S54: 22 | T54: 22 | U54: 22 | V54: 22 | W54: 22 | X54: 22 | Y54: 22 | Z54: 22 | AA54: 22 | AB54: 22 | AC54: 23 | AD54: =ROUND((R54*$C$6)/$C$7,0) -> 232 | AE54: =ROUND((S54*$C$6)/$C$7,0) -> 232 | AF54: =ROUND((T54*$C$6)/$C$7,0) -> 232 | AG54: =ROUND((U54*$C$6)/$C$7,0) -> 232 | AH54: =ROUND((V54*$C$6)/$C$7,0) -> 232 | AI54: =ROUND((W54*$C$6)/$C$7,0) -> 232 | AJ54: =ROUND((X54*$C$6)/$C$7,0) -> 232 | AK54: =ROUND((Y54*$C$6)/$C$7,0) -> 232 | ... AO54: =ROUND((AC54*$C$6)/$C$7,0) -> 243
A55: Bács-Kiskun Megyei Katasztrófavédelmi Igazgatóság | B55: 6000 Kecskemét, Deák Ferenc tér 3. | C55: Bács-Kiskun Megyei Katasztrófavédelmi Igazgatóság | D55: 6000 Kecskemét, Deák Ferenc tér 3. | E55: 39N050381042000V | F55: 6000 Kecskemét, Deák F. tér 4. (Igazgatóság) | G55: MVM Next Energiakereskedelmi Zrt. | H55: =IF(E55="","",VLOOKUP(LEFT(E55,5),'Technikai cellák'!B:C,2,0)) -> MVM ÉGÁZ-DÉGÁZ Földgázhálózati Zrt. | I55: =IF(E55="","",VLOOKUP(H55,'Technikai cellák'!$C$1:$D$12,2,0)) -> 6724 Szeged, Pulcz u. 44. | J55: 10 | K55: =IF(J55="","",IF(J55<20,"20 alatti",IF(J55<100,"20-99",IF(J55<500,"100-500","500-")))) -> 20 alatti | L55: =ROUND(IF(K55="20 alatti",J55*1,0),0) -> 10 | M55: =ROUND(IF(K55="20-99",J55*10.5,0),0) -> 0 | O55: =ROUND((IF(J55<100,0,J55*$C$6)/$C$7),0) -> 0 | P55: =ROUND(Q55*$G$9,0) -> 99076 | Q55: =SUM(AD55:AO55) -> 123845 | R55: 974 | S55: 978 | T55: 978 | U55: 978 | V55: 978 | W55: 978 | X55: 978 | Y55: 978 | Z55: 978 | AA55: 978 | AB55: 978 | AC55: 978 | AD55: =ROUND((R55*$C$6)/$C$7,0) -> 10281 | AE55: =ROUND((S55*$C$6)/$C$7,0) -> 10324 | AF55: =ROUND((T55*$C$6)/$C$7,0) -> 10324 | AG55: =ROUND((U55*$C$6)/$C$7,0) -> 10324 | AH55: =ROUND((V55*$C$6)/$C$7,0) -> 10324 | AI55: =ROUND((W55*$C$6)/$C$7,0) -> 10324 | AJ55: =ROUND((X55*$C$6)/$C$7,0) -> 10324 | AK55: =ROUND((Y55*$C$6)/$C$7,0) -> 10324 | ... AO55: =ROUND((AC55*$C$6)/$C$7,0) -> 10324
A56: Bács-Kiskun Megyei Katasztrófavédelmi Igazgatóság | B56: 6000 Kecskemét, Deák Ferenc tér 3. | C56: Bács-Kiskun Megyei Katasztrófavédelmi Igazgatóság | D56: 6000 Kecskemét, Deák Ferenc tér 3. | E56: 39N0505938670004 | F56: 6200 Kiskőrös, Szent László u. 2. | G56: MVM Next Energiakereskedelmi Zrt. | H56: =IF(E56="","",VLOOKUP(LEFT(E56,5),'Technikai cellák'!B:C,2,0)) -> MVM ÉGÁZ-DÉGÁZ Földgázhálózati Zrt. | I56: =IF(E56="","",VLOOKUP(H56,'Technikai cellák'!$C$1:$D$12,2,0)) -> 6724 Szeged, Pulcz u. 44. | J56: 16 | K56: =IF(J56="","",IF(J56<20,"20 alatti",IF(J56<100,"20-99",IF(J56<500,"100-500","500-")))) -> 20 alatti | L56: =ROUND(IF(K56="20 alatti",J56*1,0),0) -> 16 | M56: =ROUND(IF(K56="20-99",J56*10.5,0),0) -> 0 | O56: =ROUND((IF(J56<100,0,J56*$C$6)/$C$7),0) -> 0 | P56: =ROUND(Q56*$G$9,0) -> 0 | Q56: =SUM(AD56:AO56) -> 0 | R56: 0 | S56: 0 | T56: 0 | U56: 0 | V56: 0 | W56: 0 | X56: 0 | Y56: 0 | Z56: 0 | AA56: 0 | AB56: 0 | AC56: 0 | AD56: =ROUND((R56*$C$6)/$C$7,0) -> 0 | AE56: =ROUND((S56*$C$6)/$C$7,0) -> 0 | AF56: =ROUND((T56*$C$6)/$C$7,0) -> 0 | AG56: =ROUND((U56*$C$6)/$C$7,0) -> 0 | AH56: =ROUND((V56*$C$6)/$C$7,0) -> 0 | AI56: =ROUND((W56*$C$6)/$C$7,0) -> 0 | AJ56: =ROUND((X56*$C$6)/$C$7,0) -> 0 | AK56: =ROUND((Y56*$C$6)/$C$7,0) -> 0 | ... AO56: =ROUND((AC56*$C$6)/$C$7,0) -> 0
A57: Bács-Kiskun Megyei Katasztrófavédelmi Igazgatóság | B57: 6000 Kecskemét, Deák Ferenc tér 3. | C57: Bács-Kiskun Megyei Katasztrófavédelmi Igazgatóság | D57: 6000 Kecskemét, Deák Ferenc tér 3. | E57: 39N050515751000T | F57: 6100 Kiskunfélegyháza, Csongrádi út 21 | G57: MVM Next Energiakereskedelmi Zrt. | H57: =IF(E57="","",VLOOKUP(LEFT(E57,5),'Technikai cellák'!B:C,2,0)) -> MVM ÉGÁZ-DÉGÁZ Földgázhálózati Zrt. | I57: =IF(E57="","",VLOOKUP(H57,'Technikai cellák'!$C$1:$D$12,2,0)) -> 6724 Szeged, Pulcz u. 44. | J57: 29 | K57: =IF(J57="","",IF(J57<20,"20 alatti",IF(J57<100,"20-99",IF(J57<500,"100-500","500-")))) -> 20-99 | L57: =ROUND(IF(K57="20 alatti",J57*1,0),0) -> 0 | M57: =ROUND(IF(K57="20-99",J57*10.5,0),0) -> 305 | N57: 305 | O57: =ROUND((IF(J57<100,0,J57*$C$6)/$C$7),0) -> 0 | P57: =ROUND(Q57*$G$9,0) -> 189762 | Q57: =SUM(AD57:AO57) -> 237203 | R57: 1877 | S57: 1874 | T57: 1874 | U57: 1874 | V57: 1874 | W57: 1874 | X57: 1874 | Y57: 1864 | Z57: 1864 | AA57: 1874 | AB57: 1874 | AC57: 1874 | AD57: =ROUND((R57*$C$6)/$C$7,0) -> 19813 | AE57: =ROUND((S57*$C$6)/$C$7,0) -> 19782 | AF57: =ROUND((T57*$C$6)/$C$7,0) -> 19782 | AG57: =ROUND((U57*$C$6)/$C$7,0) -> 19782 | AH57: =ROUND((V57*$C$6)/$C$7,0) -> 19782 | AI57: =ROUND((W57*$C$6)/$C$7,0) -> 19782 | AJ57: =ROUND((X57*$C$6)/$C$7,0) -> 19782 | AK57: =ROUND((Y57*$C$6)/$C$7,0) -> 19676 | ... AO57: =ROUND((AC57*$C$6)/$C$7,0) -> 19782
A58: Bács-Kiskun Megyei Katasztrófavédelmi Igazgatóság | B58: 6000 Kecskemét, Deák Ferenc tér 3. | C58: Bács-Kiskun Megyei Katasztrófavédelmi Igazgatóság | D58: 6000 Kecskemét, Deák Ferenc tér 3. | E58: 39N0505158730000 | F58: 6400 Kiskunhalas, Kőrösi út 15. | G58: MVM Next Energiakereskedelmi Zrt. | H58: =IF(E58="","",VLOOKUP(LEFT(E58,5),'Technikai cellák'!B:C,2,0)) -> MVM ÉGÁZ-DÉGÁZ Földgázhálózati Zrt. | I58: =IF(E58="","",VLOOKUP(H58,'Technikai cellák'!$C$1:$D$12,2,0)) -> 6724 Szeged, Pulcz u. 44. | J58: 16 | K58: =IF(J58="","",IF(J58<20,"20 alatti",IF(J58<100,"20-99",IF(J58<500,"100-500","500-")))) -> 20 alatti | L58: =ROUND(IF(K58="20 alatti",J58*1,0),0) -> 16 | M58: =ROUND(IF(K58="20-99",J58*10.5,0),0) -> 0 | O58: =ROUND((IF(J58<100,0,J58*$C$6)/$C$7),0) -> 0 | P58: =ROUND(Q58*$G$9,0) -> 147295 | Q58: =SUM(AD58:AO58) -> 184119 | R58: 1459 | S58: 1453 | T58: 1453 | U58: 1453 | V58: 1453 | W58: 1453 | X58: 1453 | Y58: 1453 | Z58: 1453 | AA58: 1453 | AB58: 1453 | AC58: 1453 | AD58: =ROUND((R58*$C$6)/$C$7,0) -> 15401 | AE58: =ROUND((S58*$C$6)/$C$7,0) -> 15338 | AF58: =ROUND((T58*$C$6)/$C$7,0) -> 15338 | AG58: =ROUND((U58*$C$6)/$C$7,0) -> 15338 | AH58: =ROUND((V58*$C$6)/$C$7,0) -> 15338 | AI58: =ROUND((W58*$C$6)/$C$7,0) -> 15338 | AJ58: =ROUND((X58*$C$6)/$C$7,0) -> 15338 | AK58: =ROUND((Y58*$C$6)/$C$7,0) -> 15338 | ... AO58: =ROUND((AC58*$C$6)/$C$7,0) -> 15338
A59: Bács-Kiskun Megyei Katasztrófavédelmi Igazgatóság | B59: 6000 Kecskemét, Deák Ferenc tér 3. | C59: Bács-Kiskun Megyei Katasztrófavédelmi Igazgatóság | D59: 6000 Kecskemét, Deák Ferenc tér 3. | E59: 39N0506295820006 | F59: 6320 Solt, Rév u. 4. | G59: MVM Next Energiakereskedelmi Zrt. | H59: =IF(E59="","",VLOOKUP(LEFT(E59,5),'Technikai cellák'!B:C,2,0)) -> MVM ÉGÁZ-DÉGÁZ Földgázhálózati Zrt. | I59: =IF(E59="","",VLOOKUP(H59,'Technikai cellák'!$C$1:$D$12,2,0)) -> 6724 Szeged, Pulcz u. 44. | J59: 4 | K59: =IF(J59="","",IF(J59<20,"20 alatti",IF(J59<100,"20-99",IF(J59<500,"100-500","500-")))) -> 20 alatti | L59: =ROUND(IF(K59="20 alatti",J59*1,0),0) -> 4 | M59: =ROUND(IF(K59="20-99",J59*10.5,0),0) -> 0 | O59: =ROUND((IF(J59<100,0,J59*$C$6)/$C$7),0) -> 0 | P59: =ROUND(Q59*$G$9,0) -> 23712 | Q59: =SUM(AD59:AO59) -> 29640 | R59: 234 | S59: 234 | T59: 234 | U59: 234 | V59: 234 | W59: 234 | X59: 234 | Y59: 234 | Z59: 234 | AA59: 234 | AB59: 234 | AC59: 234 | AD59: =ROUND((R59*$C$6)/$C$7,0) -> 2470 | AE59: =ROUND((S59*$C$6)/$C$7,0) -> 2470 | AF59: =ROUND((T59*$C$6)/$C$7,0) -> 2470 | AG59: =ROUND((U59*$C$6)/$C$7,0) -> 2470 | AH59: =ROUND((V59*$C$6)/$C$7,0) -> 2470 | AI59: =ROUND((W59*$C$6)/$C$7,0) -> 2470 | AJ59: =ROUND((X59*$C$6)/$C$7,0) -> 2470 | AK59: =ROUND((Y59*$C$6)/$C$7,0) -> 2470 | ... AO59: =ROUND((AC59*$C$6)/$C$7,0) -> 2470
A60: Bács-Kiskun Megyei Katasztrófavédelmi Igazgatóság | B60: 6000 Kecskemét, Deák Ferenc tér 3. | C60: Bács-Kiskun Megyei Katasztrófavédelmi Igazgatóság | D60: 6000 Kecskemét, Deák Ferenc tér 3. | E60: 39N050219356000U | F60: 6527 Nagybaracska, Szabadság tér 8. | G60: MVM Next Energiakereskedelmi Zrt. | H60: =IF(E60="","",VLOOKUP(LEFT(E60,5),'Technikai cellák'!B:C,2,0)) -> MVM ÉGÁZ-DÉGÁZ Földgázhálózati Zrt. | I60: =IF(E60="","",VLOOKUP(H60,'Technikai cellák'!$C$1:$D$12,2,0)) -> 6724 Szeged, Pulcz u. 44. | J60: 4 | K60: =IF(J60="","",IF(J60<20,"20 alatti",IF(J60<100,"20-99",IF(J60<500,"100-500","500-")))) -> 20 alatti | L60: =ROUND(IF(K60="20 alatti",J60*1,0),0) -> 4 | M60: =ROUND(IF(K60="20-99",J60*10.5,0),0) -> 0 | O60: =ROUND((IF(J60<100,0,J60*$C$6)/$C$7),0) -> 0 | P60: =ROUND(Q60*$G$9,0) -> 35577 | Q60: =SUM(AD60:AO60) -> 44471 | R60: 352 | S60: 351 | T60: 351 | U60: 351 | V60: 351 | W60: 351 | X60: 351 | Y60: 351 | Z60: 351 | AA60: 351 | AB60: 351 | AC60: 351 | AD60: =ROUND((R60*$C$6)/$C$7,0) -> 3716 | AE60: =ROUND((S60*$C$6)/$C$7,0) -> 3705 | AF60: =ROUND((T60*$C$6)/$C$7,0) -> 3705 | AG60: =ROUND((U60*$C$6)/$C$7,0) -> 3705 | AH60: =ROUND((V60*$C$6)/$C$7,0) -> 3705 | AI60: =ROUND((W60*$C$6)/$C$7,0) -> 3705 | AJ60: =ROUND((X60*$C$6)/$C$7,0) -> 3705 | AK60: =ROUND((Y60*$C$6)/$C$7,0) -> 3705 | ... AO60: =ROUND((AC60*$C$6)/$C$7,0) -> 3705
A61: Bács-Kiskun Megyei Katasztrófavédelmi Igazgatóság | B61: 6000 Kecskemét, Deák Ferenc tér 3. | C61: Bács-Kiskun Megyei Katasztrófavédelmi Igazgatóság | D61: 6000 Kecskemét, Deák Ferenc tér 3. | E61: 39N050875009000L | F61: 6120 Kiskunmajsa, Arany J. u. 2. | G61: MVM Next Energiakereskedelmi Zrt. | H61: =IF(E61="","",VLOOKUP(LEFT(E61,5),'Technikai cellák'!B:C,2,0)) -> MVM ÉGÁZ-DÉGÁZ Földgázhálózati Zrt. | I61: =IF(E61="","",VLOOKUP(H61,'Technikai cellák'!$C$1:$D$12,2,0)) -> 6724 Szeged, Pulcz u. 44. | J61: 4 | K61: =IF(J61="","",IF(J61<20,"20 alatti",IF(J61<100,"20-99",IF(J61<500,"100-500","500-")))) -> 20 alatti | L61: =ROUND(IF(K61="20 alatti",J61*1,0),0) -> 4 | M61: =ROUND(IF(K61="20-99",J61*10.5,0),0) -> 0 | O61: =ROUND((IF(J61<100,0,J61*$C$6)/$C$7),0) -> 0 | P61: =ROUND(Q61*$G$9,0) -> 22518 | Q61: =SUM(AD61:AO61) -> 28148 | R61: 225 | S61: 222 | T61: 222 | U61: 222 | V61: 222 | W61: 222 | X61: 222 | Y61: 222 | Z61: 222 | AA61: 222 | AB61: 222 | AC61: 222 | AD61: =ROUND((R61*$C$6)/$C$7,0) -> 2375 | AE61: =ROUND((S61*$C$6)/$C$7,0) -> 2343 | AF61: =ROUND((T61*$C$6)/$C$7,0) -> 2343 | AG61: =ROUND((U61*$C$6)/$C$7,0) -> 2343 | AH61: =ROUND((V61*$C$6)/$C$7,0) -> 2343 | AI61: =ROUND((W61*$C$6)/$C$7,0) -> 2343 | AJ61: =ROUND((X61*$C$6)/$C$7,0) -> 2343 | AK61: =ROUND((Y61*$C$6)/$C$7,0) -> 2343 | ... AO61: =ROUND((AC61*$C$6)/$C$7,0) -> 2343
A62: Bács-Kiskun Megyei Katasztrófavédelmi Igazgatóság | B62: 6000 Kecskemét, Deák Ferenc tér 3. | C62: Bács-Kiskun Megyei Katasztrófavédelmi Igazgatóság | D62: 6000 Kecskemét, Deák Ferenc tér 3. | E62: 39N050893528000E | F62: 6200 Kiskőrös, Dózsa György út 85. | G62: MVM Next Energiakereskedelmi Zrt. | H62: =IF(E62="","",VLOOKUP(LEFT(E62,5),'Technikai cellák'!B:C,2,0)) -> MVM ÉGÁZ-DÉGÁZ Földgázhálózati Zrt. | I62: =IF(E62="","",VLOOKUP(H62,'Technikai cellák'!$C$1:$D$12,2,0)) -> 6724 Szeged, Pulcz u. 44. | J62: 10 | K62: =IF(J62="","",IF(J62<20,"20 alatti",IF(J62<100,"20-99",IF(J62<500,"100-500","500-")))) -> 20 alatti | L62: =ROUND(IF(K62="20 alatti",J62*1,0),0) -> 10 | M62: =ROUND(IF(K62="20-99",J62*10.5,0),0) -> 0 | O62: =ROUND((IF(J62<100,0,J62*$C$6)/$C$7),0) -> 0 | P62: =ROUND(Q62*$G$9,0) -> 132888 | Q62: =SUM(AD62:AO62) -> 166110 | R62: 1315 | S62: 1311 | T62: 1311 | U62: 1311 | V62: 1311 | W62: 1311 | X62: 1311 | Y62: 1311 | Z62: 1311 | AA62: 1311 | AB62: 1311 | AC62: 1311 | AD62: =ROUND((R62*$C$6)/$C$7,0) -> 13881 | AE62: =ROUND((S62*$C$6)/$C$7,0) -> 13839 | AF62: =ROUND((T62*$C$6)/$C$7,0) -> 13839 | AG62: =ROUND((U62*$C$6)/$C$7,0) -> 13839 | AH62: =ROUND((V62*$C$6)/$C$7,0) -> 13839 | AI62: =ROUND((W62*$C$6)/$C$7,0) -> 13839 | AJ62: =ROUND((X62*$C$6)/$C$7,0) -> 13839 | AK62: =ROUND((Y62*$C$6)/$C$7,0) -> 13839 | ... AO62: =ROUND((AC62*$C$6)/$C$7,0) -> 13839
A63: Bács-Kiskun Megyei Katasztrófavédelmi Igazgatóság | B63: 6000 Kecskemét, Deák Ferenc tér 3. | C63: Bács-Kiskun Megyei Katasztrófavédelmi Igazgatóság | D63: 6000 Kecskemét, Deák Ferenc tér 3. | E63: 39N0505188500003 | F63: 6100 Kiskunfélegyháza, Kossuth u. 15. | G63: MVM Next Energiakereskedelmi Zrt. | H63: =IF(E63="","",VLOOKUP(LEFT(E63,5),'Technikai cellák'!B:C,2,0)) -> MVM ÉGÁZ-DÉGÁZ Földgázhálózati Zrt. | I63: =IF(E63="","",VLOOKUP(H63,'Technikai cellák'!$C$1:$D$12,2,0)) -> 6724 Szeged, Pulcz u. 44. | J63: 4 | K63: =IF(J63="","",IF(J63<20,"20 alatti",IF(J63<100,"20-99",IF(J63<500,"100-500","500-")))) -> 20 alatti | L63: =ROUND(IF(K63="20 alatti",J63*1,0),0) -> 4 | M63: =ROUND(IF(K63="20-99",J63*10.5,0),0) -> 0 | O63: =ROUND((IF(J63<100,0,J63*$C$6)/$C$7),0) -> 0 | P63: =ROUND(Q63*$G$9,0) -> 8691 | Q63: =SUM(AD63:AO63) -> 10864 | R63: 83 | S63: 86 | T63: 86 | U63: 86 | V63: 86 | W63: 86 | X63: 86 | Y63: 86 | Z63: 86 | AA63: 86 | AB63: 86 | AC63: 86 | AD63: =ROUND((R63*$C$6)/$C$7,0) -> 876 | AE63: =ROUND((S63*$C$6)/$C$7,0) -> 908 | AF63: =ROUND((T63*$C$6)/$C$7,0) -> 908 | AG63: =ROUND((U63*$C$6)/$C$7,0) -> 908 | AH63: =ROUND((V63*$C$6)/$C$7,0) -> 908 | AI63: =ROUND((W63*$C$6)/$C$7,0) -> 908 | AJ63: =ROUND((X63*$C$6)/$C$7,0) -> 908 | AK63: =ROUND((Y63*$C$6)/$C$7,0) -> 908 | ... AO63: =ROUND((AC63*$C$6)/$C$7,0) -> 908
A64: Bács-Kiskun Megyei Katasztrófavédelmi Igazgatóság | B64: 6000 Kecskemét, Deák Ferenc tér 3. | C64: Bács-Kiskun Megyei Katasztrófavédelmi Igazgatóság | D64: 6000 Kecskemét, Deák Ferenc tér 3. | E64: 39N0501620030006 | F64: 6000 Kecskemét, Deák F. tér 4. (Fszt. 1.) | G64: MVM Next Energiakereskedelmi Zrt. | H64: =IF(E64="","",VLOOKUP(LEFT(E64,5),'Technikai cellák'!B:C,2,0)) -> MVM ÉGÁZ-DÉGÁZ Földgázhálózati Zrt. | I64: =IF(E64="","",VLOOKUP(H64,'Technikai cellák'!$C$1:$D$12,2,0)) -> 6724 Szeged, Pulcz u. 44. | J64: 4 | K64: =IF(J64="","",IF(J64<20,"20 alatti",IF(J64<100,"20-99",IF(J64<500,"100-500","500-")))) -> 20 alatti | L64: =ROUND(IF(K64="20 alatti",J64*1,0),0) -> 4 | M64: =ROUND(IF(K64="20-99",J64*10.5,0),0) -> 0 | O64: =ROUND((IF(J64<100,0,J64*$C$6)/$C$7),0) -> 0 | P64: =ROUND(Q64*$G$9,0) -> 0 | Q64: =SUM(AD64:AO64) -> 0 | R64: 0 | S64: 0 | T64: 0 | U64: 0 | V64: 0 | W64: 0 | X64: 0 | Y64: 0 | Z64: 0 | AA64: 0 | AB64: 0 | AC64: 0 | AD64: =ROUND((R64*$C$6)/$C$7,0) -> 0 | AE64: =ROUND((S64*$C$6)/$C$7,0) -> 0 | AF64: =ROUND((T64*$C$6)/$C$7,0) -> 0 | AG64: =ROUND((U64*$C$6)/$C$7,0) -> 0 | AH64: =ROUND((V64*$C$6)/$C$7,0) -> 0 | AI64: =ROUND((W64*$C$6)/$C$7,0) -> 0 | AJ64: =ROUND((X64*$C$6)/$C$7,0) -> 0 | AK64: =ROUND((Y64*$C$6)/$C$7,0) -> 0 | ... AO64: =ROUND((AC64*$C$6)/$C$7,0) -> 0
A65: Bács-Kiskun Megyei Katasztrófavédelmi Igazgatóság | B65: 6000 Kecskemét, Deák Ferenc tér 3. | C65: Bács-Kiskun Megyei Katasztrófavédelmi Igazgatóság | D65: 6000 Kecskemét, Deák Ferenc tér 3. | E65: 39N050162036000A | F65: 6000 Kecskemét, Deák F. tér 4. (Fszt. 2.) | G65: MVM Next Energiakereskedelmi Zrt. | H65: =IF(E65="","",VLOOKUP(LEFT(E65,5),'Technikai cellák'!B:C,2,0)) -> MVM ÉGÁZ-DÉGÁZ Földgázhálózati Zrt. | I65: =IF(E65="","",VLOOKUP(H65,'Technikai cellák'!$C$1:$D$12,2,0)) -> 6724 Szeged, Pulcz u. 44. | J65: 4 | K65: =IF(J65="","",IF(J65<20,"20 alatti",IF(J65<100,"20-99",IF(J65<500,"100-500","500-")))) -> 20 alatti | L65: =ROUND(IF(K65="20 alatti",J65*1,0),0) -> 4 | M65: =ROUND(IF(K65="20-99",J65*10.5,0),0) -> 0 | O65: =ROUND((IF(J65<100,0,J65*$C$6)/$C$7),0) -> 0 | P65: =ROUND(Q65*$G$9,0) -> 0 | Q65: =SUM(AD65:AO65) -> 0 | R65: 0 | S65: 0 | T65: 0 | U65: 0 | V65: 0 | W65: 0 | X65: 0 | Y65: 0 | Z65: 0 | AA65: 0 | AB65: 0 | AC65: 0 | AD65: =ROUND((R65*$C$6)/$C$7,0) -> 0 | AE65: =ROUND((S65*$C$6)/$C$7,0) -> 0 | AF65: =ROUND((T65*$C$6)/$C$7,0) -> 0 | AG65: =ROUND((U65*$C$6)/$C$7,0) -> 0 | AH65: =ROUND((V65*$C$6)/$C$7,0) -> 0 | AI65: =ROUND((W65*$C$6)/$C$7,0) -> 0 | AJ65: =ROUND((X65*$C$6)/$C$7,0) -> 0 | AK65: =ROUND((Y65*$C$6)/$C$7,0) -> 0 | ... AO65: =ROUND((AC65*$C$6)/$C$7,0) -> 0
A66: Békés Megyei Katasztrófavédelmi Igazgatóság | B66: 5600 Békéscsaba, Kazinczy utca 9. | C66: Békés Megyei Katasztrófavédelmi Igazgatóság | D66: 5600 Békéscsaba, Kazinczy utca 9. | E66: 39N0501216890004 | F66: 5600 Békéscsaba, Kazinczy utca 9. | G66: MVM Next Energiakereskedelmi Zrt. | H66: =IF(E66="","",VLOOKUP(LEFT(E66,5),'Technikai cellák'!B:C,2,0)) -> MVM ÉGÁZ-DÉGÁZ Földgázhálózati Zrt. | I66: =IF(E66="","",VLOOKUP(H66,'Technikai cellák'!$C$1:$D$12,2,0)) -> 6724 Szeged, Pulcz u. 44. | J66: 22 | K66: =IF(J66="","",IF(J66<20,"20 alatti",IF(J66<100,"20-99",IF(J66<500,"100-500","500-")))) -> 20-99 | L66: =ROUND(IF(K66="20 alatti",J66*1,0),0) -> 0 | M66: =ROUND(IF(K66="20-99",J66*10.5,0),0) -> 231 | N66: 231 | O66: =ROUND((IF(J66<100,0,J66*$C$6)/$C$7),0) -> 0 | P66: =ROUND(Q66*$G$9,0) -> 149513 | Q66: =SUM(AD66:AO66) -> 186891 | R66: 993 | S66: 2674 | T66: 3376 | U66: 3662 | V66: 3776 | W66: 1446 | X66: 1088 | Y66: 167 | Z66: 139 | AA66: 144 | AB66: 113 | AC66: 127 | AD66: =ROUND((R66*$C$6)/$C$7,0) -> 10482 | AE66: =ROUND((S66*$C$6)/$C$7,0) -> 28226 | AF66: =ROUND((T66*$C$6)/$C$7,0) -> 35636 | AG66: =ROUND((U66*$C$6)/$C$7,0) -> 38655 | AH66: =ROUND((V66*$C$6)/$C$7,0) -> 39859 | AI66: =ROUND((W66*$C$6)/$C$7,0) -> 15264 | AJ66: =ROUND((X66*$C$6)/$C$7,0) -> 11485 | AK66: =ROUND((Y66*$C$6)/$C$7,0) -> 1763 | ... AO66: =ROUND((AC66*$C$6)/$C$7,0) -> 1341
A67: Békés Megyei Katasztrófavédelmi Igazgatóság | B67: 5600 Békéscsaba, Kazinczy utca 9. | C67: Békés Megyei Katasztrófavédelmi Igazgatóság | D67: 5600 Békéscsaba, Kazinczy utca 9. | E67: 39N050031970000Z | F67: 5900 Orosháza, Kossuth tér 3. | G67: MVM Next Energiakereskedelmi Zrt. | H67: =IF(E67="","",VLOOKUP(LEFT(E67,5),'Technikai cellák'!B:C,2,0)) -> MVM ÉGÁZ-DÉGÁZ Földgázhálózati Zrt. | I67: =IF(E67="","",VLOOKUP(H67,'Technikai cellák'!$C$1:$D$12,2,0)) -> 6724 Szeged, Pulcz u. 44. | J67: 25 | K67: =IF(J67="","",IF(J67<20,"20 alatti",IF(J67<100,"20-99",IF(J67<500,"100-500","500-")))) -> 20-99 | L67: =ROUND(IF(K67="20 alatti",J67*1,0),0) -> 0 | M67: =ROUND(IF(K67="20-99",J67*10.5,0),0) -> 263 | N67: 263 | O67: =ROUND((IF(J67<100,0,J67*$C$6)/$C$7),0) -> 0 | P67: =ROUND(Q67*$G$9,0) -> 189785 | Q67: =SUM(AD67:AO67) -> 237231 | R67: 1000 | S67: 2000 | T67: 3000 | U67: 4991 | V67: 3087 | W67: 3351 | X67: 2930 | Y67: 829 | Z67: 536 | AA67: 270 | AB67: 250 | AC67: 230 | AD67: =ROUND((R67*$C$6)/$C$7,0) -> 10556 | AE67: =ROUND((S67*$C$6)/$C$7,0) -> 21112 | AF67: =ROUND((T67*$C$6)/$C$7,0) -> 31667 | AG67: =ROUND((U67*$C$6)/$C$7,0) -> 52684 | AH67: =ROUND((V67*$C$6)/$C$7,0) -> 32586 | AI67: =ROUND((W67*$C$6)/$C$7,0) -> 35372 | AJ67: =ROUND((X67*$C$6)/$C$7,0) -> 30928 | AK67: =ROUND((Y67*$C$6)/$C$7,0) -> 8751 | ... AO67: =ROUND((AC67*$C$6)/$C$7,0) -> 2428
A68: Békés Megyei Katasztrófavédelmi Igazgatóság | B68: 5600 Békéscsaba, Kazinczy utca 9. | C68: Békés Megyei Katasztrófavédelmi Igazgatóság | D68: 5600 Békéscsaba, Kazinczy utca 9. | E68: 39N050122882000H | F68: 5600 Békéscsaba, Kazinczy utca 9. | G68: MVM Next Energiakereskedelmi Zrt. | H68: =IF(E68="","",VLOOKUP(LEFT(E68,5),'Technikai cellák'!B:C,2,0)) -> MVM ÉGÁZ-DÉGÁZ Földgázhálózati Zrt. | I68: =IF(E68="","",VLOOKUP(H68,'Technikai cellák'!$C$1:$D$12,2,0)) -> 6724 Szeged, Pulcz u. 44. | J68: 6 | K68: =IF(J68="","",IF(J68<20,"20 alatti",IF(J68<100,"20-99",IF(J68<500,"100-500","500-")))) -> 20 alatti | L68: =ROUND(IF(K68="20 alatti",J68*1,0),0) -> 6 | M68: =ROUND(IF(K68="20-99",J68*10.5,0),0) -> 0 | O68: =ROUND((IF(J68<100,0,J68*$C$6)/$C$7),0) -> 0 | P68: =ROUND(Q68*$G$9,0) -> 87182 | Q68: =SUM(AD68:AO68) -> 108978 | R68: 349 | S68: 753 | T68: 2442 | U68: 1906 | V68: 2006 | W68: 1689 | X68: 672 | Y68: 112 | Z68: 106 | AA68: 95 | AB68: 83 | AC68: 111 | AD68: =ROUND((R68*$C$6)/$C$7,0) -> 3684 | AE68: =ROUND((S68*$C$6)/$C$7,0) -> 7949 | AF68: =ROUND((T68*$C$6)/$C$7,0) -> 25777 | AG68: =ROUND((U68*$C$6)/$C$7,0) -> 20119 | AH68: =ROUND((V68*$C$6)/$C$7,0) -> 21175 | AI68: =ROUND((W68*$C$6)/$C$7,0) -> 17829 | AJ68: =ROUND((X68*$C$6)/$C$7,0) -> 7093 | AK68: =ROUND((Y68*$C$6)/$C$7,0) -> 1182 | ... AO68: =ROUND((AC68*$C$6)/$C$7,0) -> 1172
A69: Békés Megyei Katasztrófavédelmi Igazgatóság | B69: 5600 Békéscsaba, Kazinczy utca 9. | C69: Békés Megyei Katasztrófavédelmi Igazgatóság | D69: 5600 Békéscsaba, Kazinczy utca 9. | E69: 39N050445793000F | F69: 5600 Békéscsaba, Új utca 18. | G69: MVM Next Energiakereskedelmi Zrt. | H69: =IF(E69="","",VLOOKUP(LEFT(E69,5),'Technikai cellák'!B:C,2,0)) -> MVM ÉGÁZ-DÉGÁZ Földgázhálózati Zrt. | I69: =IF(E69="","",VLOOKUP(H69,'Technikai cellák'!$C$1:$D$12,2,0)) -> 6724 Szeged, Pulcz u. 44. | J69: 16 | K69: =IF(J69="","",IF(J69<20,"20 alatti",IF(J69<100,"20-99",IF(J69<500,"100-500","500-")))) -> 20 alatti | L69: =ROUND(IF(K69="20 alatti",J69*1,0),0) -> 16 | M69: =ROUND(IF(K69="20-99",J69*10.5,0),0) -> 0 | O69: =ROUND((IF(J69<100,0,J69*$C$6)/$C$7),0) -> 0 | P69: =ROUND(Q69*$G$9,0) -> 59 | Q69: =SUM(AD69:AO69) -> 74 | R69: 0 | S69: 0 | T69: 2 | U69: 5 | V69: 0 | W69: 0 | X69: 0 | Y69: 0 | Z69: 0 | AA69: 0 | AB69: 0 | AC69: 0 | AD69: =ROUND((R69*$C$6)/$C$7,0) -> 0 | AE69: =ROUND((S69*$C$6)/$C$7,0) -> 0 | AF69: =ROUND((T69*$C$6)/$C$7,0) -> 21 | AG69: =ROUND((U69*$C$6)/$C$7,0) -> 53 | AH69: =ROUND((V69*$C$6)/$C$7,0) -> 0 | AI69: =ROUND((W69*$C$6)/$C$7,0) -> 0 | AJ69: =ROUND((X69*$C$6)/$C$7,0) -> 0 | AK69: =ROUND((Y69*$C$6)/$C$7,0) -> 0 | ... AO69: =ROUND((AC69*$C$6)/$C$7,0) -> 0
A70: Békés Megyei Katasztrófavédelmi Igazgatóság | B70: 5600 Békéscsaba, Kazinczy utca 9. | C70: Békés Megyei Katasztrófavédelmi Igazgatóság | D70: 5600 Békéscsaba, Kazinczy utca 9. | E70: 39N0505537160008 | F70: 5700 Gyula, Vértanúk útja 8. | G70: MVM Next Energiakereskedelmi Zrt. | H70: =IF(E70="","",VLOOKUP(LEFT(E70,5),'Technikai cellák'!B:C,2,0)) -> MVM ÉGÁZ-DÉGÁZ Földgázhálózati Zrt. | I70: =IF(E70="","",VLOOKUP(H70,'Technikai cellák'!$C$1:$D$12,2,0)) -> 6724 Szeged, Pulcz u. 44. | J70: 16 | K70: =IF(J70="","",IF(J70<20,"20 alatti",IF(J70<100,"20-99",IF(J70<500,"100-500","500-")))) -> 20 alatti | L70: =ROUND(IF(K70="20 alatti",J70*1,0),0) -> 16 | M70: =ROUND(IF(K70="20-99",J70*10.5,0),0) -> 0 | O70: =ROUND((IF(J70<100,0,J70*$C$6)/$C$7),0) -> 0 | P70: =ROUND(Q70*$G$9,0) -> 170667 | Q70: =SUM(AD70:AO70) -> 213334 | R70: 1071 | S70: 2656 | T70: 3462 | U70: 4381 | V70: 3258 | W70: 2360 | X70: 1428 | Y70: 737 | Z70: 228 | AA70: 210 | AB70: 207 | AC70: 212 | AD70: =ROUND((R70*$C$6)/$C$7,0) -> 11305 | AE70: =ROUND((S70*$C$6)/$C$7,0) -> 28036 | AF70: =ROUND((T70*$C$6)/$C$7,0) -> 36544 | AG70: =ROUND((U70*$C$6)/$C$7,0) -> 46245 | AH70: =ROUND((V70*$C$6)/$C$7,0) -> 34391 | AI70: =ROUND((W70*$C$6)/$C$7,0) -> 24912 | AJ70: =ROUND((X70*$C$6)/$C$7,0) -> 15074 | AK70: =ROUND((Y70*$C$6)/$C$7,0) -> 7780 | ... AO70: =ROUND((AC70*$C$6)/$C$7,0) -> 2238
A71: Békés Megyei Katasztrófavédelmi Igazgatóság | B71: 5600 Békéscsaba, Kazinczy utca 9. | C71: Békés Megyei Katasztrófavédelmi Igazgatóság | D71: 5600 Békéscsaba, Kazinczy utca 9. | E71: 39N050503827000Z | F71: 5650 Mezőberény, Liget tér 2.A.ép. | G71: MVM Next Energiakereskedelmi Zrt. | H71: =IF(E71="","",VLOOKUP(LEFT(E71,5),'Technikai cellák'!B:C,2,0)) -> MVM ÉGÁZ-DÉGÁZ Földgázhálózati Zrt. | I71: =IF(E71="","",VLOOKUP(H71,'Technikai cellák'!$C$1:$D$12,2,0)) -> 6724 Szeged, Pulcz u. 44. | J71: 4 | K71: =IF(J71="","",IF(J71<20,"20 alatti",IF(J71<100,"20-99",IF(J71<500,"100-500","500-")))) -> 20 alatti | L71: =ROUND(IF(K71="20 alatti",J71*1,0),0) -> 4 | M71: =ROUND(IF(K71="20-99",J71*10.5,0),0) -> 0 | O71: =ROUND((IF(J71<100,0,J71*$C$6)/$C$7),0) -> 0 | P71: =ROUND(Q71*$G$9,0) -> 16771 | Q71: =SUM(AD71:AO71) -> 20964 | R71: 66 | S71: 233 | T71: 341 | U71: 348 | V71: 376 | W71: 243 | X71: 180 | Y71: 85 | Z71: 27 | AA71: 30 | AB71: 26 | AC71: 31 | AD71: =ROUND((R71*$C$6)/$C$7,0) -> 697 | AE71: =ROUND((S71*$C$6)/$C$7,0) -> 2460 | AF71: =ROUND((T71*$C$6)/$C$7,0) -> 3600 | AG71: =ROUND((U71*$C$6)/$C$7,0) -> 3673 | AH71: =ROUND((V71*$C$6)/$C$7,0) -> 3969 | AI71: =ROUND((W71*$C$6)/$C$7,0) -> 2565 | AJ71: =ROUND((X71*$C$6)/$C$7,0) -> 1900 | AK71: =ROUND((Y71*$C$6)/$C$7,0) -> 897 | ... AO71: =ROUND((AC71*$C$6)/$C$7,0) -> 327
A72: Békés Megyei Katasztrófavédelmi Igazgatóság | B72: 5600 Békéscsaba, Kazinczy utca 9. | C72: Békés Megyei Katasztrófavédelmi Igazgatóság | D72: 5600 Békéscsaba, Kazinczy utca 9. | E72: 39N050476927000P | F72: 5800 Mezőkovácsháza, Árpád utca 1. | G72: MVM Next Energiakereskedelmi Zrt. | H72: =IF(E72="","",VLOOKUP(LEFT(E72,5),'Technikai cellák'!B:C,2,0)) -> MVM ÉGÁZ-DÉGÁZ Földgázhálózati Zrt. | I72: =IF(E72="","",VLOOKUP(H72,'Technikai cellák'!$C$1:$D$12,2,0)) -> 6724 Szeged, Pulcz u. 44. | J72: 16 | K72: =IF(J72="","",IF(J72<20,"20 alatti",IF(J72<100,"20-99",IF(J72<500,"100-500","500-")))) -> 20 alatti | L72: =ROUND(IF(K72="20 alatti",J72*1,0),0) -> 16 | M72: =ROUND(IF(K72="20-99",J72*10.5,0),0) -> 0 | O72: =ROUND((IF(J72<100,0,J72*$C$6)/$C$7),0) -> 0 | P72: =ROUND(Q72*$G$9,0) -> 145070 | Q72: =SUM(AD72:AO72) -> 181337 | R72: 1391 | S72: 1298 | T72: 3182 | U72: 3206 | V72: 2751 | W72: 2145 | X72: 1612 | Y72: 783 | Z72: 192 | AA72: 224 | AB72: 164 | AC72: 231 | AD72: =ROUND((R72*$C$6)/$C$7,0) -> 14683 | AE72: =ROUND((S72*$C$6)/$C$7,0) -> 13701 | AF72: =ROUND((T72*$C$6)/$C$7,0) -> 33589 | AG72: =ROUND((U72*$C$6)/$C$7,0) -> 33842 | AH72: =ROUND((V72*$C$6)/$C$7,0) -> 29039 | AI72: =ROUND((W72*$C$6)/$C$7,0) -> 22642 | AJ72: =ROUND((X72*$C$6)/$C$7,0) -> 17016 | AK72: =ROUND((Y72*$C$6)/$C$7,0) -> 8265 | ... AO72: =ROUND((AC72*$C$6)/$C$7,0) -> 2438
A73: Békés Megyei Katasztrófavédelmi Igazgatóság | B73: 5600 Békéscsaba, Kazinczy utca 9. | C73: Békés Megyei Katasztrófavédelmi Igazgatóság | D73: 5600 Békéscsaba, Kazinczy utca 9. | E73: 39N0508450540006 | F73: 5540 Szarvas, Szent Flórián utca 2. | G73: MVM Next Energiakereskedelmi Zrt. | H73: =IF(E73="","",VLOOKUP(LEFT(E73,5),'Technikai cellák'!B:C,2,0)) -> MVM ÉGÁZ-DÉGÁZ Földgázhálózati Zrt. | I73: =IF(E73="","",VLOOKUP(H73,'Technikai cellák'!$C$1:$D$12,2,0)) -> 6724 Szeged, Pulcz u. 44. | J73: 10 | K73: =IF(J73="","",IF(J73<20,"20 alatti",IF(J73<100,"20-99",IF(J73<500,"100-500","500-")))) -> 20 alatti | L73: =ROUND(IF(K73="20 alatti",J73*1,0),0) -> 10 | M73: =ROUND(IF(K73="20-99",J73*10.5,0),0) -> 0 | O73: =ROUND((IF(J73<100,0,J73*$C$6)/$C$7),0) -> 0 | P73: =ROUND(Q73*$G$9,0) -> 76726 | Q73: =SUM(AD73:AO73) -> 95908 | R73: 487 | S73: 1111 | T73: 1296 | U73: 1565 | V73: 1368 | W73: 1149 | X73: 859 | Y73: 288 | Z73: 222 | AA73: 236 | AB73: 231 | AC73: 274 | AD73: =ROUND((R73*$C$6)/$C$7,0) -> 5141 | AE73: =ROUND((S73*$C$6)/$C$7,0) -> 11727 | AF73: =ROUND((T73*$C$6)/$C$7,0) -> 13680 | AG73: =ROUND((U73*$C$6)/$C$7,0) -> 16520 | AH73: =ROUND((V73*$C$6)/$C$7,0) -> 14440 | AI73: =ROUND((W73*$C$6)/$C$7,0) -> 12129 | AJ73: =ROUND((X73*$C$6)/$C$7,0) -> 9067 | AK73: =ROUND((Y73*$C$6)/$C$7,0) -> 3040 | ... AO73: =ROUND((AC73*$C$6)/$C$7,0) -> 2892
A74: Békés Megyei Katasztrófavédelmi Igazgatóság | B74: 5600 Békéscsaba, Kazinczy utca 9. | C74: Békés Megyei Katasztrófavédelmi Igazgatóság | D74: 5600 Békéscsaba, Kazinczy utca 9. | E74: 39N050559363000A | F74: 5520 Szeghalom, Széchenyi utca 2-8. | G74: MVM Next Energiakereskedelmi Zrt. | H74: =IF(E74="","",VLOOKUP(LEFT(E74,5),'Technikai cellák'!B:C,2,0)) -> MVM ÉGÁZ-DÉGÁZ Földgázhálózati Zrt. | I74: =IF(E74="","",VLOOKUP(H74,'Technikai cellák'!$C$1:$D$12,2,0)) -> 6724 Szeged, Pulcz u. 44. | J74: 14 | K74: =IF(J74="","",IF(J74<20,"20 alatti",IF(J74<100,"20-99",IF(J74<500,"100-500","500-")))) -> 20 alatti | L74: =ROUND(IF(K74="20 alatti",J74*1,0),0) -> 14 | M74: =ROUND(IF(K74="20-99",J74*10.5,0),0) -> 0 | O74: =ROUND((IF(J74<100,0,J74*$C$6)/$C$7),0) -> 0 | P74: =ROUND(Q74*$G$9,0) -> 116595 | Q74: =SUM(AD74:AO74) -> 145744 | R74: 988 | S74: 1967 | T74: 2513 | U74: 2889 | V74: 2416 | W74: 1655 | X74: 851 | Y74: 305 | Z74: 69 | AA74: 61 | AB74: 43 | AC74: 50 | AD74: 10429 | AE74: 20764 | AF74: 26527 | AG74: 30495 | AH74: 25502 | AI74: 17470 | AJ74: 8983 | AK74: 3219 | AL74: 729 | AM74: 644 | AN74: 454 | AO74: 528
A75: Borsod-Abaúj-Zemplén Megyei Katasztrófavédelmi Igazgatóság | B75: 3525 Miskolc, Dózsa Gy. u. 15. | C75: Borsod-Abaúj-Zemplén Megyei Katasztrófavédelmi Igazgatóság | D75: 3525 Miskolc, Dózsa Gy. u. 15. | E75: 39N1111169390006 | F75: 3525 Miskolc, Dózsa Gy. u. 15. | G75: MVM Next Energiakereskedelmi Zrt. | H75: =IF(E75="","",VLOOKUP(LEFT(E75,5),'Technikai cellák'!B:C,2,0)) -> TIGÁZ Földgázelosztó Zrt. | I75: =IF(E75="","",VLOOKUP(H75,'Technikai cellák'!$C$1:$D$12,2,0)) -> 4200 Hajdúszoboszló, Rákóczi Ferenc út 184. | J75: 25 | K75: =IF(J75="","",IF(J75<20,"20 alatti",IF(J75<100,"20-99",IF(J75<500,"100-500","500-")))) -> 20-99 | L75: =ROUND(IF(K75="20 alatti",J75*1,0),0) -> 0 | M75: =ROUND(IF(K75="20-99",J75*10.5,0),0) -> 263 | N75: 263 | O75: =ROUND((IF(J75<100,0,J75*$C$6)/$C$7),0) -> 0 | P75: =ROUND(Q75*$G$9,0) -> 209427 | Q75: =SUM(AD75:AO75) -> 261784 | R75: 2000 | S75: 2600 | T75: 4300 | U75: 5200 | V75: 3500 | W75: 3500 | X75: 1500 | Y75: 820 | Z75: 420 | AA75: 280 | AB75: 260 | AC75: 420 | AD75: =ROUND((R75*$C$6)/$C$7,0) -> 21112 | AE75: =ROUND((S75*$C$6)/$C$7,0) -> 27445 | AF75: =ROUND((T75*$C$6)/$C$7,0) -> 45390 | AG75: =ROUND((U75*$C$6)/$C$7,0) -> 54890 | AH75: =ROUND((V75*$C$6)/$C$7,0) -> 36945 | AI75: =ROUND((W75*$C$6)/$C$7,0) -> 36945 | AJ75: =ROUND((X75*$C$6)/$C$7,0) -> 15834 | AK75: =ROUND((Y75*$C$6)/$C$7,0) -> 8656 | ... AO75: =ROUND((AC75*$C$6)/$C$7,0) -> 4433
A76: Borsod-Abaúj-Zemplén Megyei Katasztrófavédelmi Igazgatóság | B76: 3525 Miskolc, Dózsa Gy. u. 15. | C76: Borsod-Abaúj-Zemplén Megyei Katasztrófavédelmi Igazgatóság | D76: 3525 Miskolc, Dózsa Gy. u. 15. | E76: 39N111128091000B | F76: 3525 Miskolc, Dózsa Gy. u. 15. | G76: MVM Next Energiakereskedelmi Zrt. | H76: =IF(E76="","",VLOOKUP(LEFT(E76,5),'Technikai cellák'!B:C,2,0)) -> TIGÁZ Földgázelosztó Zrt. | I76: =IF(E76="","",VLOOKUP(H76,'Technikai cellák'!$C$1:$D$12,2,0)) -> 4200 Hajdúszoboszló, Rákóczi Ferenc út 184. | J76: 4 | K76: =IF(J76="","",IF(J76<20,"20 alatti",IF(J76<100,"20-99",IF(J76<500,"100-500","500-")))) -> 20 alatti | L76: =ROUND(IF(K76="20 alatti",J76*1,0),0) -> 4 | M76: =ROUND(IF(K76="20-99",J76*10.5,0),0) -> 0 | O76: =ROUND((IF(J76<100,0,J76*$C$6)/$C$7),0) -> 0 | P76: =ROUND(Q76*$G$9,0) -> 4814 | Q76: =SUM(AD76:AO76) -> 6017 | R76: 93 | S76: 80 | T76: 65 | U76: 25 | V76: 13 | W76: 10 | X76: 10 | Y76: 10 | Z76: 13 | AA76: 40 | AB76: 61 | AC76: 150 | AD76: =ROUND((R76*$C$6)/$C$7,0) -> 982 | AE76: =ROUND((S76*$C$6)/$C$7,0) -> 844 | AF76: =ROUND((T76*$C$6)/$C$7,0) -> 686 | AG76: =ROUND((U76*$C$6)/$C$7,0) -> 264 | AH76: =ROUND((V76*$C$6)/$C$7,0) -> 137 | AI76: =ROUND((W76*$C$6)/$C$7,0) -> 106 | AJ76: =ROUND((X76*$C$6)/$C$7,0) -> 106 | AK76: =ROUND((Y76*$C$6)/$C$7,0) -> 106 | ... AO76: =ROUND((AC76*$C$6)/$C$7,0) -> 1583
A77: Borsod-Abaúj-Zemplén Megyei Katasztrófavédelmi Igazgatóság | B77: 3525 Miskolc, Dózsa Gy. u. 15. | C77: Borsod-Abaúj-Zemplén Megyei Katasztrófavédelmi Igazgatóság | D77: 3525 Miskolc, Dózsa Gy. u. 15. | E77: 39N111126638000N | F77: 3533 Miskolc, Kerpely A. u. 12. | G77: MVM Next Energiakereskedelmi Zrt. | H77: =IF(E77="","",VLOOKUP(LEFT(E77,5),'Technikai cellák'!B:C,2,0)) -> TIGÁZ Földgázelosztó Zrt. | I77: =IF(E77="","",VLOOKUP(H77,'Technikai cellák'!$C$1:$D$12,2,0)) -> 4200 Hajdúszoboszló, Rákóczi Ferenc út 184. | J77: 10 | K77: =IF(J77="","",IF(J77<20,"20 alatti",IF(J77<100,"20-99",IF(J77<500,"100-500","500-")))) -> 20 alatti | L77: =ROUND(IF(K77="20 alatti",J77*1,0),0) -> 10 | M77: =ROUND(IF(K77="20-99",J77*10.5,0),0) -> 0 | O77: =ROUND((IF(J77<100,0,J77*$C$6)/$C$7),0) -> 0 | P77: =ROUND(Q77*$G$9,0) -> 166598 | Q77: =SUM(AD77:AO77) -> 208247 | R77: 3577 | S77: 3238 | T77: 2671 | U77: 1119 | V77: 682 | W77: 227 | X77: 530 | Y77: 534 | Z77: 674 | AA77: 1342 | AB77: 2508 | AC77: 2626 | AD77: =ROUND((R77*$C$6)/$C$7,0) -> 37758 | AE77: =ROUND((S77*$C$6)/$C$7,0) -> 34180 | AF77: =ROUND((T77*$C$6)/$C$7,0) -> 28195 | AG77: =ROUND((U77*$C$6)/$C$7,0) -> 11812 | AH77: =ROUND((V77*$C$6)/$C$7,0) -> 7199 | AI77: =ROUND((W77*$C$6)/$C$7,0) -> 2396 | AJ77: =ROUND((X77*$C$6)/$C$7,0) -> 5595 | AK77: =ROUND((Y77*$C$6)/$C$7,0) -> 5637 | ... AO77: =ROUND((AC77*$C$6)/$C$7,0) -> 27720
A78: Borsod-Abaúj-Zemplén Megyei Katasztrófavédelmi Igazgatóság | B78: 3525 Miskolc, Dózsa Gy. u. 15. | C78: Borsod-Abaúj-Zemplén Megyei Katasztrófavédelmi Igazgatóság | D78: 3525 Miskolc, Dózsa Gy. u. 15. | E78: 39N1110273140004 | F78: 3900 Szerencs, Rákóczi út 119. | G78: MVM Next Energiakereskedelmi Zrt. | H78: =IF(E78="","",VLOOKUP(LEFT(E78,5),'Technikai cellák'!B:C,2,0)) -> TIGÁZ Földgázelosztó Zrt. | I78: =IF(E78="","",VLOOKUP(H78,'Technikai cellák'!$C$1:$D$12,2,0)) -> 4200 Hajdúszoboszló, Rákóczi Ferenc út 184. | J78: 16 | K78: =IF(J78="","",IF(J78<20,"20 alatti",IF(J78<100,"20-99",IF(J78<500,"100-500","500-")))) -> 20 alatti | L78: =ROUND(IF(K78="20 alatti",J78*1,0),0) -> 16 | M78: =ROUND(IF(K78="20-99",J78*10.5,0),0) -> 0 | O78: =ROUND((IF(J78<100,0,J78*$C$6)/$C$7),0) -> 0 | P78: =ROUND(Q78*$G$9,0) -> 159460 | Q78: =SUM(AD78:AO78) -> 199325 | R78: 2339 | S78: 2186 | T78: 2799 | U78: 3873 | V78: 2802 | W78: 2190 | X78: 1352 | Y78: 750 | Z78: 186 | AA78: 97 | AB78: 72 | AC78: 237 | AD78: =ROUND((R78*$C$6)/$C$7,0) -> 24690 | AE78: =ROUND((S78*$C$6)/$C$7,0) -> 23075 | AF78: =ROUND((T78*$C$6)/$C$7,0) -> 29546 | AG78: =ROUND((U78*$C$6)/$C$7,0) -> 40883 | AH78: =ROUND((V78*$C$6)/$C$7,0) -> 29577 | AI78: =ROUND((W78*$C$6)/$C$7,0) -> 23117 | AJ78: =ROUND((X78*$C$6)/$C$7,0) -> 14271 | AK78: =ROUND((Y78*$C$6)/$C$7,0) -> 7917 | ... AO78: =ROUND((AC78*$C$6)/$C$7,0) -> 2502
A79: Borsod-Abaúj-Zemplén Megyei Katasztrófavédelmi Igazgatóság | B79: 3525 Miskolc, Dózsa Gy. u. 15. | C79: Borsod-Abaúj-Zemplén Megyei Katasztrófavédelmi Igazgatóság | D79: 3525 Miskolc, Dózsa Gy. u. 15. | E79: 39N110829730000A | F79: 3860 Encs, Szt. Flórián út 3. | G79: MVM Next Energiakereskedelmi Zrt. | H79: =IF(E79="","",VLOOKUP(LEFT(E79,5),'Technikai cellák'!B:C,2,0)) -> TIGÁZ Földgázelosztó Zrt. | I79: =IF(E79="","",VLOOKUP(H79,'Technikai cellák'!$C$1:$D$12,2,0)) -> 4200 Hajdúszoboszló, Rákóczi Ferenc út 184. | J79: 25 | K79: =IF(J79="","",IF(J79<20,"20 alatti",IF(J79<100,"20-99",IF(J79<500,"100-500","500-")))) -> 20-99 | L79: =ROUND(IF(K79="20 alatti",J79*1,0),0) -> 0 | M79: =ROUND(IF(K79="20-99",J79*10.5,0),0) -> 263 | N79: 263 | O79: =ROUND((IF(J79<100,0,J79*$C$6)/$C$7),0) -> 0 | P79: =ROUND(Q79*$G$9,0) -> 277296 | Q79: =SUM(AD79:AO79) -> 346620 | R79: 2577 | S79: 5000 | T79: 4199 | U79: 4800 | V79: 4199 | W79: 3606 | X79: 3607 | Y79: 1251 | Z79: 1985 | AA79: 999 | AB79: 229 | AC79: 385 | AD79: =ROUND((R79*$C$6)/$C$7,0) -> 27202 | AE79: =ROUND((S79*$C$6)/$C$7,0) -> 52779 | AF79: =ROUND((T79*$C$6)/$C$7,0) -> 44324 | AG79: =ROUND((U79*$C$6)/$C$7,0) -> 50668 | AH79: =ROUND((V79*$C$6)/$C$7,0) -> 44324 | AI79: =ROUND((W79*$C$6)/$C$7,0) -> 38064 | AJ79: =ROUND((X79*$C$6)/$C$7,0) -> 38075 | AK79: =ROUND((Y79*$C$6)/$C$7,0) -> 13205 | ... AO79: =ROUND((AC79*$C$6)/$C$7,0) -> 4064
A80: Borsod-Abaúj-Zemplén Megyei Katasztrófavédelmi Igazgatóság | B80: 3525 Miskolc, Dózsa Gy. u. 15. | C80: Borsod-Abaúj-Zemplén Megyei Katasztrófavédelmi Igazgatóság | D80: 3525 Miskolc, Dózsa Gy. u. 15. | E80: 39N111098292000D | F80: 3980 Sátoraljaújhely, Pataki u. 2. | G80: MVM Next Energiakereskedelmi Zrt. | H80: =IF(E80="","",VLOOKUP(LEFT(E80,5),'Technikai cellák'!B:C,2,0)) -> TIGÁZ Földgázelosztó Zrt. | I80: =IF(E80="","",VLOOKUP(H80,'Technikai cellák'!$C$1:$D$12,2,0)) -> 4200 Hajdúszoboszló, Rákóczi Ferenc út 184. | J80: 25 | K80: =IF(J80="","",IF(J80<20,"20 alatti",IF(J80<100,"20-99",IF(J80<500,"100-500","500-")))) -> 20-99 | L80: =ROUND(IF(K80="20 alatti",J80*1,0),0) -> 0 | M80: =ROUND(IF(K80="20-99",J80*10.5,0),0) -> 263 | N80: 263 | O80: =ROUND((IF(J80<100,0,J80*$C$6)/$C$7),0) -> 0 | P80: =ROUND(Q80*$G$9,0) -> 193010 | Q80: =SUM(AD80:AO80) -> 241263 | R80: 1815 | S80: 2953 | T80: 3017 | U80: 2743 | V80: 2834 | W80: 2507 | X80: 2247 | Y80: 2613 | Z80: 658 | AA80: 764 | AB80: 330 | AC80: 375 | AD80: =ROUND((R80*$C$6)/$C$7,0) -> 19159 | AE80: =ROUND((S80*$C$6)/$C$7,0) -> 31171 | AF80: =ROUND((T80*$C$6)/$C$7,0) -> 31847 | AG80: =ROUND((U80*$C$6)/$C$7,0) -> 28955 | AH80: =ROUND((V80*$C$6)/$C$7,0) -> 29915 | AI80: =ROUND((W80*$C$6)/$C$7,0) -> 26463 | AJ80: =ROUND((X80*$C$6)/$C$7,0) -> 23719 | AK80: =ROUND((Y80*$C$6)/$C$7,0) -> 27582 | ... AO80: =ROUND((AC80*$C$6)/$C$7,0) -> 3958
A81: Borsod-Abaúj-Zemplén Megyei Katasztrófavédelmi Igazgatóság | B81: 3525 Miskolc, Dózsa Gy. u. 15. | C81: Borsod-Abaúj-Zemplén Megyei Katasztrófavédelmi Igazgatóság | D81: 3525 Miskolc, Dózsa Gy. u. 15. | E81: 39N110772881000Q | F81: 3580 Tiszaújváros, Tűzoltó u. 1. | G81: MVM Next Energiakereskedelmi Zrt. | H81: =IF(E81="","",VLOOKUP(LEFT(E81,5),'Technikai cellák'!B:C,2,0)) -> TIGÁZ Földgázelosztó Zrt. | I81: =IF(E81="","",VLOOKUP(H81,'Technikai cellák'!$C$1:$D$12,2,0)) -> 4200 Hajdúszoboszló, Rákóczi Ferenc út 184. | J81: 25 | K81: =IF(J81="","",IF(J81<20,"20 alatti",IF(J81<100,"20-99",IF(J81<500,"100-500","500-")))) -> 20-99 | L81: =ROUND(IF(K81="20 alatti",J81*1,0),0) -> 0 | M81: =ROUND(IF(K81="20-99",J81*10.5,0),0) -> 263 | N81: 263 | O81: =ROUND((IF(J81<100,0,J81*$C$6)/$C$7),0) -> 0 | P81: =ROUND(Q81*$G$9,0) -> 219561 | Q81: =SUM(AD81:AO81) -> 274451 | R81: 1914 | S81: 3844 | T81: 4061 | U81: 5451 | V81: 2770 | W81: 4391 | X81: 2144 | Y81: 1003 | Z81: 7 | AA81: 5 | AB81: 11 | AC81: 399 | AD81: =ROUND((R81*$C$6)/$C$7,0) -> 20204 | AE81: =ROUND((S81*$C$6)/$C$7,0) -> 40576 | AF81: =ROUND((T81*$C$6)/$C$7,0) -> 42867 | AG81: =ROUND((U81*$C$6)/$C$7,0) -> 57540 | AH81: =ROUND((V81*$C$6)/$C$7,0) -> 29240 | AI81: =ROUND((W81*$C$6)/$C$7,0) -> 46350 | AJ81: =ROUND((X81*$C$6)/$C$7,0) -> 22632 | AK81: =ROUND((Y81*$C$6)/$C$7,0) -> 10587 | ... AO81: =ROUND((AC81*$C$6)/$C$7,0) -> 4212
A82: Borsod-Abaúj-Zemplén Megyei Katasztrófavédelmi Igazgatóság | B82: 3525 Miskolc, Dózsa Gy. u. 15. | C82: Borsod-Abaúj-Zemplén Megyei Katasztrófavédelmi Igazgatóság | D82: 3525 Miskolc, Dózsa Gy. u. 15. | E82: 39N111073686000T | F82: 3400 Mezőkövesd, Szent László tér 12. | G82: MVM Next Energiakereskedelmi Zrt. | H82: =IF(E82="","",VLOOKUP(LEFT(E82,5),'Technikai cellák'!B:C,2,0)) -> TIGÁZ Földgázelosztó Zrt. | I82: =IF(E82="","",VLOOKUP(H82,'Technikai cellák'!$C$1:$D$12,2,0)) -> 4200 Hajdúszoboszló, Rákóczi Ferenc út 184. | J82: 16 | K82: =IF(J82="","",IF(J82<20,"20 alatti",IF(J82<100,"20-99",IF(J82<500,"100-500","500-")))) -> 20 alatti | L82: =ROUND(IF(K82="20 alatti",J82*1,0),0) -> 16 | M82: =ROUND(IF(K82="20-99",J82*10.5,0),0) -> 0 | O82: =ROUND((IF(J82<100,0,J82*$C$6)/$C$7),0) -> 0 | P82: =ROUND(Q82*$G$9,0) -> 104216 | Q82: =SUM(AD82:AO82) -> 130270 | R82: 1004 | S82: 1759 | T82: 2084 | U82: 2190 | V82: 1847 | W82: 1591 | X82: 770 | Y82: 535 | Z82: 156 | AA82: 131 | AB82: 93 | AC82: 181 | AD82: =ROUND((R82*$C$6)/$C$7,0) -> 10598 | AE82: =ROUND((S82*$C$6)/$C$7,0) -> 18568 | AF82: =ROUND((T82*$C$6)/$C$7,0) -> 21998 | AG82: =ROUND((U82*$C$6)/$C$7,0) -> 23117 | AH82: =ROUND((V82*$C$6)/$C$7,0) -> 19497 | AI82: =ROUND((W82*$C$6)/$C$7,0) -> 16794 | AJ82: =ROUND((X82*$C$6)/$C$7,0) -> 8128 | AK82: =ROUND((Y82*$C$6)/$C$7,0) -> 5647 | ... AO82: =ROUND((AC82*$C$6)/$C$7,0) -> 1911
A83: Borsod-Abaúj-Zemplén Megyei Katasztrófavédelmi Igazgatóság | B83: 3525 Miskolc, Dózsa Gy. u. 15. | C83: Borsod-Abaúj-Zemplén Megyei Katasztrófavédelmi Igazgatóság | D83: 3525 Miskolc, Dózsa Gy. u. 15. | E83: 39N111007440000H | F83: 3600 Ózd, Vasvár u. 84. | G83: MVM Next Energiakereskedelmi Zrt. | H83: =IF(E83="","",VLOOKUP(LEFT(E83,5),'Technikai cellák'!B:C,2,0)) -> TIGÁZ Földgázelosztó Zrt. | I83: =IF(E83="","",VLOOKUP(H83,'Technikai cellák'!$C$1:$D$12,2,0)) -> 4200 Hajdúszoboszló, Rákóczi Ferenc út 184. | J83: 16 | K83: =IF(J83="","",IF(J83<20,"20 alatti",IF(J83<100,"20-99",IF(J83<500,"100-500","500-")))) -> 20 alatti | L83: =ROUND(IF(K83="20 alatti",J83*1,0),0) -> 16 | M83: =ROUND(IF(K83="20-99",J83*10.5,0),0) -> 0 | O83: =ROUND((IF(J83<100,0,J83*$C$6)/$C$7),0) -> 0 | P83: =ROUND(Q83*$G$9,0) -> 189405 | Q83: =SUM(AD83:AO83) -> 236756 | R83: 4778 | S83: 4225 | T83: 3485 | U83: 1463 | V83: 993 | W83: 740 | X83: 567 | Y83: 700 | Z83: 667 | AA83: 1538 | AB83: 1529 | AC83: 1744 | AD83: =ROUND((R83*$C$6)/$C$7,0) -> 50436 | AE83: =ROUND((S83*$C$6)/$C$7,0) -> 44598 | AF83: =ROUND((T83*$C$6)/$C$7,0) -> 36787 | AG83: =ROUND((U83*$C$6)/$C$7,0) -> 15443 | AH83: =ROUND((V83*$C$6)/$C$7,0) -> 10482 | AI83: =ROUND((W83*$C$6)/$C$7,0) -> 7811 | AJ83: =ROUND((X83*$C$6)/$C$7,0) -> 5985 | AK83: =ROUND((Y83*$C$6)/$C$7,0) -> 7389 | ... AO83: =ROUND((AC83*$C$6)/$C$7,0) -> 18409
A84: Borsod-Abaúj-Zemplén Megyei Katasztrófavédelmi Igazgatóság | B84: 3525 Miskolc, Dózsa Gy. u. 15. | C84: Borsod-Abaúj-Zemplén Megyei Katasztrófavédelmi Igazgatóság | D84: 3525 Miskolc, Dózsa Gy. u. 15. | E84: 39N110596545000L | F84: 3752 Szendrő, Váralja u. 3. | G84: MVM Next Energiakereskedelmi Zrt. | H84: =IF(E84="","",VLOOKUP(LEFT(E84,5),'Technikai cellák'!B:C,2,0)) -> TIGÁZ Földgázelosztó Zrt. | I84: =IF(E84="","",VLOOKUP(H84,'Technikai cellák'!$C$1:$D$12,2,0)) -> 4200 Hajdúszoboszló, Rákóczi Ferenc út 184. | J84: 6 | K84: =IF(J84="","",IF(J84<20,"20 alatti",IF(J84<100,"20-99",IF(J84<500,"100-500","500-")))) -> 20 alatti | L84: =ROUND(IF(K84="20 alatti",J84*1,0),0) -> 6 | M84: =ROUND(IF(K84="20-99",J84*10.5,0),0) -> 0 | O84: =ROUND((IF(J84<100,0,J84*$C$6)/$C$7),0) -> 0 | P84: =ROUND(Q84*$G$9,0) -> 57931 | Q84: =SUM(AD84:AO84) -> 72414 | R84: 551 | S84: 772 | T84: 1104 | U84: 1095 | V84: 1095 | W84: 1100 | X84: 696 | Y84: 329 | Z84: 32 | AA84: 6 | AB84: 5 | AC84: 75 | AD84: =ROUND((R84*$C$6)/$C$7,0) -> 5816 | AE84: =ROUND((S84*$C$6)/$C$7,0) -> 8149 | AF84: =ROUND((T84*$C$6)/$C$7,0) -> 11654 | AG84: =ROUND((U84*$C$6)/$C$7,0) -> 11559 | AH84: =ROUND((V84*$C$6)/$C$7,0) -> 11559 | AI84: =ROUND((W84*$C$6)/$C$7,0) -> 11611 | AJ84: =ROUND((X84*$C$6)/$C$7,0) -> 7347 | AK84: =ROUND((Y84*$C$6)/$C$7,0) -> 3473 | ... AO84: =ROUND((AC84*$C$6)/$C$7,0) -> 792
A85: Borsod-Abaúj-Zemplén Megyei Katasztrófavédelmi Igazgatóság | B85: 3525 Miskolc, Dózsa Gy. u. 15. | C85: Borsod-Abaúj-Zemplén Megyei Katasztrófavédelmi Igazgatóság | D85: 3525 Miskolc, Dózsa Gy. u. 15. | E85: 39N1126368320006 | F85: 3763 Bódvaszilas, Kossuth Lajos u. 23. | G85: MVM Next Energiakereskedelmi Zrt. | H85: =IF(E85="","",VLOOKUP(LEFT(E85,5),'Technikai cellák'!B:C,2,0)) -> TIGÁZ Földgázelosztó Zrt. | I85: =IF(E85="","",VLOOKUP(H85,'Technikai cellák'!$C$1:$D$12,2,0)) -> 4200 Hajdúszoboszló, Rákóczi Ferenc út 184. | J85: 4 | K85: =IF(J85="","",IF(J85<20,"20 alatti",IF(J85<100,"20-99",IF(J85<500,"100-500","500-")))) -> 20 alatti | L85: =ROUND(IF(K85="20 alatti",J85*1,0),0) -> 4 | M85: =ROUND(IF(K85="20-99",J85*10.5,0),0) -> 0 | O85: =ROUND((IF(J85<100,0,J85*$C$6)/$C$7),0) -> 0 | P85: =ROUND(Q85*$G$9,0) -> 47728 | Q85: =SUM(AD85:AO85) -> 59660 | R85: 528 | S85: 663 | T85: 855 | U85: 968 | V85: 968 | W85: 768 | X85: 632 | Y85: 89 | Z85: 51 | AA85: 38 | AB85: 28 | AC85: 64 | AD85: =ROUND((R85*$C$6)/$C$7,0) -> 5573 | AE85: =ROUND((S85*$C$6)/$C$7,0) -> 6998 | AF85: =ROUND((T85*$C$6)/$C$7,0) -> 9025 | AG85: =ROUND((U85*$C$6)/$C$7,0) -> 10218 | AH85: =ROUND((V85*$C$6)/$C$7,0) -> 10218 | AI85: =ROUND((W85*$C$6)/$C$7,0) -> 8107 | AJ85: =ROUND((X85*$C$6)/$C$7,0) -> 6671 | AK85: =ROUND((Y85*$C$6)/$C$7,0) -> 939 | ... AO85: =ROUND((AC85*$C$6)/$C$7,0) -> 676
A86: Borsod-Abaúj-Zemplén Megyei Katasztrófavédelmi Igazgatóság | B86: 3525 Miskolc, Dózsa Gy. u. 15. | C86: Borsod-Abaúj-Zemplén Megyei Katasztrófavédelmi Igazgatóság | D86: 3525 Miskolc, Dózsa Gy. u. 15. | E86: 39N111020646000B | F86: 3759 Aggtelek, Kossuth u. 3. | G86: MVM Next Energiakereskedelmi Zrt. | H86: =IF(E86="","",VLOOKUP(LEFT(E86,5),'Technikai cellák'!B:C,2,0)) -> TIGÁZ Földgázelosztó Zrt. | I86: =IF(E86="","",VLOOKUP(H86,'Technikai cellák'!$C$1:$D$12,2,0)) -> 4200 Hajdúszoboszló, Rákóczi Ferenc út 184. | J86: 4 | K86: =IF(J86="","",IF(J86<20,"20 alatti",IF(J86<100,"20-99",IF(J86<500,"100-500","500-")))) -> 20 alatti | L86: =ROUND(IF(K86="20 alatti",J86*1,0),0) -> 4 | M86: =ROUND(IF(K86="20-99",J86*10.5,0),0) -> 0 | O86: =ROUND((IF(J86<100,0,J86*$C$6)/$C$7),0) -> 0 | P86: =ROUND(Q86*$G$9,0) -> 32554 | Q86: =SUM(AD86:AO86) -> 40692 | R86: 324 | S86: 514 | T86: 580 | U86: 650 | V86: 545 | W86: 466 | X86: 316 | Y86: 247 | Z86: 65 | AA86: 45 | AB86: 34 | AC86: 69 | AD86: =ROUND((R86*$C$6)/$C$7,0) -> 3420 | AE86: =ROUND((S86*$C$6)/$C$7,0) -> 5426 | AF86: =ROUND((T86*$C$6)/$C$7,0) -> 6122 | AG86: =ROUND((U86*$C$6)/$C$7,0) -> 6861 | AH86: =ROUND((V86*$C$6)/$C$7,0) -> 5753 | AI86: =ROUND((W86*$C$6)/$C$7,0) -> 4919 | AJ86: =ROUND((X86*$C$6)/$C$7,0) -> 3336 | AK86: =ROUND((Y86*$C$6)/$C$7,0) -> 2607 | ... AO86: =ROUND((AC86*$C$6)/$C$7,0) -> 728
A87: Borsod-Abaúj-Zemplén Megyei Katasztrófavédelmi Igazgatóság | B87: 3525 Miskolc, Dózsa Gy. u. 15. | C87: Borsod-Abaúj-Zemplén Megyei Katasztrófavédelmi Igazgatóság | D87: 3525 Miskolc, Dózsa Gy. u. 15. | E87: 39N110395433000Z | F87: 3450 Mezőcsát, Kölcsey F. u. 11. | G87: MVM Next Energiakereskedelmi Zrt. | H87: =IF(E87="","",VLOOKUP(LEFT(E87,5),'Technikai cellák'!B:C,2,0)) -> TIGÁZ Földgázelosztó Zrt. | I87: =IF(E87="","",VLOOKUP(H87,'Technikai cellák'!$C$1:$D$12,2,0)) -> 4200 Hajdúszoboszló, Rákóczi Ferenc út 184. | J87: 4 | K87: =IF(J87="","",IF(J87<20,"20 alatti",IF(J87<100,"20-99",IF(J87<500,"100-500","500-")))) -> 20 alatti | L87: =ROUND(IF(K87="20 alatti",J87*1,0),0) -> 4 | M87: =ROUND(IF(K87="20-99",J87*10.5,0),0) -> 0 | O87: =ROUND((IF(J87<100,0,J87*$C$6)/$C$7),0) -> 0 | P87: =ROUND(Q87*$G$9,0) -> 18731 | Q87: =SUM(AD87:AO87) -> 23414 | R87: 176 | S87: 311 | T87: 314 | U87: 451 | V87: 296 | W87: 276 | X87: 172 | Y87: 90 | Z87: 36 | AA87: 29 | AB87: 31 | AC87: 36 | AD87: =ROUND((R87*$C$6)/$C$7,0) -> 1858 | AE87: =ROUND((S87*$C$6)/$C$7,0) -> 3283 | AF87: =ROUND((T87*$C$6)/$C$7,0) -> 3315 | AG87: =ROUND((U87*$C$6)/$C$7,0) -> 4761 | AH87: =ROUND((V87*$C$6)/$C$7,0) -> 3125 | AI87: =ROUND((W87*$C$6)/$C$7,0) -> 2913 | AJ87: =ROUND((X87*$C$6)/$C$7,0) -> 1816 | AK87: =ROUND((Y87*$C$6)/$C$7,0) -> 950 | ... AO87: =ROUND((AC87*$C$6)/$C$7,0) -> 380
A88: Borsod-Abaúj-Zemplén Megyei Katasztrófavédelmi Igazgatóság | B88: 3525 Miskolc, Dózsa Gy. u. 15. | C88: Borsod-Abaúj-Zemplén Megyei Katasztrófavédelmi Igazgatóság | D88: 3525 Miskolc, Dózsa Gy. u. 15. | E88: 39N111124961000Z | F88: 3525 Miskolc, Tárkányi Béla u. 15. | G88: MVM Next Energiakereskedelmi Zrt. | H88: =IF(E88="","",VLOOKUP(LEFT(E88,5),'Technikai cellák'!B:C,2,0)) -> TIGÁZ Földgázelosztó Zrt. | I88: =IF(E88="","",VLOOKUP(H88,'Technikai cellák'!$C$1:$D$12,2,0)) -> 4200 Hajdúszoboszló, Rákóczi Ferenc út 184. | J88: 4 | K88: =IF(J88="","",IF(J88<20,"20 alatti",IF(J88<100,"20-99",IF(J88<500,"100-500","500-")))) -> 20 alatti | L88: =ROUND(IF(K88="20 alatti",J88*1,0),0) -> 4 | M88: =ROUND(IF(K88="20-99",J88*10.5,0),0) -> 0 | O88: =ROUND((IF(J88<100,0,J88*$C$6)/$C$7),0) -> 0 | P88: =ROUND(Q88*$G$9,0) -> 38001 | Q88: =SUM(AD88:AO88) -> 47501 | R88: 839 | S88: 722 | T88: 589 | U88: 225 | V88: 122 | W88: 95 | X88: 86 | Y88: 87 | Z88: 120 | AA88: 277 | AB88: 550 | AC88: 788 | AD88: =ROUND((R88*$C$6)/$C$7,0) -> 8856 | AE88: =ROUND((S88*$C$6)/$C$7,0) -> 7621 | AF88: =ROUND((T88*$C$6)/$C$7,0) -> 6217 | AG88: =ROUND((U88*$C$6)/$C$7,0) -> 2375 | AH88: =ROUND((V88*$C$6)/$C$7,0) -> 1288 | AI88: =ROUND((W88*$C$6)/$C$7,0) -> 1003 | AJ88: =ROUND((X88*$C$6)/$C$7,0) -> 908 | AK88: =ROUND((Y88*$C$6)/$C$7,0) -> 918 | ... AO88: =ROUND((AC88*$C$6)/$C$7,0) -> 8318
A89: Borsod-Abaúj-Zemplén Megyei Katasztrófavédelmi Igazgatóság | B89: 3526 Miskolc, Dózsa Gy. u. 15. | C89: Borsod-Abaúj-Zemplén Megyei Katasztrófavédelmi Igazgatóság | D89: 3525 Miskolc, Dózsa Gy. u. 15. | E89: 39N110729976000Q | F89: 3754 Szalonna, Gyöngyvirág u. 2. | G89: MVM Next Energiakereskedelmi Zrt. | H89: =IF(E89="","",VLOOKUP(LEFT(E89,5),'Technikai cellák'!B:C,2,0)) -> TIGÁZ Földgázelosztó Zrt. | I89: =IF(E89="","",VLOOKUP(H89,'Technikai cellák'!$C$1:$D$12,2,0)) -> 4200 Hajdúszoboszló, Rákóczi Ferenc út 184. | J89: 4 | K89: =IF(J89="","",IF(J89<20,"20 alatti",IF(J89<100,"20-99",IF(J89<500,"100-500","500-")))) -> 20 alatti | L89: =ROUND(IF(K89="20 alatti",J89*1,0),0) -> 4 | M89: =ROUND(IF(K89="20-99",J89*10.5,0),0) -> 0 | O89: =ROUND((IF(J89<100,0,J89*$C$6)/$C$7),0) -> 0 | P89: =ROUND(Q89*$G$9,0) -> 21138 | Q89: =SUM(AD89:AO89) -> 26422 | R89: 10 | S89: 182 | T89: 356 | U89: 423 | V89: 424 | W89: 398 | X89: 398 | Y89: 80 | Z89: 48 | AA89: 48 | AB89: 48 | AC89: 88 | AD89: =ROUND((R89*$C$6)/$C$7,0) -> 106 | AE89: =ROUND((S89*$C$6)/$C$7,0) -> 1921 | AF89: =ROUND((T89*$C$6)/$C$7,0) -> 3758 | AG89: =ROUND((U89*$C$6)/$C$7,0) -> 4465 | AH89: =ROUND((V89*$C$6)/$C$7,0) -> 4476 | AI89: =ROUND((W89*$C$6)/$C$7,0) -> 4201 | AJ89: =ROUND((X89*$C$6)/$C$7,0) -> 4201 | AK89: =ROUND((Y89*$C$6)/$C$7,0) -> 844 | ... AO89: =ROUND((AC89*$C$6)/$C$7,0) -> 929
A90: Borsod-Abaúj-Zemplén Megyei Katasztrófavédelmi Igazgatóság | B90: 3526 Miskolc, Dózsa Gy. u. 15. | C90: Borsod-Abaúj-Zemplén Megyei Katasztrófavédelmi Igazgatóság | D90: 3525 Miskolc, Dózsa Gy. u. 15. | E90: 39N1126735950001 | F90: 3934 Tolcsva, Bónis Ferenc u. 36. | G90: MVM Next Energiakereskedelmi Zrt. | H90: =IF(E90="","",VLOOKUP(LEFT(E90,5),'Technikai cellák'!B:C,2,0)) -> TIGÁZ Földgázelosztó Zrt. | I90: =IF(E90="","",VLOOKUP(H90,'Technikai cellák'!$C$1:$D$12,2,0)) -> 4200 Hajdúszoboszló, Rákóczi Ferenc út 184. | J90: 4 | K90: =IF(J90="","",IF(J90<20,"20 alatti",IF(J90<100,"20-99",IF(J90<500,"100-500","500-")))) -> 20 alatti | L90: =ROUND(IF(K90="20 alatti",J90*1,0),0) -> 4 | M90: =ROUND(IF(K90="20-99",J90*10.5,0),0) -> 0 | O90: =ROUND((IF(J90<100,0,J90*$C$6)/$C$7),0) -> 0 | P90: =ROUND(Q90*$G$9,0) -> 35248 | Q90: =SUM(AD90:AO90) -> 44060 | R90: 281 | S90: 505 | T90: 507 | U90: 627 | V90: 577 | W90: 565 | X90: 804 | Y90: 125 | Z90: 87 | AA90: 28 | AB90: 27 | AC90: 41 | AD90: =ROUND((R90*$C$6)/$C$7,0) -> 2966 | AE90: =ROUND((S90*$C$6)/$C$7,0) -> 5331 | AF90: =ROUND((T90*$C$6)/$C$7,0) -> 5352 | AG90: =ROUND((U90*$C$6)/$C$7,0) -> 6618 | AH90: =ROUND((V90*$C$6)/$C$7,0) -> 6091 | AI90: =ROUND((W90*$C$6)/$C$7,0) -> 5964 | AJ90: =ROUND((X90*$C$6)/$C$7,0) -> 8487 | AK90: =ROUND((Y90*$C$6)/$C$7,0) -> 1319 | ... AO90: =ROUND((AC90*$C$6)/$C$7,0) -> 433
A91: Borsod-Abaúj-Zemplén Megyei Katasztrófavédelmi Igazgatóság | B91: 3526 Miskolc, Dózsa Gy. u. 15. | C91: Borsod-Abaúj-Zemplén Megyei Katasztrófavédelmi Igazgatóság | D91: 3525 Miskolc, Dózsa Gy. u. 15. | E91: 39N110886164000L | F91: 3895 Gönc, Rákóczi út 101. | G91: MVM Next Energiakereskedelmi Zrt. | H91: =IF(E91="","",VLOOKUP(LEFT(E91,5),'Technikai cellák'!B:C,2,0)) -> TIGÁZ Földgázelosztó Zrt. | I91: =IF(E91="","",VLOOKUP(H91,'Technikai cellák'!$C$1:$D$12,2,0)) -> 4200 Hajdúszoboszló, Rákóczi Ferenc út 184. | J91: 4 | K91: =IF(J91="","",IF(J91<20,"20 alatti",IF(J91<100,"20-99",IF(J91<500,"100-500","500-")))) -> 20 alatti | L91: =ROUND(IF(K91="20 alatti",J91*1,0),0) -> 4 | M91: =ROUND(IF(K91="20-99",J91*10.5,0),0) -> 0 | O91: =ROUND((IF(J91<100,0,J91*$C$6)/$C$7),0) -> 0 | P91: =ROUND(Q91*$G$9,0) -> 33456 | Q91: =SUM(AD91:AO91) -> 41820 | R91: 293 | S91: 445 | T91: 583 | U91: 723 | V91: 464 | W91: 506 | X91: 373 | Y91: 240 | Z91: 139 | AA91: 44 | AB91: 38 | AC91: 114 | AD91: =ROUND((R91*$C$6)/$C$7,0) -> 3093 | AE91: =ROUND((S91*$C$6)/$C$7,0) -> 4697 | AF91: =ROUND((T91*$C$6)/$C$7,0) -> 6154 | AG91: =ROUND((U91*$C$6)/$C$7,0) -> 7632 | AH91: =ROUND((V91*$C$6)/$C$7,0) -> 4898 | AI91: =ROUND((W91*$C$6)/$C$7,0) -> 5341 | AJ91: =ROUND((X91*$C$6)/$C$7,0) -> 3937 | AK91: =ROUND((Y91*$C$6)/$C$7,0) -> 2533 | ... AO91: =ROUND((AC91*$C$6)/$C$7,0) -> 1203
A92: Borsod-Abaúj-Zemplén Megyei Katasztrófavédelmi Igazgatóság | B92: 3526 Miskolc, Dózsa Gy. u. 15. | C92: Borsod-Abaúj-Zemplén Megyei Katasztrófavédelmi Igazgatóság | D92: 3525 Miskolc, Dózsa Gy. u. 15. | E92: 39N1103437410005 | F92: Tiszaújváros, Tűzoltó u. 1. | G92: MVM Next Energiakereskedelmi Zrt. | H92: =IF(E92="","",VLOOKUP(LEFT(E92,5),'Technikai cellák'!B:C,2,0)) -> TIGÁZ Földgázelosztó Zrt. | I92: =IF(E92="","",VLOOKUP(H92,'Technikai cellák'!$C$1:$D$12,2,0)) -> 4200 Hajdúszoboszló, Rákóczi Ferenc út 184. | J92: 25 | K92: =IF(J92="","",IF(J92<20,"20 alatti",IF(J92<100,"20-99",IF(J92<500,"100-500","500-")))) -> 20-99 | L92: =ROUND(IF(K92="20 alatti",J92*1,0),0) -> 0 | M92: =ROUND(IF(K92="20-99",J92*10.5,0),0) -> 263 | N92: 263 | O92: =ROUND((IF(J92<100,0,J92*$C$6)/$C$7),0) -> 0 | P92: =ROUND(Q92*$G$9,0) -> 219561 | Q92: =SUM(AD92:AO92) -> 274451 | R92: 1914 | S92: 3844 | T92: 4061 | U92: 5451 | V92: 2770 | W92: 4391 | X92: 2144 | Y92: 1003 | Z92: 7 | AA92: 5 | AB92: 11 | AC92: 399 | AD92: =ROUND((R92*$C$6)/$C$7,0) -> 20204 | AE92: =ROUND((S92*$C$6)/$C$7,0) -> 40576 | AF92: =ROUND((T92*$C$6)/$C$7,0) -> 42867 | AG92: =ROUND((U92*$C$6)/$C$7,0) -> 57540 | AH92: =ROUND((V92*$C$6)/$C$7,0) -> 29240 | AI92: =ROUND((W92*$C$6)/$C$7,0) -> 46350 | AJ92: =ROUND((X92*$C$6)/$C$7,0) -> 22632 | AK92: =ROUND((Y92*$C$6)/$C$7,0) -> 10587 | ... AO92: =ROUND((AC92*$C$6)/$C$7,0) -> 4212
A93: Borsod-Abaúj-Zemplén Megyei Katasztrófavédelmi Igazgatóság | B93: 3526 Miskolc, Dózsa Gy. u. 15. | C93: Borsod-Abaúj-Zemplén Megyei Katasztrófavédelmi Igazgatóság | D93: 3525 Miskolc, Dózsa Gy. u. 15. | E93: 39N1111280930001 | F93: 3525 Miskolc, Dózsa Gy. u. 17. fsz. 1. | G93: MVM Next Energiakereskedelmi Zrt. | H93: =IF(E93="","",VLOOKUP(LEFT(E93,5),'Technikai cellák'!B:C,2,0)) -> TIGÁZ Földgázelosztó Zrt. | I93: =IF(E93="","",VLOOKUP(H93,'Technikai cellák'!$C$1:$D$12,2,0)) -> 4200 Hajdúszoboszló, Rákóczi Ferenc út 184. | J93: 4 | K93: =IF(J93="","",IF(J93<20,"20 alatti",IF(J93<100,"20-99",IF(J93<500,"100-500","500-")))) -> 20 alatti | L93: =ROUND(IF(K93="20 alatti",J93*1,0),0) -> 4 | M93: =ROUND(IF(K93="20-99",J93*10.5,0),0) -> 0 | O93: =ROUND((IF(J93<100,0,J93*$C$6)/$C$7),0) -> 0 | P93: =ROUND(Q93*$G$9,0) -> 106 | Q93: =SUM(AD93:AO93) -> 132 | R93: 1 | S93: 1 | T93: 1 | U93: 1 | V93: 1 | W93: 1 | X93: 1 | Y93: 1 | Z93: 1 | AA93: 1 | AB93: 1 | AC93: 1 | AD93: =ROUND((R93*$C$6)/$C$7,0) -> 11 | AE93: =ROUND((S93*$C$6)/$C$7,0) -> 11 | AF93: =ROUND((T93*$C$6)/$C$7,0) -> 11 | AG93: =ROUND((U93*$C$6)/$C$7,0) -> 11 | AH93: =ROUND((V93*$C$6)/$C$7,0) -> 11 | AI93: =ROUND((W93*$C$6)/$C$7,0) -> 11 | AJ93: =ROUND((X93*$C$6)/$C$7,0) -> 11 | AK93: =ROUND((Y93*$C$6)/$C$7,0) -> 11 | ... AO93: =ROUND((AC93*$C$6)/$C$7,0) -> 11
A94: Borsod-Abaúj-Zemplén Megyei Katasztrófavédelmi Igazgatóság | B94: 3526 Miskolc, Dózsa Gy. u. 15. | C94: Borsod-Abaúj-Zemplén Megyei Katasztrófavédelmi Igazgatóság | D94: 3525 Miskolc, Dózsa Gy. u. 15. | E94: 39N110343960000L | F94: 3525 Miskolc, Dózsa Gy. u. 17. 2/1 | G94: MVM Next Energiakereskedelmi Zrt. | H94: =IF(E94="","",VLOOKUP(LEFT(E94,5),'Technikai cellák'!B:C,2,0)) -> TIGÁZ Földgázelosztó Zrt. | I94: =IF(E94="","",VLOOKUP(H94,'Technikai cellák'!$C$1:$D$12,2,0)) -> 4200 Hajdúszoboszló, Rákóczi Ferenc út 184. | J94: 4 | K94: =IF(J94="","",IF(J94<20,"20 alatti",IF(J94<100,"20-99",IF(J94<500,"100-500","500-")))) -> 20 alatti | L94: =ROUND(IF(K94="20 alatti",J94*1,0),0) -> 4 | M94: =ROUND(IF(K94="20-99",J94*10.5,0),0) -> 0 | O94: =ROUND((IF(J94<100,0,J94*$C$6)/$C$7),0) -> 0 | P94: =ROUND(Q94*$G$9,0) -> 106 | Q94: =SUM(AD94:AO94) -> 132 | R94: 1 | S94: 1 | T94: 1 | U94: 1 | V94: 1 | W94: 1 | X94: 1 | Y94: 1 | Z94: 1 | AA94: 1 | AB94: 1 | AC94: 1 | AD94: =ROUND((R94*$C$6)/$C$7,0) -> 11 | AE94: =ROUND((S94*$C$6)/$C$7,0) -> 11 | AF94: =ROUND((T94*$C$6)/$C$7,0) -> 11 | AG94: =ROUND((U94*$C$6)/$C$7,0) -> 11 | AH94: =ROUND((V94*$C$6)/$C$7,0) -> 11 | AI94: =ROUND((W94*$C$6)/$C$7,0) -> 11 | AJ94: =ROUND((X94*$C$6)/$C$7,0) -> 11 | AK94: =ROUND((Y94*$C$6)/$C$7,0) -> 11 | ... AO94: =ROUND((AC94*$C$6)/$C$7,0) -> 11
A95: Csongrád-Csanád Megyei Katasztrófavédelmi Igazgatóság | B95: 6721 Szeged, Berlini krt. 16-18. | C95: Csongrád-Csanád Megyei Katasztrófavédelmi Igazgatóság | D95: 6721 Szeged, Berlini krt. 16-18. | E95: 39N0503200370000 | F95: 6721 Szeged, Berlini krt. 16-18. | G95: MVM Next Energiakereskedelmi Zrt. | H95: =IF(E95="","",VLOOKUP(LEFT(E95,5),'Technikai cellák'!B:C,2,0)) -> MVM ÉGÁZ-DÉGÁZ Földgázhálózati Zrt. | I95: =IF(E95="","",VLOOKUP(H95,'Technikai cellák'!$C$1:$D$12,2,0)) -> 6724 Szeged, Pulcz u. 44. | J95: 25 | K95: =IF(J95="","",IF(J95<20,"20 alatti",IF(J95<100,"20-99",IF(J95<500,"100-500","500-")))) -> 20-99 | L95: =ROUND(IF(K95="20 alatti",J95*1,0),0) -> 0 | M95: =ROUND(IF(K95="20-99",J95*10.5,0),0) -> 263 | N95: 263 | O95: =ROUND((IF(J95<100,0,J95*$C$6)/$C$7),0) -> 0 | P95: =ROUND(Q95*$G$9,0) -> 150357 | Q95: =SUM(AD95:AO95) -> 187946 | R95: 955 | S95: 2700 | T95: 3500 | U95: 4000 | V95: 2300 | W95: 2000 | X95: 850 | Y95: 400 | Z95: 300 | AA95: 250 | AB95: 250 | AC95: 300 | AD95: =ROUND((R95*$C$6)/$C$7,0) -> 10081 | AE95: =ROUND((S95*$C$6)/$C$7,0) -> 28501 | AF95: =ROUND((T95*$C$6)/$C$7,0) -> 36945 | AG95: =ROUND((U95*$C$6)/$C$7,0) -> 42223 | AH95: =ROUND((V95*$C$6)/$C$7,0) -> 24278 | AI95: =ROUND((W95*$C$6)/$C$7,0) -> 21112 | AJ95: =ROUND((X95*$C$6)/$C$7,0) -> 8972 | AK95: =ROUND((Y95*$C$6)/$C$7,0) -> 4222 | ... AO95: =ROUND((AC95*$C$6)/$C$7,0) -> 3167
A96: Csongrád-Csanád Megyei Katasztrófavédelmi Igazgatóság | B96: 6722 Szeged, Berlini krt. 16-18. | C96: Csongrád-Csanád Megyei Katasztrófavédelmi Igazgatóság | D96: 6722 Szeged, Berlini krt. 16-18. | E96: 39N0503011370003 | F96: 6721 Szeged, Tisza Lajos krt. 11. | G96: MVM Next Energiakereskedelmi Zrt. | H96: =IF(E96="","",VLOOKUP(LEFT(E96,5),'Technikai cellák'!B:C,2,0)) -> MVM ÉGÁZ-DÉGÁZ Földgázhálózati Zrt. | I96: =IF(E96="","",VLOOKUP(H96,'Technikai cellák'!$C$1:$D$12,2,0)) -> 6724 Szeged, Pulcz u. 44. | J96: 6 | K96: =IF(J96="","",IF(J96<20,"20 alatti",IF(J96<100,"20-99",IF(J96<500,"100-500","500-")))) -> 20 alatti | L96: =ROUND(IF(K96="20 alatti",J96*1,0),0) -> 6 | M96: =ROUND(IF(K96="20-99",J96*10.5,0),0) -> 0 | O96: =ROUND((IF(J96<100,0,J96*$C$6)/$C$7),0) -> 0 | P96: =ROUND(Q96*$G$9,0) -> 509 | Q96: =SUM(AD96:AO96) -> 636 | R96: 10 | S96: 10 | T96: 10 | U96: 10 | V96: 10 | W96: 10 | X96: 0 | Y96: 0 | Z96: 0 | AA96: 0 | AB96: 0 | AC96: 0 | AD96: =ROUND((R96*$C$6)/$C$7,0) -> 106 | AE96: =ROUND((S96*$C$6)/$C$7,0) -> 106 | AF96: =ROUND((T96*$C$6)/$C$7,0) -> 106 | AG96: =ROUND((U96*$C$6)/$C$7,0) -> 106 | AH96: =ROUND((V96*$C$6)/$C$7,0) -> 106 | AI96: =ROUND((W96*$C$6)/$C$7,0) -> 106 | AJ96: =ROUND((X96*$C$6)/$C$7,0) -> 0 | AK96: =ROUND((Y96*$C$6)/$C$7,0) -> 0 | ... AO96: =ROUND((AC96*$C$6)/$C$7,0) -> 0
A97: Csongrád-Csanád Megyei Katasztrófavédelmi Igazgatóság | B97: 6723 Szeged, Berlini krt. 16-18. | C97: Csongrád-Csanád Megyei Katasztrófavédelmi Igazgatóság | D97: 6723 Szeged, Berlini krt. 16-18. | E97: 39N0507546980003 | F97: 6728 Szeged, Napos út 4. | G97: MVM Next Energiakereskedelmi Zrt. | H97: =IF(E97="","",VLOOKUP(LEFT(E97,5),'Technikai cellák'!B:C,2,0)) -> MVM ÉGÁZ-DÉGÁZ Földgázhálózati Zrt. | I97: =IF(E97="","",VLOOKUP(H97,'Technikai cellák'!$C$1:$D$12,2,0)) -> 6724 Szeged, Pulcz u. 44. | J97: 100 | K97: =IF(J97="","",IF(J97<20,"20 alatti",IF(J97<100,"20-99",IF(J97<500,"100-500","500-")))) -> 100-500 | L97: =ROUND(IF(K97="20 alatti",J97*1,0),0) -> 0 | M97: =ROUND(IF(K97="20-99",J97*10.5,0),0) -> 0 | O97: =ROUND((IF(J97<100,0,J97*$C$6)/$C$7),0) -> 1056 | P97: =ROUND(Q97*$G$9,0) -> 976199 | Q97: =SUM(AD97:AO97) -> 1220249 | R97: 7500 | S97: 15000 | T97: 18000 | U97: 25000 | V97: 15000 | W97: 14500 | X97: 9000 | Y97: 4000 | Z97: 2000 | AA97: 1900 | AB97: 1800 | AC97: 1900 | AD97: =ROUND((R97*$C$6)/$C$7,0) -> 79168 | AE97: =ROUND((S97*$C$6)/$C$7,0) -> 158337 | AF97: =ROUND((T97*$C$6)/$C$7,0) -> 190004 | AG97: =ROUND((U97*$C$6)/$C$7,0) -> 263895 | AH97: =ROUND((V97*$C$6)/$C$7,0) -> 158337 | AI97: =ROUND((W97*$C$6)/$C$7,0) -> 153059 | AJ97: =ROUND((X97*$C$6)/$C$7,0) -> 95002 | AK97: =ROUND((Y97*$C$6)/$C$7,0) -> 42223 | ... AO97: =ROUND((AC97*$C$6)/$C$7,0) -> 20056
A98: Csongrád-Csanád Megyei Katasztrófavédelmi Igazgatóság | B98: 6724 Szeged, Berlini krt. 16-18. | C98: Csongrád-Csanád Megyei Katasztrófavédelmi Igazgatóság | D98: 6724 Szeged, Berlini krt. 16-18. | E98: 39N050073533000K | F98: 6800 Hódmezővásárhely, Szent István tér 1. | G98: MVM Next Energiakereskedelmi Zrt. | H98: =IF(E98="","",VLOOKUP(LEFT(E98,5),'Technikai cellák'!B:C,2,0)) -> MVM ÉGÁZ-DÉGÁZ Földgázhálózati Zrt. | I98: =IF(E98="","",VLOOKUP(H98,'Technikai cellák'!$C$1:$D$12,2,0)) -> 6724 Szeged, Pulcz u. 44. | J98: 65 | K98: =IF(J98="","",IF(J98<20,"20 alatti",IF(J98<100,"20-99",IF(J98<500,"100-500","500-")))) -> 20-99 | L98: =ROUND(IF(K98="20 alatti",J98*1,0),0) -> 0 | M98: =ROUND(IF(K98="20-99",J98*10.5,0),0) -> 683 | N98: 683 | O98: =ROUND((IF(J98<100,0,J98*$C$6)/$C$7),0) -> 0 | P98: =ROUND(Q98*$G$9,0) -> 189582 | Q98: =SUM(AD98:AO98) -> 236977 | R98: 1400 | S98: 3000 | T98: 3800 | U98: 4400 | V98: 3600 | W98: 3000 | X98: 2000 | Y98: 600 | Z98: 300 | AA98: 100 | AB98: 100 | AC98: 150 | AD98: =ROUND((R98*$C$6)/$C$7,0) -> 14778 | AE98: =ROUND((S98*$C$6)/$C$7,0) -> 31667 | AF98: =ROUND((T98*$C$6)/$C$7,0) -> 40112 | AG98: =ROUND((U98*$C$6)/$C$7,0) -> 46445 | AH98: =ROUND((V98*$C$6)/$C$7,0) -> 38001 | AI98: =ROUND((W98*$C$6)/$C$7,0) -> 31667 | AJ98: =ROUND((X98*$C$6)/$C$7,0) -> 21112 | AK98: =ROUND((Y98*$C$6)/$C$7,0) -> 6333 | ... AO98: =ROUND((AC98*$C$6)/$C$7,0) -> 1583
A99: Csongrád-Csanád Megyei Katasztrófavédelmi Igazgatóság | B99: 6725 Szeged, Berlini krt. 16-18. | C99: Csongrád-Csanád Megyei Katasztrófavédelmi Igazgatóság | D99: 6725 Szeged, Berlini krt. 16-18. | E99: 39N050034290000B | F99: 6600 Szentes, Kossuth L. u. 47. | G99: MVM Next Energiakereskedelmi Zrt. | H99: =IF(E99="","",VLOOKUP(LEFT(E99,5),'Technikai cellák'!B:C,2,0)) -> MVM ÉGÁZ-DÉGÁZ Földgázhálózati Zrt. | I99: =IF(E99="","",VLOOKUP(H99,'Technikai cellák'!$C$1:$D$12,2,0)) -> 6724 Szeged, Pulcz u. 44. | J99: 16 | K99: =IF(J99="","",IF(J99<20,"20 alatti",IF(J99<100,"20-99",IF(J99<500,"100-500","500-")))) -> 20 alatti | L99: =ROUND(IF(K99="20 alatti",J99*1,0),0) -> 16 | M99: =ROUND(IF(K99="20-99",J99*10.5,0),0) -> 0 | O99: =ROUND((IF(J99<100,0,J99*$C$6)/$C$7),0) -> 0 | P99: =ROUND(Q99*$G$9,0) -> 150738 | Q99: =SUM(AD99:AO99) -> 188422 | R99: 1200 | S99: 2200 | T99: 3200 | U99: 2900 | V99: 2500 | W99: 2500 | X99: 1500 | Y99: 500 | Z99: 500 | AA99: 250 | AB99: 350 | AC99: 250 | AD99: =ROUND((R99*$C$6)/$C$7,0) -> 12667 | AE99: =ROUND((S99*$C$6)/$C$7,0) -> 23223 | AF99: =ROUND((T99*$C$6)/$C$7,0) -> 33779 | AG99: =ROUND((U99*$C$6)/$C$7,0) -> 30612 | AH99: =ROUND((V99*$C$6)/$C$7,0) -> 26389 | AI99: =ROUND((W99*$C$6)/$C$7,0) -> 26389 | AJ99: =ROUND((X99*$C$6)/$C$7,0) -> 15834 | AK99: =ROUND((Y99*$C$6)/$C$7,0) -> 5278 | ... AO99: =ROUND((AC99*$C$6)/$C$7,0) -> 2639
A100: Csongrád-Csanád Megyei Katasztrófavédelmi Igazgatóság | B100: 6726 Szeged, Berlini krt. 16-18. | C100: Csongrád-Csanád Megyei Katasztrófavédelmi Igazgatóság | D100: 6726 Szeged, Berlini krt. 16-18. | E100: 39N050754068000Q | F100: 6900 Makó, Vorhand rabbi tér 1. | G100: MVM Next Energiakereskedelmi Zrt. | H100: =IF(E100="","",VLOOKUP(LEFT(E100,5),'Technikai cellák'!B:C,2,0)) -> MVM ÉGÁZ-DÉGÁZ Földgázhálózati Zrt. | I100: =IF(E100="","",VLOOKUP(H100,'Technikai cellák'!$C$1:$D$12,2,0)) -> 6724 Szeged, Pulcz u. 44. | J100: 16 | K100: =IF(J100="","",IF(J100<20,"20 alatti",IF(J100<100,"20-99",IF(J100<500,"100-500","500-")))) -> 20 alatti | L100: =ROUND(IF(K100="20 alatti",J100*1,0),0) -> 16 | M100: =ROUND(IF(K100="20-99",J100*10.5,0),0) -> 0 | O100: =ROUND((IF(J100<100,0,J100*$C$6)/$C$7),0) -> 0 | P100: =ROUND(Q100*$G$9,0) -> 163234 | Q100: =SUM(AD100:AO100) -> 204042 | R100: 1400 | S100: 2300 | T100: 3600 | U100: 4700 | V100: 2500 | W100: 2300 | X100: 1500 | Y100: 300 | Z100: 300 | AA100: 150 | AB100: 150 | AC100: 130 | AD100: =ROUND((R100*$C$6)/$C$7,0) -> 14778 | AE100: =ROUND((S100*$C$6)/$C$7,0) -> 24278 | AF100: =ROUND((T100*$C$6)/$C$7,0) -> 38001 | AG100: =ROUND((U100*$C$6)/$C$7,0) -> 49612 | AH100: =ROUND((V100*$C$6)/$C$7,0) -> 26389 | AI100: =ROUND((W100*$C$6)/$C$7,0) -> 24278 | AJ100: =ROUND((X100*$C$6)/$C$7,0) -> 15834 | AK100: =ROUND((Y100*$C$6)/$C$7,0) -> 3167 | ... AO100: =ROUND((AC100*$C$6)/$C$7,0) -> 1372
...

Sheet számoló tábla
A1: Ajánlati ártáblázat
A2: FÖLDGÁZ KÖZBESZERZÉS a 2021 - 2022. gázévre
A5: Szerződéses időszak kezdete: | D5: ='Műszaki adattábla'!C3 -> 44470 | I5: Kerreskedő neve: | J5: MVM Next Energiakereskedelmi Zrt.
A6: Szerződéses időszak vége: | D6: ='Műszaki adattábla'!C4 -> 44834 | I6: Kereskedő címe: | J6: 1081 Budapest, II. János Pál pápa tér 20.
A7: Szerződéses hónapok száma: | D7: ='Műszaki adattábla'!C5 -> 12
A8: Tervezett fogyasztás a szerződéses időszakban (kWh): | D8: =SUM(E:E) -> 406251848 | F8: Tájékoztató jellegű információ: | I8: =CONCATENATE(J5," ", 'Technikai cellák'!A8, " ", "hónapra maximalizált keretmegállapodásos földgáz termék ára (GE22max) (molekula díj) - Ft/kWh") -> MVM Next Energiakereskedelmi Zrt. 2021. november hónapra maximalizált keretmegállapodásos földgáz termék ára (GE22max) (molekula díj) - Ft/kWh
F9: A keretmegállapodás alapján | I9: 20.03
A10: Földgáz termék ár (Molekula díj) - egységár: | D10: 17.331 | F10: =IF(D10<=I9,"megfelelő",IF(D10>I9,"magas ár")) -> megfelelő
A12: Földgáz termék ár a tervezett fogyasztási mennyiségre | D12: =ROUND(D8*D10,0) -> 7040750778 | I12: Szín magyarázat:
A13: Forgalom független rendszerhasználati díjtétel a szerződéses időszakra: | D13: =SUM(K:K) -> 813595025 | J13: = Kitöltendő elemek, egész szám pontossággal
A14: Forgalmi díj a tervezett fogyasztási mennyiségre: | D14: =SUM(L:L) -> 125337254 | J14: = Kitöltendő elemek, három tizedes jegy pontossággal
J15: = Rögzített elemek
A16: Egyösszegű ajánlati ár | J16: = Kalkulált elemek
A17: Fajlagos egységár (Földgáz termék ár + Rendszerhasználati ár): | D17: =ROUND(D18/D8,3) -> 19.642 | J17: = Ajánlati díjelem, három tizedes jegy pontossággal
A18: Teljes összköltség (Földgáz termék ár + Rendszerhasználati ár): | D18: =SUM(D12:D14) -> 7979683057 | J18: = A felolvasólapra kerülő ajánlati ár
A21: Cégnév | B21: Sorszám | C21: Felhasználási hely címe | D21: POD | E21: Tervezett fogyasztás a szerződéses időszakban (kWh) | F21: Mérők névleges összteljesítménye (20 m3/h alatt) (m3/h): | G21: Lekötött teljesítmény (20-99 m3/h között) (kWh/h): | H21: Lekötött teljesítmény (100 m3/h - ) (kWh/h) | I21: Kapacitásdíj (Ft/kWh/h/év) | J21: Forgalmi díj (Ft/MWh) | K21: Forgalom független rendszerhasználati díjtétel (Kapacitásdíj) (Ft/szerződéses időszak): | L21: Forgalmi díj (Ft/szerződéses időszak):
B22: =IF(D22="","",1) -> 1 | C22: =IF(D22="","",VLOOKUP(D22,'Műszaki adattábla'!E:H,2,0)) -> 1087 Bp.Mosonyi u. 9. | D22: =IF('Műszaki adattábla'!E14="","",'Műszaki adattábla'!E14) -> 39N060006316000L | E22: =IF('Műszaki adattábla'!E14="","",'Műszaki adattábla'!Q14) -> 2299474 | F22: =IF(D22="","",VLOOKUP(D22,'Műszaki adattábla'!E:N,8,0)) -> 0 | G22: =IF(D22="","",IF('Műszaki adattábla'!K14="20-99",IF('Műszaki adattábla'!N14="","Nem adott meg lekötött teljesítményt",VLOOKUP(D22,'Műszaki adattábla'!E:P,10,0)),0)) -> 0 | H22: =IF(D22="","",VLOOKUP(D22,'Műszaki adattábla'!E:Q,11,0)) -> 1478 | I22: 2721.89 | J22: 122.75 | K22: =IF(D22="","",ROUND(((F22*I22*'Műszaki adattábla'!$C$6/'Műszaki adattábla'!$C$7)+(G22*I22)+(H22*I22))/12*$D$7,0)) -> 4022953 | L22: =IF(D22="","",ROUND((J22/1000)*E22,0)) -> 282260
B23: =IF(D23="","",B22+1) -> 2 | C23: =IF(D23="","",VLOOKUP(D23,'Műszaki adattábla'!E:H,2,0)) -> 1135 Bp.XIII. Szabolcs u. 33 | D23: =IF('Műszaki adattábla'!E15="","",'Műszaki adattábla'!E15) -> 39N0614327190006 | E23: =IF('Műszaki adattábla'!E15="","",'Műszaki adattábla'!Q15) -> 368472 | F23: =IF(D23="","",VLOOKUP(D23,'Műszaki adattábla'!E:N,8,0)) -> 0 | G23: =IF(D23="","",IF('Műszaki adattábla'!K15="20-99",IF('Műszaki adattábla'!N15="","Nem adott meg lekötött teljesítményt",VLOOKUP(D23,'Műszaki adattábla'!E:P,10,0)),0)) -> 210 | H23: =IF(D23="","",VLOOKUP(D23,'Műszaki adattábla'!E:Q,11,0)) -> 0 | I23: 2804.11 | J23: 131.18 | K23: =IF(D23="","",ROUND(((F23*I23*'Műszaki adattábla'!$C$6/'Műszaki adattábla'!$C$7)+(G23*I23)+(H23*I23))/12*$D$7,0)) -> 588863 | L23: =IF(D23="","",ROUND((J23/1000)*E23,0)) -> 48336
B24: =IF(D24="","",B23+1) -> 3 | C24: =IF(D24="","",VLOOKUP(D24,'Műszaki adattábla'!E:H,2,0)) -> 5000 Szolnok, Tószegi út 24 | D24: =IF('Műszaki adattábla'!E16="","",'Műszaki adattábla'!E16) -> 39N110799410000R | E24: =IF('Műszaki adattábla'!E16="","",'Műszaki adattábla'!Q16) -> 50709 | F24: =IF(D24="","",VLOOKUP(D24,'Műszaki adattábla'!E:N,8,0)) -> 6 | G24: =IF(D24="","",IF('Műszaki adattábla'!K16="20-99",IF('Műszaki adattábla'!N16="","Nem adott meg lekötött teljesítményt",VLOOKUP(D24,'Műszaki adattábla'!E:P,10,0)),0)) -> 0 | H24: =IF(D24="","",VLOOKUP(D24,'Műszaki adattábla'!E:Q,11,0)) -> 0 | I24: 1973.63 | J24: 1169.71 | K24: =IF(D24="","",ROUND(((F24*I24*'Műszaki adattábla'!$C$6/'Műszaki adattábla'!$C$7)+(G24*I24)+(H24*I24))/12*$D$7,0)) -> 124999 | L24: =IF(D24="","",ROUND((J24/1000)*E24,0)) -> 59315
B25: =IF(D25="","",B24+1) -> 4 | C25: =IF(D25="","",VLOOKUP(D25,'Műszaki adattábla'!E:H,2,0)) -> 7400 Kaposvár, 48-as ifjúság útja 5 | D25: =IF('Műszaki adattábla'!E17="","",'Műszaki adattábla'!E17) -> 39N040246359000O | E25: =IF('Műszaki adattábla'!E17="","",'Műszaki adattábla'!Q17) -> 32763 | F25: =IF(D25="","",VLOOKUP(D25,'Műszaki adattábla'!E:N,8,0)) -> 6 | G25: =IF(D25="","",IF('Műszaki adattábla'!K17="20-99",IF('Műszaki adattábla'!N17="","Nem adott meg lekötött teljesítményt",VLOOKUP(D25,'Műszaki adattábla'!E:P,10,0)),0)) -> 0 | H25: =IF(D25="","",VLOOKUP(D25,'Műszaki adattábla'!E:Q,11,0)) -> 0 | I25: 1973.63 | J25: 1626.5 | K25: =IF(D25="","",ROUND(((F25*I25*'Műszaki adattábla'!$C$6/'Műszaki adattábla'!$C$7)+(G25*I25)+(H25*I25))/12*$D$7,0)) -> 124999 | L25: =IF(D25="","",ROUND((J25/1000)*E25,0)) -> 53289
B26: =IF(D26="","",B25+1) -> 5 | C26: =IF(D26="","",VLOOKUP(D26,'Műszaki adattábla'!E:H,2,0)) -> 8200 Veszprém, Dózsa György u.30 | D26: =IF('Műszaki adattábla'!E18="","",'Műszaki adattábla'!E18) -> 39N040152352000I | E26: =IF('Műszaki adattábla'!E18="","",'Műszaki adattábla'!Q18) -> 99076 | F26: =IF(D26="","",VLOOKUP(D26,'Műszaki adattábla'!E:N,8,0)) -> 4 | G26: =IF(D26="","",IF('Műszaki adattábla'!K18="20-99",IF('Műszaki adattábla'!N18="","Nem adott meg lekötött teljesítményt",VLOOKUP(D26,'Műszaki adattábla'!E:P,10,0)),0)) -> 0 | H26: =IF(D26="","",VLOOKUP(D26,'Műszaki adattábla'!E:Q,11,0)) -> 0 | I26: 1973.63 | J26: 1626.5 | K26: =IF(D26="","",ROUND((F26*I26*'Műszaki adattábla'!$C$6/'Műszaki adattábla'!$C$7)+(G26*I26)+(H26*I26)/12*$D$7,0)) -> 83333 | L26: =IF(D26="","",ROUND((J26/1000)*E26,0)) -> 161147
B27: =IF(D27="","",B26+1) -> 6 | C27: =IF(D27="","",VLOOKUP(D27,'Műszaki adattábla'!E:H,2,0)) -> 9700 Szombathely, Rákóczi Ferenc u.78 | D27: =IF('Műszaki adattábla'!E19="","",'Műszaki adattábla'!E19) -> 39N050138643000U | E27: =IF('Műszaki adattábla'!E19="","",'Műszaki adattábla'!Q19) -> 51735 | F27: =IF(D27="","",VLOOKUP(D27,'Műszaki adattábla'!E:N,8,0)) -> 4 | G27: =IF(D27="","",IF('Műszaki adattábla'!K19="20-99",IF('Műszaki adattábla'!N19="","Nem adott meg lekötött teljesítményt",VLOOKUP(D27,'Műszaki adattábla'!E:P,10,0)),0)) -> 0 | H27: =IF(D27="","",VLOOKUP(D27,'Műszaki adattábla'!E:Q,11,0)) -> 0 | I27: 1954.93 | J27: 1138.91 | K27: =IF(D27="","",ROUND((F27*I27*'Műszaki adattábla'!$C$6/'Műszaki adattábla'!$C$7)+(G27*I27)+(H27*I27)/12*$D$7,0)) -> 82543 | L27: =IF(D27="","",ROUND((J27/1000)*E27,0)) -> 58922
B28: =IF(D28="","",B27+1) -> 7 | C28: =IF(D28="","",VLOOKUP(D28,'Műszaki adattábla'!E:H,2,0)) -> 3527 Miskolc, Bajcsy-Zsilinszky u.13 | D28: =IF('Műszaki adattábla'!E20="","",'Műszaki adattábla'!E20) -> 39N111122243000S | E28: =IF('Műszaki adattábla'!E20="","",'Műszaki adattábla'!Q20) -> 92893 | F28: =IF(D28="","",VLOOKUP(D28,'Műszaki adattábla'!E:N,8,0)) -> 6 | G28: =IF(D28="","",IF('Műszaki adattábla'!K20="20-99",IF('Műszaki adattábla'!N20="","Nem adott meg lekötött teljesítményt",VLOOKUP(D28,'Műszaki adattábla'!E:P,10,0)),0)) -> 0 | H28: =IF(D28="","",VLOOKUP(D28,'Műszaki adattábla'!E:Q,11,0)) -> 0 | I28: 1973.63 | J28: 1169.71 | K28: =IF(D28="","",ROUND((F28*I28*'Műszaki adattábla'!$C$6/'Műszaki adattábla'!$C$7)+(G28*I28)+(H28*I28)/12*$D$7,0)) -> 124999 | L28: =IF(D28="","",ROUND((J28/1000)*E28,0)) -> 108658
B29: =IF(D29="","",B28+1) -> 8 | C29: =IF(D29="","",VLOOKUP(D29,'Műszaki adattábla'!E:H,2,0)) -> Budapest, Kerepesi út 47-49. | D29: =IF('Műszaki adattábla'!E21="","",'Műszaki adattábla'!E21) -> 39N060912658000A | E29: =IF('Műszaki adattábla'!E21="","",'Műszaki adattábla'!Q21) -> 221884 | F29: =IF(D29="","",VLOOKUP(D29,'Műszaki adattábla'!E:N,8,0)) -> 16 | G29: =IF(D29="","",IF('Műszaki adattábla'!K21="20-99",IF('Műszaki adattábla'!N21="","Nem adott meg lekötött teljesítményt",VLOOKUP(D29,'Műszaki adattábla'!E:P,10,0)),0)) -> 0 | H29: =IF(D29="","",VLOOKUP(D29,'Műszaki adattábla'!E:Q,11,0)) -> 0 | I29: 1973.63 | J29: 131.18 | K29: =IF(D29="","",ROUND((F29*I29*'Műszaki adattábla'!$C$6/'Műszaki adattábla'!$C$7)+(G29*I29)+(H29*I29)/12*$D$7,0)) -> 333332 | L29: =IF(D29="","",ROUND((J29/1000)*E29,0)) -> 29107
B30: =IF(D30="","",B29+1) -> 9 | C30: =IF(D30="","",VLOOKUP(D30,'Műszaki adattábla'!E:H,2,0)) -> 1117 Budapest, Budafoki út 60.sz. | D30: =IF('Műszaki adattábla'!E22="","",'Műszaki adattábla'!E22) -> 39N0600063370004 | E30: =IF('Műszaki adattábla'!E22="","",'Műszaki adattábla'!Q22) -> 1422858 | F30: =IF(D30="","",VLOOKUP(D30,'Műszaki adattábla'!E:N,8,0)) -> 0 | G30: =IF(D30="","",IF('Műszaki adattábla'!K22="20-99",IF('Műszaki adattábla'!N22="","Nem adott meg lekötött teljesítményt",VLOOKUP(D30,'Műszaki adattábla'!E:P,10,0)),0)) -> 0 | H30: =IF(D30="","",VLOOKUP(D30,'Műszaki adattábla'!E:Q,11,0)) -> 1478 | I30: 2721.89 | J30: 122.75 | K30: =IF(D30="","",ROUND((F30*I30*'Műszaki adattábla'!$C$6/'Műszaki adattábla'!$C$7)+(G30*I30)+(H30*I30)/12*$D$7,0)) -> 4022953 | L30: =IF(D30="","",ROUND((J30/1000)*E30,0)) -> 174656
B31: =IF(D31="","",B30+1) -> 10 | C31: =IF(D31="","",VLOOKUP(D31,'Műszaki adattábla'!E:H,2,0)) -> 1117 Budapest, Budafoki út 60.sz. | D31: =IF('Műszaki adattábla'!E23="","",'Műszaki adattábla'!E23) -> 39N061166020000S | E31: =IF('Műszaki adattábla'!E23="","",'Műszaki adattábla'!Q23) -> 220954 | F31: =IF(D31="","",VLOOKUP(D31,'Műszaki adattábla'!E:N,8,0)) -> 0 | G31: =IF(D31="","",IF('Műszaki adattábla'!K23="20-99",IF('Műszaki adattábla'!N23="","Nem adott meg lekötött teljesítményt",VLOOKUP(D31,'Műszaki adattábla'!E:P,10,0)),0)) -> 263 | H31: =IF(D31="","",VLOOKUP(D31,'Műszaki adattábla'!E:Q,11,0)) -> 0 | I31: 2804.11 | J31: 131.18 | K31: =IF(D31="","",ROUND((F31*I31*'Műszaki adattábla'!$C$6/'Műszaki adattábla'!$C$7)+(G31*I31)+(H31*I31)/12*$D$7,0)) -> 737481 | L31: =IF(D31="","",ROUND((J31/1000)*E31,0)) -> 28985
B32: =IF(D32="","",B31+1) -> 11 | C32: =IF(D32="","",VLOOKUP(D32,'Műszaki adattábla'!E:H,2,0)) -> Szeged, dr.Boros József utca 5. | D32: =IF('Műszaki adattábla'!E24="","",'Műszaki adattábla'!E24) -> 39N050751898000D | E32: =IF('Műszaki adattábla'!E24="","",'Műszaki adattábla'!Q24) -> 472902 | F32: =IF(D32="","",VLOOKUP(D32,'Műszaki adattábla'!E:N,8,0)) -> 0 | G32: =IF(D32="","",IF('Műszaki adattábla'!K24="20-99",IF('Műszaki adattábla'!N24="","Nem adott meg lekötött teljesítményt",VLOOKUP(D32,'Műszaki adattábla'!E:P,10,0)),0)) -> 525 | H32: =IF(D32="","",VLOOKUP(D32,'Műszaki adattábla'!E:Q,11,0)) -> 0 | I32: 1875.5 | J32: 164.72 | K32: =IF(D32="","",ROUND((F32*I32*'Műszaki adattábla'!$C$6/'Műszaki adattábla'!$C$7)+(G32*I32)+(H32*I32)/12*$D$7,0)) -> 984638 | L32: =IF(D32="","",ROUND((J32/1000)*E32,0)) -> 77896
B33: =IF(D33="","",B32+1) -> 12 | C33: =IF(D33="","",VLOOKUP(D33,'Műszaki adattábla'!E:H,2,0)) -> 1112 Budapest,Törökbálinti út 4/b | D33: =IF('Műszaki adattábla'!E25="","",'Műszaki adattábla'!E25) -> 39N0613367580002 | E33: =IF('Műszaki adattábla'!E25="","",'Műszaki adattábla'!Q25) -> 14672 | F33: =IF(D33="","",VLOOKUP(D33,'Műszaki adattábla'!E:N,8,0)) -> 4 | G33: =IF(D33="","",IF('Műszaki adattábla'!K25="20-99",IF('Műszaki adattábla'!N25="","Nem adott meg lekötött teljesítményt",VLOOKUP(D33,'Műszaki adattábla'!E:P,10,0)),0)) -> 0 | H33: =IF(D33="","",VLOOKUP(D33,'Műszaki adattábla'!E:Q,11,0)) -> 0 | I33: 1973.63 | J33: 131.18 | K33: =IF(D33="","",ROUND((F33*I33*'Műszaki adattábla'!$C$6/'Műszaki adattábla'!$C$7)+(G33*I33)+(H33*I33)/12*$D$7,0)) -> 83333 | L33: =IF(D33="","",ROUND((J33/1000)*E33,0)) -> 1925
B34: =IF(D34="","",B33+1) -> 13 | C34: =IF(D34="","",VLOOKUP(D34,'Műszaki adattábla'!E:H,2,0)) -> 8000 Székesfehérvár, József A.u.38.sz. | D34: =IF('Műszaki adattábla'!E26="","",'Műszaki adattábla'!E26) -> 39N030288529000P | E34: =IF('Műszaki adattábla'!E26="","",'Műszaki adattábla'!Q26) -> 94430 | F34: =IF(D34="","",VLOOKUP(D34,'Műszaki adattábla'!E:N,8,0)) -> 0 | G34: =IF(D34="","",IF('Műszaki adattábla'!K26="20-99",IF('Műszaki adattábla'!N26="","Nem adott meg lekötött teljesítményt",VLOOKUP(D34,'Műszaki adattábla'!E:P,10,0)),0)) -> 263 | H34: =IF(D34="","",VLOOKUP(D34,'Műszaki adattábla'!E:Q,11,0)) -> 0 | I34: 3089.46 | J34: 180.21 | K34: =IF(D34="","",ROUND((F34*I34*'Műszaki adattábla'!$C$6/'Műszaki adattábla'!$C$7)+(G34*I34)+(H34*I34)/12*$D$7,0)) -> 812528 | L34: =IF(D34="","",ROUND((J34/1000)*E34,0)) -> 17017
B35: =IF(D35="","",B34+1) -> 14 | C35: =IF(D35="","",VLOOKUP(D35,'Műszaki adattábla'!E:H,2,0)) -> 1104 Budapest, Harmat u. 131. | D35: =IF('Műszaki adattábla'!E27="","",'Műszaki adattábla'!E27) -> 39N060963471000V | E35: =IF('Műszaki adattábla'!E27="","",'Műszaki adattábla'!Q27) -> 188581 | F35: =IF(D35="","",VLOOKUP(D35,'Műszaki adattábla'!E:N,8,0)) -> 8 | G35: =IF(D35="","",IF('Műszaki adattábla'!K27="20-99",IF('Műszaki adattábla'!N27="","Nem adott meg lekötött teljesítményt",VLOOKUP(D35,'Műszaki adattábla'!E:P,10,0)),0)) -> 0 | H35: =IF(D35="","",VLOOKUP(D35,'Műszaki adattábla'!E:Q,11,0)) -> 0 | I35: 1973.63 | J35: 131.18 | K35: =IF(D35="","",ROUND((F35*I35*'Műszaki adattábla'!$C$6/'Műszaki adattábla'!$C$7)+(G35*I35)+(H35*I35)/12*$D$7,0)) -> 166666 | L35: =IF(D35="","",ROUND((J35/1000)*E35,0)) -> 24738
B36: =IF(D36="","",B35+1) -> 15 | C36: =IF(D36="","",VLOOKUP(D36,'Műszaki adattábla'!E:H,2,0)) -> 7102 Szekszárd, Szent István tér 23. | D36: =IF('Műszaki adattábla'!E28="","",'Műszaki adattábla'!E28) -> 39N0302499440001 | E36: =IF('Műszaki adattábla'!E28="","",'Műszaki adattábla'!Q28) -> 76849 | F36: =IF(D36="","",VLOOKUP(D36,'Műszaki adattábla'!E:N,8,0)) -> 6 | G36: =IF(D36="","",IF('Műszaki adattábla'!K28="20-99",IF('Műszaki adattábla'!N28="","Nem adott meg lekötött teljesítményt",VLOOKUP(D36,'Műszaki adattábla'!E:P,10,0)),0)) -> 0 | H36: =IF(D36="","",VLOOKUP(D36,'Műszaki adattábla'!E:Q,11,0)) -> 0 | I36: 1973.63 | J36: 1333.04 | K36: =IF(D36="","",ROUND((F36*I36*'Műszaki adattábla'!$C$6/'Műszaki adattábla'!$C$7)+(G36*I36)+(H36*I36)/12*$D$7,0)) -> 124999 | L36: =IF(D36="","",ROUND((J36/1000)*E36,0)) -> 102443
B37: =IF(D37="","",B36+1) -> 16 | C37: =IF(D37="","",VLOOKUP(D37,'Műszaki adattábla'!E:H,2,0)) -> 3526 Miskolc, Hatvanötösök útja 2. | D37: =IF('Műszaki adattábla'!E29="","",'Műszaki adattábla'!E29) -> 39N112634376000D | E37: =IF('Műszaki adattábla'!E29="","",'Műszaki adattábla'!Q29) -> 39808 | F37: =IF(D37="","",VLOOKUP(D37,'Műszaki adattábla'!E:N,8,0)) -> 6 | G37: =IF(D37="","",IF('Műszaki adattábla'!K29="20-99",IF('Műszaki adattábla'!N29="","Nem adott meg lekötött teljesítményt",VLOOKUP(D37,'Műszaki adattábla'!E:P,10,0)),0)) -> 0 | H37: =IF(D37="","",VLOOKUP(D37,'Műszaki adattábla'!E:Q,11,0)) -> 0 | I37: 1973.63 | J37: 1169.71 | K37: =IF(D37="","",ROUND((F37*I37*'Műszaki adattábla'!$C$6/'Műszaki adattábla'!$C$7)+(G37*I37)+(H37*I37)/12*$D$7,0)) -> 124999 | L37: =IF(D37="","",ROUND((J37/1000)*E37,0)) -> 46564
... B1336: =IF(D1336="","",B1335+1) -> 1315 | C1336: =IF(D1336="","",VLOOKUP(D1336,'Műszaki adattábla'!E:H,2,0)) -> NBSZ13 | D1336: =IF('Műszaki adattábla'!E1328="","",'Műszaki adattábla'!E1328) -> 39N061005816000K | E1336: =IF('Műszaki adattábla'!E1328="","",'Műszaki adattábla'!Q1328) -> 0 | F1336: =IF(D1336="","",VLOOKUP(D1336,'Műszaki adattábla'!E:N,8,0)) -> 4 | G1336: =IF(D1336="","",IF('Műszaki adattábla'!K1328="20-99",IF('Műszaki adattábla'!N1328="","Nem adott meg lekötött teljesítményt",VLOOKUP(D1336,'Műszaki adattábla'!E:P,10,0)),0)) -> 0 | H1336: =IF(D1336="","",VLOOKUP(D1336,'Műszaki adattábla'!E:Q,11,0)) -> 0 | I1336: 1973.63 | J1336: 131.18 | K1336: =IF(D1336="","",ROUND((F1336*I1336*'Műszaki adattábla'!$C$6/'Műszaki adattábla'!$C$7)+(G1336*I1336)+(H1336*I1336)/12*$D$7,0)) -> 83333 | L1336: =IF(D1336="","",ROUND((J1336/1000)*E1336,0)) -> 0
B1337: =IF(D1337="","",B1336+1) | C1337: =IF(D1337="","",VLOOKUP(D1337,'Műszaki adattábla'!E:H,2,0)) | D1337: =IF('Műszaki adattábla'!E1329="","",'Műszaki adattábla'!E1329) | E1337: =IF('Műszaki adattábla'!E1329="","",'Műszaki adattábla'!Q1329) | F1337: =IF(D1337="","",VLOOKUP(D1337,'Műszaki adattábla'!E:N,8,0)) | G1337: =IF(D1337="","",IF('Műszaki adattábla'!K1329="20-99",IF('Műszaki adattábla'!N1329="","Nem adott meg lekötött teljesítményt",VLOOKUP(D1337,'Műszaki adattábla'!E:P,10,0)),0)) | H1337: =IF(D1337="","",VLOOKUP(D1337,'Műszaki adattábla'!E:Q,11,0)) | K1337: =IF(D1337="","",ROUND((F1337*I1337*'Műszaki adattábla'!$C$6/'Műszaki adattábla'!$C$7)+(G1337*I1337)+(H1337*I1337)/12*$D$7,0)) | L1337: =IF(D1337="","",ROUND((J1337/1000)*E1337,0))
B1338: =IF(D1338="","",B1337+1) | C1338: =IF(D1338="","",VLOOKUP(D1338,'Műszaki adattábla'!E:H,2,0)) | D1338: =IF('Műszaki adattábla'!E1330="","",'Műszaki adattábla'!E1330) | E1338: =IF('Műszaki adattábla'!E1330="","",'Műszaki adattábla'!Q1330) | F1338: =IF(D1338="","",VLOOKUP(D1338,'Műszaki adattábla'!E:N,8,0)) | G1338: =IF(D1338="","",IF('Műszaki adattábla'!K1330="20-99",IF('Műszaki adattábla'!N1330="","Nem adott meg lekötött teljesítményt",VLOOKUP(D1338,'Műszaki adattábla'!E:P,10,0)),0)) | H1338: =IF(D1338="","",VLOOKUP(D1338,'Műszaki adattábla'!E:Q,11,0)) | K1338: =IF(D1338="","",ROUND((F1338*I1338*'Műszaki adattábla'!$C$6/'Műszaki adattábla'!$C$7)+(G1338*I1338)+(H1338*I1338)/12*$D$7,0)) | L1338: =IF(D1338="","",ROUND((J1338/1000)*E1338,0))
B1339: =IF(D1339="","",B1338+1) | C1339: =IF(D1339="","",VLOOKUP(D1339,'Műszaki adattábla'!E:H,2,0)) | D1339: =IF('Műszaki adattábla'!E1331="","",'Műszaki adattábla'!E1331) | E1339: =IF('Műszaki adattábla'!E1331="","",'Műszaki adattábla'!Q1331) | F1339: =IF(D1339="","",VLOOKUP(D1339,'Műszaki adattábla'!E:N,8,0)) | G1339: =IF(D1339="","",IF('Műszaki adattábla'!K1331="20-99",IF('Műszaki adattábla'!N1331="","Nem adott meg lekötött teljesítményt",VLOOKUP(D1339,'Műszaki adattábla'!E:P,10,0)),0)) | H1339: =IF(D1339="","",VLOOKUP(D1339,'Műszaki adattábla'!E:Q,11,0)) | K1339: =IF(D1339="","",ROUND((F1339*I1339*'Műszaki adattábla'!$C$6/'Műszaki adattábla'!$C$7)+(G1339*I1339)+(H1339*I1339)/12*$D$7,0)) | L1339: =IF(D1339="","",ROUND((J1339/1000)*E1339,0))
B1340: =IF(D1340="","",B1339+1) | C1340: =IF(D1340="","",VLOOKUP(D1340,'Műszaki adattábla'!E:H,2,0)) | D1340: =IF('Műszaki adattábla'!E1332="","",'Műszaki adattábla'!E1332) | E1340: =IF('Műszaki adattábla'!E1332="","",'Műszaki adattábla'!Q1332) | F1340: =IF(D1340="","",VLOOKUP(D1340,'Műszaki adattábla'!E:N,8,0)) | G1340: =IF(D1340="","",IF('Műszaki adattábla'!K1332="20-99",IF('Műszaki adattábla'!N1332="","Nem adott meg lekötött teljesítményt",VLOOKUP(D1340,'Műszaki adattábla'!E:P,10,0)),0)) | H1340: =IF(D1340="","",VLOOKUP(D1340,'Műszaki adattábla'!E:Q,11,0)) | K1340: =IF(D1340="","",ROUND((F1340*I1340*'Műszaki adattábla'!$C$6/'Műszaki adattábla'!$C$7)+(G1340*I1340)+(H1340*I1340)/12*$D$7,0)) | L1340: =IF(D1340="","",ROUND((J1340/1000)*E1340,0))
B1341: =IF(D1341="","",B1340+1) | C1341: =IF(D1341="","",VLOOKUP(D1341,'Műszaki adattábla'!E:H,2,0)) | D1341: =IF('Műszaki adattábla'!E1333="","",'Műszaki adattábla'!E1333) | E1341: =IF('Műszaki adattábla'!E1333="","",'Műszaki adattábla'!Q1333) | F1341: =IF(D1341="","",VLOOKUP(D1341,'Műszaki adattábla'!E:N,8,0)) | G1341: =IF(D1341="","",IF('Műszaki adattábla'!K1333="20-99",IF('Műszaki adattábla'!N1333="","Nem adott meg lekötött teljesítményt",VLOOKUP(D1341,'Műszaki adattábla'!E:P,10,0)),0)) | H1341: =IF(D1341="","",VLOOKUP(D1341,'Műszaki adattábla'!E:Q,11,0)) | K1341: =IF(D1341="","",ROUND((F1341*I1341*'Műszaki adattábla'!$C$6/'Műszaki adattábla'!$C$7)+(G1341*I1341)+(H1341*I1341)/12*$D$7,0)) | L1341: =IF(D1341="","",ROUND((J1341/1000)*E1341,0))
B1342: =IF(D1342="","",B1341+1) | C1342: =IF(D1342="","",VLOOKUP(D1342,'Műszaki adattábla'!E:H,2,0)) | D1342: =IF('Műszaki adattábla'!E1334="","",'Műszaki adattábla'!E1334) | E1342: =IF('Műszaki adattábla'!E1334="","",'Műszaki adattábla'!Q1334) | F1342: =IF(D1342="","",VLOOKUP(D1342,'Műszaki adattábla'!E:N,8,0)) | G1342: =IF(D1342="","",IF('Műszaki adattábla'!K1334="20-99",IF('Műszaki adattábla'!N1334="","Nem adott meg lekötött teljesítményt",VLOOKUP(D1342,'Műszaki adattábla'!E:P,10,0)),0)) | H1342: =IF(D1342="","",VLOOKUP(D1342,'Műszaki adattábla'!E:Q,11,0)) | K1342: =IF(D1342="","",ROUND((F1342*I1342*'Műszaki adattábla'!$C$6/'Műszaki adattábla'!$C$7)+(G1342*I1342)+(H1342*I1342)/12*$D$7,0)) | L1342: =IF(D1342="","",ROUND((J1342/1000)*E1342,0))
B1343: =IF(D1343="","",B1342+1) | C1343: =IF(D1343="","",VLOOKUP(D1343,'Műszaki adattábla'!E:H,2,0)) | D1343: =IF('Műszaki adattábla'!E1335="","",'Műszaki adattábla'!E1335) | E1343: =IF('Műszaki adattábla'!E1335="","",'Műszaki adattábla'!Q1335) | F1343: =IF(D1343="","",VLOOKUP(D1343,'Műszaki adattábla'!E:N,8,0)) | G1343: =IF(D1343="","",IF('Műszaki adattábla'!K1335="20-99",IF('Műszaki adattábla'!N1335="","Nem adott meg lekötött teljesítményt",VLOOKUP(D1343,'Műszaki adattábla'!E:P,10,0)),0)) | H1343: =IF(D1343="","",VLOOKUP(D1343,'Műszaki adattábla'!E:Q,11,0)) | K1343: =IF(D1343="","",ROUND((F1343*I1343*'Műszaki adattábla'!$C$6/'Műszaki adattábla'!$C$7)+(G1343*I1343)+(H1343*I1343)/12*$D$7,0)) | L1343: =IF(D1343="","",ROUND((J1343/1000)*E1343,0))
B1344: =IF(D1344="","",B1343+1) | C1344: =IF(D1344="","",VLOOKUP(D1344,'Műszaki adattábla'!E:H,2,0)) | D1344: =IF('Műszaki adattábla'!E1336="","",'Műszaki adattábla'!E1336) | E1344: =IF('Műszaki adattábla'!E1336="","",'Műszaki adattábla'!Q1336) | F1344: =IF(D1344="","",VLOOKUP(D1344,'Műszaki adattábla'!E:N,8,0)) | G1344: =IF(D1344="","",IF('Műszaki adattábla'!K1336="20-99",IF('Műszaki adattábla'!N1336="","Nem adott meg lekötött teljesítményt",VLOOKUP(D1344,'Műszaki adattábla'!E:P,10,0)),0)) | H1344: =IF(D1344="","",VLOOKUP(D1344,'Műszaki adattábla'!E:Q,11,0)) | K1344: =IF(D1344="","",ROUND((F1344*I1344*'Műszaki adattábla'!$C$6/'Műszaki adattábla'!$C$7)+(G1344*I1344)+(H1344*I1344)/12*$D$7,0)) | L1344: =IF(D1344="","",ROUND((J1344/1000)*E1344,0))
B1345: =IF(D1345="","",B1344+1) | C1345: =IF(D1345="","",VLOOKUP(D1345,'Műszaki adattábla'!E:H,2,0)) | D1345: =IF('Műszaki adattábla'!E1337="","",'Műszaki adattábla'!E1337) | E1345: =IF('Műszaki adattábla'!E1337="","",'Műszaki adattábla'!Q1337) | F1345: =IF(D1345="","",VLOOKUP(D1345,'Műszaki adattábla'!E:N,8,0)) | G1345: =IF(D1345="","",IF('Műszaki adattábla'!K1337="20-99",IF('Műszaki adattábla'!N1337="","Nem adott meg lekötött teljesítményt",VLOOKUP(D1345,'Műszaki adattábla'!E:P,10,0)),0)) | H1345: =IF(D1345="","",VLOOKUP(D1345,'Műszaki adattábla'!E:Q,11,0)) | K1345: =IF(D1345="","",ROUND((F1345*I1345*'Műszaki adattábla'!$C$6/'Műszaki adattábla'!$C$7)+(G1345*I1345)+(H1345*I1345)/12*$D$7,0)) | L1345: =IF(D1345="","",ROUND((J1345/1000)*E1345,0))
B1346: =IF(D1346="","",B1345+1) | C1346: =IF(D1346="","",VLOOKUP(D1346,'Műszaki adattábla'!E:H,2,0)) | D1346: =IF('Műszaki adattábla'!E1338="","",'Műszaki adattábla'!E1338) | E1346: =IF('Műszaki adattábla'!E1338="","",'Műszaki adattábla'!Q1338) | F1346: =IF(D1346="","",VLOOKUP(D1346,'Műszaki adattábla'!E:N,8,0)) | G1346: =IF(D1346="","",IF('Műszaki adattábla'!K1338="20-99",IF('Műszaki adattábla'!N1338="","Nem adott meg lekötött teljesítményt",VLOOKUP(D1346,'Műszaki adattábla'!E:P,10,0)),0)) | H1346: =IF(D1346="","",VLOOKUP(D1346,'Műszaki adattábla'!E:Q,11,0)) | K1346: =IF(D1346="","",ROUND((F1346*I1346*'Műszaki adattábla'!$C$6/'Műszaki adattábla'!$C$7)+(G1346*I1346)+(H1346*I1346)/12*$D$7,0)) | L1346: =IF(D1346="","",ROUND((J1346/1000)*E1346,0))
B1347: =IF(D1347="","",B1346+1) | C1347: =IF(D1347="","",VLOOKUP(D1347,'Műszaki adattábla'!E:H,2,0)) | D1347: =IF('Műszaki adattábla'!E1339="","",'Műszaki adattábla'!E1339) | E1347: =IF('Műszaki adattábla'!E1339="","",'Műszaki adattábla'!Q1339) | F1347: =IF(D1347="","",VLOOKUP(D1347,'Műszaki adattábla'!E:N,8,0)) | G1347: =IF(D1347="","",IF('Műszaki adattábla'!K1339="20-99",IF('Műszaki adattábla'!N1339="","Nem adott meg lekötött teljesítményt",VLOOKUP(D1347,'Műszaki adattábla'!E:P,10,0)),0)) | H1347: =IF(D1347="","",VLOOKUP(D1347,'Műszaki adattábla'!E:Q,11,0)) | K1347: =IF(D1347="","",ROUND((F1347*I1347*'Műszaki adattábla'!$C$6/'Műszaki adattábla'!$C$7)+(G1347*I1347)+(H1347*I1347)/12*$D$7,0)) | L1347: =IF(D1347="","",ROUND((J1347/1000)*E1347,0))
B1348: =IF(D1348="","",B1347+1) | C1348: =IF(D1348="","",VLOOKUP(D1348,'Műszaki adattábla'!E:H,2,0)) | D1348: =IF('Műszaki adattábla'!E1340="","",'Műszaki adattábla'!E1340) | E1348: =IF('Műszaki adattábla'!E1340="","",'Műszaki adattábla'!Q1340) | F1348: =IF(D1348="","",VLOOKUP(D1348,'Műszaki adattábla'!E:N,8,0)) | G1348: =IF(D1348="","",IF('Műszaki adattábla'!K1340="20-99",IF('Műszaki adattábla'!N1340="","Nem adott meg lekötött teljesítményt",VLOOKUP(D1348,'Műszaki adattábla'!E:P,10,0)),0)) | H1348: =IF(D1348="","",VLOOKUP(D1348,'Műszaki adattábla'!E:Q,11,0)) | K1348: =IF(D1348="","",ROUND((F1348*I1348*'Műszaki adattábla'!$C$6/'Műszaki adattábla'!$C$7)+(G1348*I1348)+(H1348*I1348)/12*$D$7,0)) | L1348: =IF(D1348="","",ROUND((J1348/1000)*E1348,0))
... B1395: =IF(D1395="","",B1394+1) | C1395: =IF(D1395="","",VLOOKUP(D1395,'Műszaki adattábla'!E:H,2,0)) | D1395: =IF('Műszaki adattábla'!E1387="","",'Műszaki adattábla'!E1387) | E1395: =IF('Műszaki adattábla'!E1387="","",'Műszaki adattábla'!Q1387) | F1395: =IF(D1395="","",VLOOKUP(D1395,'Műszaki adattábla'!E:N,8,0)) | G1395: =IF(D1395="","",IF('Műszaki adattábla'!K1387="20-99",IF('Műszaki adattábla'!N1387="","Nem adott meg lekötött teljesítményt",VLOOKUP(D1395,'Műszaki adattábla'!E:P,10,0)),0)) | H1395: =IF(D1395="","",VLOOKUP(D1395,'Műszaki adattábla'!E:Q,11,0)) | K1395: =IF(D1395="","",ROUND((F1395*I1395*'Műszaki adattábla'!$C$6/'Műszaki adattábla'!$C$7)+(G1395*I1395)+(H1395*I1395)/12*$D$7,0)) | L1395: =IF(D1395="","",ROUND((J1395/1000)*E1395,0))
B1396: =IF(D1396="","",B1395+1) | C1396: =IF(D1396="","",VLOOKUP(D1396,'Műszaki adattábla'!E:H,2,0)) | D1396: =IF('Műszaki adattábla'!E1329="","",'Műszaki adattábla'!E1329) | E1396: =IF(D1396="","",VLOOKUP(D1396,'Műszaki adattábla'!E:S,13,0)) | F1396: =IF(D1396="","",VLOOKUP(D1396,'Műszaki adattábla'!E:N,8,0)) | G1396: =IF(D1396="","",IF('Műszaki adattábla'!K1329="20-99",IF('Műszaki adattábla'!N1329="","Nem adott meg lekötött teljesítményt",VLOOKUP(D1396,'Műszaki adattábla'!E:P,10,0)),0)) | H1396: =IF(D1396="","",VLOOKUP(D1396,'Műszaki adattábla'!E:Q,11,0)) | K1396: =IF(D1396="","",ROUND((F1396*I1396*'Műszaki adattábla'!$C$6/'Műszaki adattábla'!$C$7)+(G1396*I1396)+(H1396*I1396)/12*$D$7,0)) | L1396: =IF(D1396="","",ROUND((J1396/1000)*E1396,0))
B1397: =IF(D1397="","",B1396+1) | C1397: =IF(D1397="","",VLOOKUP(D1397,'Műszaki adattábla'!E:H,2,0)) | D1397: =IF('Műszaki adattábla'!E1330="","",'Műszaki adattábla'!E1330) | E1397: =IF(D1397="","",VLOOKUP(D1397,'Műszaki adattábla'!E:S,13,0)) | F1397: =IF(D1397="","",VLOOKUP(D1397,'Műszaki adattábla'!E:N,8,0)) | G1397: =IF(D1397="","",IF('Műszaki adattábla'!K1330="20-99",IF('Műszaki adattábla'!N1330="","Nem adott meg lekötött teljesítményt",VLOOKUP(D1397,'Műszaki adattábla'!E:P,10,0)),0)) | H1397: =IF(D1397="","",VLOOKUP(D1397,'Műszaki adattábla'!E:Q,11,0)) | K1397: =IF(D1397="","",ROUND((F1397*I1397*'Műszaki adattábla'!$C$6/'Műszaki adattábla'!$C$7)+(G1397*I1397)+(H1397*I1397)/12*$D$7,0)) | L1397: =IF(D1397="","",ROUND((J1397/1000)*E1397,0))
B1398: =IF(D1398="","",B1397+1) | C1398: =IF(D1398="","",VLOOKUP(D1398,'Műszaki adattábla'!E:H,2,0)) | D1398: =IF('Műszaki adattábla'!E1331="","",'Műszaki adattábla'!E1331) | E1398: =IF(D1398="","",VLOOKUP(D1398,'Műszaki adattábla'!E:S,13,0)) | F1398: =IF(D1398="","",VLOOKUP(D1398,'Műszaki adattábla'!E:N,8,0)) | G1398: =IF(D1398="","",IF('Műszaki adattábla'!K1331="20-99",IF('Műszaki adattábla'!N1331="","Nem adott meg lekötött teljesítményt",VLOOKUP(D1398,'Műszaki adattábla'!E:P,10,0)),0)) | H1398: =IF(D1398="","",VLOOKUP(D1398,'Műszaki adattábla'!E:Q,11,0)) | K1398: =IF(D1398="","",ROUND((F1398*I1398*'Műszaki adattábla'!$C$6/'Műszaki adattábla'!$C$7)+(G1398*I1398)+(H1398*I1398)/12*$D$7,0)) | L1398: =IF(D1398="","",ROUND((J1398/1000)*E1398,0))
B1399: =IF(D1399="","",B1398+1) | C1399: =IF(D1399="","",VLOOKUP(D1399,'Műszaki adattábla'!E:H,2,0)) | D1399: =IF('Műszaki adattábla'!E1332="","",'Műszaki adattábla'!E1332) | E1399: =IF(D1399="","",VLOOKUP(D1399,'Műszaki adattábla'!E:S,13,0)) | F1399: =IF(D1399="","",VLOOKUP(D1399,'Műszaki adattábla'!E:N,8,0)) | G1399: =IF(D1399="","",IF('Műszaki adattábla'!K1332="20-99",IF('Műszaki adattábla'!N1332="","Nem adott meg lekötött teljesítményt",VLOOKUP(D1399,'Műszaki adattábla'!E:P,10,0)),0)) | H1399: =IF(D1399="","",VLOOKUP(D1399,'Műszaki adattábla'!E:Q,11,0)) | K1399: =IF(D1399="","",ROUND((F1399*I1399*'Műszaki adattábla'!$C$6/'Műszaki adattábla'!$C$7)+(G1399*I1399)+(H1399*I1399)/12*$D$7,0)) | L1399: =IF(D1399="","",ROUND((J1399/1000)*E1399,0))
B1400: =IF(D1400="","",B1399+1) | C1400: =IF(D1400="","",VLOOKUP(D1400,'Műszaki adattábla'!E:H,2,0)) | D1400: =IF('Műszaki adattábla'!E1333="","",'Műszaki adattábla'!E1333) | E1400: =IF(D1400="","",VLOOKUP(D1400,'Műszaki adattábla'!E:S,13,0)) | F1400: =IF(D1400="","",VLOOKUP(D1400,'Műszaki adattábla'!E:N,8,0)) | G1400: =IF(D1400="","",IF('Műszaki adattábla'!K1333="20-99",IF('Műszaki adattábla'!N1333="","Nem adott meg lekötött teljesítményt",VLOOKUP(D1400,'Műszaki adattábla'!E:P,10,0)),0)) | H1400: =IF(D1400="","",VLOOKUP(D1400,'Műszaki adattábla'!E:Q,11,0)) | K1400: =IF(D1400="","",ROUND((F1400*I1400*'Műszaki adattábla'!$C$6/'Műszaki adattábla'!$C$7)+(G1400*I1400)+(H1400*I1400)/12*$D$7,0)) | L1400: =IF(D1400="","",ROUND((J1400/1000)*E1400,0))
B1401: =IF(D1401="","",B1400+1) | C1401: =IF(D1401="","",VLOOKUP(D1401,'Műszaki adattábla'!E:H,2,0)) | D1401: =IF('Műszaki adattábla'!E1334="","",'Műszaki adattábla'!E1334) | E1401: =IF(D1401="","",VLOOKUP(D1401,'Műszaki adattábla'!E:S,13,0)) | F1401: =IF(D1401="","",VLOOKUP(D1401,'Műszaki adattábla'!E:N,8,0)) | G1401: =IF(D1401="","",IF('Műszaki adattábla'!K1334="20-99",IF('Műszaki adattábla'!N1334="","Nem adott meg lekötött teljesítményt",VLOOKUP(D1401,'Műszaki adattábla'!E:P,10,0)),0)) | H1401: =IF(D1401="","",VLOOKUP(D1401,'Műszaki adattábla'!E:Q,11,0)) | K1401: =IF(D1401="","",ROUND((F1401*I1401*'Műszaki adattábla'!$C$6/'Műszaki adattábla'!$C$7)+(G1401*I1401)+(H1401*I1401)/12*$D$7,0)) | L1401: =IF(D1401="","",ROUND((J1401/1000)*E1401,0))
B1402: =IF(D1402="","",B1401+1) | C1402: =IF(D1402="","",VLOOKUP(D1402,'Műszaki adattábla'!E:H,2,0)) | D1402: =IF('Műszaki adattábla'!E1335="","",'Műszaki adattábla'!E1335) | E1402: =IF(D1402="","",VLOOKUP(D1402,'Műszaki adattábla'!E:S,13,0)) | F1402: =IF(D1402="","",VLOOKUP(D1402,'Műszaki adattábla'!E:N,8,0)) | G1402: =IF(D1402="","",IF('Műszaki adattábla'!K1335="20-99",IF('Műszaki adattábla'!N1335="","Nem adott meg lekötött teljesítményt",VLOOKUP(D1402,'Műszaki adattábla'!E:P,10,0)),0)) | H1402: =IF(D1402="","",VLOOKUP(D1402,'Műszaki adattábla'!E:Q,11,0)) | K1402: =IF(D1402="","",ROUND((F1402*I1402*'Műszaki adattábla'!$C$6/'Műszaki adattábla'!$C$7)+(G1402*I1402)+(H1402*I1402)/12*$D$7,0)) | L1402: =IF(D1402="","",ROUND((J1402/1000)*E1402,0))
B1403: =IF(D1403="","",B1402+1) | C1403: =IF(D1403="","",VLOOKUP(D1403,'Műszaki adattábla'!E:H,2,0)) | D1403: =IF('Műszaki adattábla'!E1336="","",'Műszaki adattábla'!E1336) | E1403: =IF(D1403="","",VLOOKUP(D1403,'Műszaki adattábla'!E:S,13,0)) | F1403: =IF(D1403="","",VLOOKUP(D1403,'Műszaki adattábla'!E:N,8,0)) | G1403: =IF(D1403="","",IF('Műszaki adattábla'!K1336="20-99",IF('Műszaki adattábla'!N1336="","Nem adott meg lekötött teljesítményt",VLOOKUP(D1403,'Műszaki adattábla'!E:P,10,0)),0)) | H1403: =IF(D1403="","",VLOOKUP(D1403,'Műszaki adattábla'!E:Q,11,0)) | K1403: =IF(D1403="","",ROUND((F1403*I1403*'Műszaki adattábla'!$C$6/'Műszaki adattábla'!$C$7)+(G1403*I1403)+(H1403*I1403)/12*$D$7,0)) | L1403: =IF(D1403="","",ROUND((J1403/1000)*E1403,0))
B1404: =IF(D1404="","",B1403+1) | C1404: =IF(D1404="","",VLOOKUP(D1404,'Műszaki adattábla'!E:H,2,0)) | D1404: =IF('Műszaki adattábla'!E1337="","",'Műszaki adattábla'!E1337) | E1404: =IF(D1404="","",VLOOKUP(D1404,'Műszaki adattábla'!E:S,13,0)) | F1404: =IF(D1404="","",VLOOKUP(D1404,'Műszaki adattábla'!E:N,8,0)) | G1404: =IF(D1404="","",IF('Műszaki adattábla'!K1337="20-99",IF('Műszaki adattábla'!N1337="","Nem adott meg lekötött teljesítményt",VLOOKUP(D1404,'Műszaki adattábla'!E:P,10,0)),0)) | H1404: =IF(D1404="","",VLOOKUP(D1404,'Műszaki adattábla'!E:Q,11,0)) | K1404: =IF(D1404="","",ROUND((F1404*I1404*'Műszaki adattábla'!$C$6/'Műszaki adattábla'!$C$7)+(G1404*I1404)+(H1404*I1404)/12*$D$7,0)) | L1404: =IF(D1404="","",ROUND((J1404/1000)*E1404,0))
B1405: =IF(D1405="","",B1404+1) | C1405: =IF(D1405="","",VLOOKUP(D1405,'Műszaki adattábla'!E:H,2,0)) | D1405: =IF('Műszaki adattábla'!E1338="","",'Műszaki adattábla'!E1338) | E1405: =IF(D1405="","",VLOOKUP(D1405,'Műszaki adattábla'!E:S,13,0)) | F1405: =IF(D1405="","",VLOOKUP(D1405,'Műszaki adattábla'!E:N,8,0)) | G1405: =IF(D1405="","",IF('Műszaki adattábla'!K1338="20-99",IF('Műszaki adattábla'!N1338="","Nem adott meg lekötött teljesítményt",VLOOKUP(D1405,'Műszaki adattábla'!E:P,10,0)),0)) | H1405: =IF(D1405="","",VLOOKUP(D1405,'Műszaki adattábla'!E:Q,11,0)) | K1405: =IF(D1405="","",ROUND((F1405*I1405*'Műszaki adattábla'!$C$6/'Műszaki adattábla'!$C$7)+(G1405*I1405)+(H1405*I1405)/12*$D$7,0)) | L1405: =IF(D1405="","",ROUND((J1405/1000)*E1405,0))
B1406: =IF(D1406="","",B1405+1) | C1406: =IF(D1406="","",VLOOKUP(D1406,'Műszaki adattábla'!E:H,2,0)) | D1406: =IF('Műszaki adattábla'!E1339="","",'Műszaki adattábla'!E1339) | E1406: =IF(D1406="","",VLOOKUP(D1406,'Műszaki adattábla'!E:S,13,0)) | F1406: =IF(D1406="","",VLOOKUP(D1406,'Műszaki adattábla'!E:N,8,0)) | G1406: =IF(D1406="","",IF('Műszaki adattábla'!K1339="20-99",IF('Műszaki adattábla'!N1339="","Nem adott meg lekötött teljesítményt",VLOOKUP(D1406,'Műszaki adattábla'!E:P,10,0)),0)) | H1406: =IF(D1406="","",VLOOKUP(D1406,'Műszaki adattábla'!E:Q,11,0)) | K1406: =IF(D1406="","",ROUND((F1406*I1406*'Műszaki adattábla'!$C$6/'Műszaki adattábla'!$C$7)+(G1406*I1406)+(H1406*I1406)/12*$D$7,0)) | L1406: =IF(D1406="","",ROUND((J1406/1000)*E1406,0))
B1407: =IF(D1407="","",B1406+1) | C1407: =IF(D1407="","",VLOOKUP(D1407,'Műszaki adattábla'!E:H,2,0)) | D1407: =IF('Műszaki adattábla'!E1340="","",'Műszaki adattábla'!E1340) | E1407: =IF(D1407="","",VLOOKUP(D1407,'Műszaki adattábla'!E:S,13,0)) | F1407: =IF(D1407="","",VLOOKUP(D1407,'Műszaki adattábla'!E:N,8,0)) | G1407: =IF(D1407="","",IF('Műszaki adattábla'!K1340="20-99",IF('Műszaki adattábla'!N1340="","Nem adott meg lekötött teljesítményt",VLOOKUP(D1407,'Műszaki adattábla'!E:P,10,0)),0)) | H1407: =IF(D1407="","",VLOOKUP(D1407,'Műszaki adattábla'!E:Q,11,0)) | K1407: =IF(D1407="","",ROUND((F1407*I1407*'Műszaki adattábla'!$C$6/'Műszaki adattábla'!$C$7)+(G1407*I1407)+(H1407*I1407)/12*$D$7,0)) | L1407: =IF(D1407="","",ROUND((J1407/1000)*E1407,0))
... B2019: =IF(D2019="","",B2018+1) | C2019: =IF(D2019="","",VLOOKUP(D2019,'Műszaki adattábla'!E:H,2,0)) | D2019: =IF('Műszaki adattábla'!E1952="","",'Műszaki adattábla'!E1952) | E2019: =IF(D2019="","",VLOOKUP(D2019,'Műszaki adattábla'!E:S,13,0)) | F2019: =IF(D2019="","",VLOOKUP(D2019,'Műszaki adattábla'!E:N,8,0)) | G2019: =IF(D2019="","",IF('Műszaki adattábla'!K1952="20-99",IF('Műszaki adattábla'!N1952="","Nem adott meg lekötött teljesítményt",VLOOKUP(D2019,'Műszaki adattábla'!E:P,10,0)),0)) | H2019: =IF(D2019="","",VLOOKUP(D2019,'Műszaki adattábla'!E:Q,11,0)) | K2019: =IF(D2019="","",ROUND((F2019*I2019*'Műszaki adattábla'!$C$6/'Műszaki adattábla'!$C$7)+(G2019*I2019)+(H2019*I2019)/12*$D$7,0)) | L2019: =IF(D2019="","",ROUND((J2019/1000)*E2019,0))

Sheet Technikai cellák
A1: mérő nélküli | C1: Társaság neve | D1: Címe
A2: 20 alatti | C2: Csepeli Erőmű Kft. | D2: 1211 Budapest, Szinesfém utca 1-3
A3: 20-99 | B3: 39N16 | C3: E.GAS Gázelosztó Kft. | D3: 8800 Nagykanizsa, Csengery út 9.
A4: 100-500 | B4: 39N03 | C4: E.ON Dél-dunántúli Gázhálózati Zrt. | D4: 7626 Pécs, Búza tér 8/a
A5: 500- | B5: 39N04 | C5: E.ON Közép-dunántúli Gázhálózati Zrt. | D5: 8800 Nagykanizsa, Zrínyi Miklós út 32.
C6: ISD POWER Energiatermelő és Szolgáltató Kft. | D6: 2400 Dunaújváros, Vasmű tér 1-3.
A7: =TODAY() -> 44504 | B7: 39N10 | C7: Magyar Gázszolgáltató Kft. | D7: 8800 Nagykanizsa, Csengery út 9.
A8: =TEXT(A7,"ÉÉÉÉ. HHHH") -> 2021. november | B8: 39N08 | C8: NATURAL GAS SERVICE Ipari és Szolgáltató Kft. | D8: 4028 Debrecen, Laktanya u. 38. III/11
B9: 39N05 | C9: MVM ÉGÁZ-DÉGÁZ Földgázhálózati Zrt. | D9: 6724 Szeged, Pulcz u. 44.
B10: 39N06 | C10: MVM FŐGÁZ Földgázhálózati Kft. | D10: 1081 Budapest, II. János Pál pápa tér 20.
B11: 39N09 | C11: OERG Ózdi Energiaszolgáltató és Kereskedelmi Kft. | D11: 3600 Ózd, Gyár út 1.
B12: 39N11 | C12: TIGÁZ Földgázelosztó Zrt. | D12: 4200 Hajdúszoboszló, Rákóczi Ferenc út 184.
