Workbook

Sheet Műszaki adattábla
A1: Műszaki adattábla | H1: Szín magyarázat:
A2: FÖLDGÁZ KÖZBESZERZÉS | H2: = Ajánlatkérőnek a barna hátterű cellákat kell kitölteni.
A3: Szerződéses időszak kezdete: | C3: 44470 | H3: = A sárga hátterű cellákban és az "L", "M", "N" oszlopokban automatikusan számol. Nem kell adatokat ezekben megadni.
A4: Szerződéses időszak vége: | C4: 44834 | D4: =IF(C5<12,"Nincs meg az egy év!"," ") | H4: = A kék hátterű cellák mutatják, hogy milyen időtartományban kell megadni a "Tervezett fogyasztás a szerződött időszakban (m3)" adatokat
A5: Szerződéses hónapok száma: | C5: =IF((DAYS360(C3,C4,TRUE))/30<0,"",(DAYS360(C3,C4,))/30) -> 12
A6: Fűtőérték: | C6: 34.3
A7: Váltószám: | C7: 3.2494
A8: Tervezett mennyiség összesen: | C8: =SUM(Q:Q) -> 406251848
A9: Szerződött fölgázmennyiség: | C9: =SUM(P:P) -> 325001494 | G9: 0.8 | H9: Szerződött mennyiség aránya a tervezetthez képest | X9: =IF(C5>0,"Csak a kék háttérrel jelőlt fejlécekhez tartozó oszlopban adhat meg adatokat!"," ") -> Csak a kék háttérrel jelőlt fejlécekhez tartozó oszlopban adhat meg adatokat!
A10: Maximum szerződött mennyiség: | C10: =ROUND(C9*(1+$G$10),0) -> 487502241 | G10: 0.5 | H10: Maximális mennyiség aránya a szerződötthöz képest (opciós mennyiség)
A11: Felhasználási helyek száma: | C11: =COUNTA(E:E)-3 -> 1313 | O11: CSAK a 20 - 99 m3/h kategória esetén kell az N oszlopot kitölteni!
T12: Tervezett fogyasztás a szerződött időszakban (m3) | AF12: Tervezett fogyasztás a szerződött időszakban (kWh)
A13: Szerződő megnevezése | B13: Szerződő címe | C13: Számlafizető megnevezése | D13: Számlafizető címe | E13: Mérési pont azonosító | F13: Fogyasztási hely címe | G13: Aktuális kereskedő megnevezése | H13: Elosztói engedélyes neve | I13: Elosztói engedélyes székhelye | J13: Gázmérők névleges összteljesítménye (m3/h), ill. 100 m3/h feletti mérők esetén a lekötés mennyiségét kell magadni (m3/h) | K13: Kategória besorolás | L13: Mérők névleges összteljesítménye (20 m3/h alatt) (m3/h): | M13: Maximális lekötött teljesítmény (20-99 m3/h között) (kWh/h): | N13: Igényelt lekötött teljesítmény (20-99 m3/h között) (kWh/h) (Az "M" oszlopban szereplő érték vagy annál kisebb; lsd.: 11/2016. (XI. 14.) MEKH rendelet 29. § (6) bekezdése) | O13: Lekötött teljesítmény (100 m3/h - ) (kWh/h) | P13: Szerződött fogyasztás a szerződéses időszakban (kWh/h) | Q13: Tervezett fogyasztás a szerződött időszakban (kWh) | R13: 44470 | S13: 44501 | T13: 44531 | U13: 44562 | V13: 44593 | W13: 44621 | X13: 44652 | Y13: 44682 | Z13: 44713 | AA13: 44743 | AB13: 44774 | AC13: 44805 | AD13: 44470 | AE13: 44501 | AF13: 44531 | AG13: 44562 | AH13: 44593 | AI13: 44621 | AJ13: 44652 | AK13: 44682 | AL13: 44713 | AM13: 44743 | AN13: 44774 | AO13: 44805
A14: Nemzeti Szakértői és Kutató Központ | B14: 1087 Bp.Mosonyi u. 9. | C14: Nemzeti Szakértői és Kutató Központ | D14: 1087 Bp.Mosonyi u. 9. | E14: 39N060006316000L | F14: 1087 Bp.Mosonyi u. 9. | G14: MVM Next Energiakereskedelmi Zrt. | H14: =IF(E14="","",VLOOKUP(LEFT(E14,5),'Technikai cellák'!B:C,2,0)) -> MVM FŐGÁZ Földgázhálózati Kft. | I14: =IF(E14="","",VLOOKUP(H14,'Technikai cellák'!$C$1:$D$12,2,0)) -> 1081 Budapest, II. János Pál pápa tér 20. | J14: 140 | K14: =IF(J14="","",IF(J14<20,"20 alatti",IF(J14<100,"20-99",IF(J14<500,"100-500","500-")))) -> 100-500 | L14: =ROUND(IF(K14="20 alatti",J14*1,0),0) -> 0 | M14: =ROUND(IF(K14="20-99",J14*10.5,0),0) -> 0 | O14: =ROUND((IF(J14<100,0,J14*$C$6)/$C$7),0) -> 1478 | P14: =ROUND(Q14*$G$9,0) -> 1839579 | Q14: =SUM(AD14:AO14) -> 2299474 | R14: 15000 | S14: 30000 | T14: 40000 | U14: 45000 | V14: 35000 | W14: 25000 | X14: 12500 | Y14: 3840 | Z14: 2840 | AA14: 2440 | AB14: 2620 | AC14: 3600 | AD14: =ROUND((R14*$C$6)/$C$7,0) -> 158337 | AE14: =ROUND((S14*$C$6)/$C$7,0) -> 316674 | AF14: =ROUND((T14*$C$6)/$C$7,0) -> 422232 | AG14: =ROUND((U14*$C$6)/$C$7,0) -> 475011 | AH14: =ROUND((V14*$C$6)/$C$7,0) -> 369453 | AI14: =ROUND((W14*$C$6)/$C$7,0) -> 263895 | AJ14: =ROUND((X14*$C$6)/$C$7,0) -> 131947 | AK14: =ROUND((Y14*$C$6)/$C$7,0) -> 40534 | ... AO14: =ROUND((AC14*$C$6)/$C$7,0) -> 38001
A15: Nemzeti Szakértői és Kutató Központ | B15: 1087 Bp.Mosonyi u. 9. | C15: Nemzeti Szakértői és Kutató Központ | D15: 1087 Bp.Mosonyi u. 9. | E15: 39N0614327190006 | F15: 1135 Bp.XIII. Szabolcs u. 33 | G15: MVM Next Energiakereskedelmi Zrt. | H15: =IF(E15="","",VLOOKUP(LEFT(E15,5),'Technikai cellák'!B:C,2,0)) -> MVM FŐGÁZ Földgázhálózati Kft. | I15: =IF(E15="","",VLOOKUP(H15,'Technikai cellák'!$C$1:$D$12,2,0)) -> 1081 Budapest, II. János Pál pápa tér 20. | J15: 20 | K15: =IF(J15="","",IF(J15<20,"20 alatti",IF(J15<100,"20-99",IF(J15<500,"100-500","500-")))) -> 20-99 | L15: =ROUND(IF(K15="20 alatti",J15*1,0),0) -> 0 | M15: =ROUND(IF(K15="20-99",J15*10.5,0),0) -> 210 | N15: 210 | O15: =ROUND((IF(J15<100,0,J15*$C$6)/$C$7),0) -> 0 | P15: =ROUND(Q15*$G$9,0) -> 294778 | Q15: =SUM(AD15:AO15) -> 368472 | R15: 2300 | S15: 4620 | T15: 5820 | U15: 6285 | V15: 5800 | W15: 3600 | X15: 2610 | Y15: 1250 | Z15: 598 | AA15: 579 | AB15: 582 | AC15: 863 | AD15: =ROUND((R15*$C$6)/$C$7,0) -> 24278 | AE15: =ROUND((S15*$C$6)/$C$7,0) -> 48768 | AF15: =ROUND((T15*$C$6)/$C$7,0) -> 61435 | AG15: =ROUND((U15*$C$6)/$C$7,0) -> 66343 | AH15: =ROUND((V15*$C$6)/$C$7,0) -> 61224 | AI15: =ROUND((W15*$C$6)/$C$7,0) -> 38001 | AJ15: =ROUND((X15*$C$6)/$C$7,0) -> 27551 | AK15: =ROUND((Y15*$C$6)/$C$7,0) -> 13195 | ... AO15: =ROUND((AC15*$C$6)/$C$7,0) -> 9110
A16: Nemzeti Szakértői és Kutató Központ | B16: 1087 Bp.Mosonyi u. 9. | C16: Nemzeti Szakértői és Kutató Központ | D16: 1087 Bp.Mosonyi u. 9. | E16: 39N110799410000R | F16: 5000 Szolnok, Tószegi út 24 | G16: MVM Next Energiakereskedelmi Zrt. | H16: =IF(E16="","",VLOOKUP(LEFT(E16,5),'Technikai cellák'!B:C,2,0)) -> TIGÁZ Földgázelosztó Zrt. | I16: =IF(E16="","",VLOOKUP(H16,'Technikai cellák'!$C$1:$D$12,2,0)) -> 4200 Hajdúszoboszló, Rákóczi Ferenc út 184. | J16: 6 | K16: =IF(J16="","",IF(J16<20,"20 alatti",IF(J16<100,"20-99",IF(J16<500,"100-500","500-")))) -> 20 alatti | L16: =ROUND(IF(K16="20 alatti",J16*1,0),0) -> 6 | M16: =ROUND(IF(K16="20-99",J16*10.5,0),0) -> 0 | O16: =ROUND((IF(J16<100,0,J16*$C$6)/$C$7),0) -> 0 | P16: =ROUND(Q16*$G$9,0) -> 40567 | Q16: =SUM(AD16:AO16) -> 50709 | R16: 355 | S16: 510 | T16: 1000 | U16: 1094 | V16: 916 | W16: 502 | X16: 231 | Y16: 87 | Z16: 21 | AA16: 31 | AB16: 20 | AC16: 37 | AD16: =ROUND((R16*$C$6)/$C$7,0) -> 3747 | AE16: =ROUND((S16*$C$6)/$C$7,0) -> 5383 | AF16: =ROUND((T16*$C$6)/$C$7,0) -> 10556 | AG16: =ROUND((U16*$C$6)/$C$7,0) -> 11548 | AH16: =ROUND((V16*$C$6)/$C$7,0) -> 9669 | AI16: =ROUND((W16*$C$6)/$C$7,0) -> 5299 | AJ16: =ROUND((X16*$C$6)/$C$7,0) -> 2438 | AK16: =ROUND((Y16*$C$6)/$C$7,0) -> 918 | ... AO16: =ROUND((AC16*$C$6)/$C$7,0) -> 391
A17: Nemzeti Szakértői és Kutató Központ | B17: 1087 Bp.Mosonyi u. 9. | C17: Nemzeti Szakértői és Kutató Központ | D17: 1087 Bp.Mosonyi u. 9. | E17: 39N040246359000O | F17: 7400 Kaposvár, 48-as ifjúság útja 5 | G17: MVM Next Energiakereskedelmi Zrt. | H17: =IF(E17="","",VLOOKUP(LEFT(E17,5),'Technikai cellák'!B:C,2,0)) -> E.ON Közép-dunántúli Gázhálózati Zrt. | I17: =IF(E17="","",VLOOKUP(H17,'Technikai cellák'!$C$1:$D$12,2,0)) -> 8800 Nagykanizsa, Zrínyi Miklós út 32. | J17: 6 | K17: =IF(J17="","",IF(J17<20,"20 alatti",IF(J17<100,"20-99",IF(J17<500,"100-500","500-")))) -> 20 alatti | L17: =ROUND(IF(K17="20 alatti",J17*1,0),0) -> 6 | M17: =ROUND(IF(K17="20-99",J17*10.5,0),0) -> 0 | O17: =ROUND((IF(J17<100,0,J17*$C$6)/$C$7),0) -> 0 | P17: =ROUND(Q17*$G$9,0) -> 26210 | Q17: =SUM(AD17:AO17) -> 32763 | R17: 230 | S17: 435 | T17: 685 | U17: 650 | V17: 481 | W17: 333 | X17: 130 | Y17: 80 | Z17: 15 | AA17: 15 | AB17: 15 | AC17: 35 | AD17: =ROUND((R17*$C$6)/$C$7,0) -> 2428 | AE17: =ROUND((S17*$C$6)/$C$7,0) -> 4592 | AF17: =ROUND((T17*$C$6)/$C$7,0) -> 7231 | AG17: =ROUND((U17*$C$6)/$C$7,0) -> 6861 | AH17: =ROUND((V17*$C$6)/$C$7,0) -> 5077 | AI17: =ROUND((W17*$C$6)/$C$7,0) -> 3515 | AJ17: =ROUND((X17*$C$6)/$C$7,0) -> 1372 | AK17: =ROUND((Y17*$C$6)/$C$7,0) -> 844 | ... AO17: =ROUND((AC17*$C$6)/$C$7,0) -> 369
A18: Nemzeti Szakértői és Kutató Központ | B18: 1087 Bp.Mosonyi u. 9. | C18: Nemzeti Szakértői és Kutató Központ | D18: 1087 Bp.Mosonyi u. 9. | E18: 39N040152352000I | F18: 8200 Veszprém, Dózsa György u.30 | G18: MVM Next Energiakereskedelmi Zrt. | H18: =IF(E18="","",VLOOKUP(LEFT(E18,5),'Technikai cellák'!B:C,2,0)) -> E.ON Közép-dunántúli Gázhálózati Zrt. | I18: =IF(E18="","",VLOOKUP(H18,'Technikai cellák'!$C$1:$D$12,2,0)) -> 8800 Nagykanizsa, Zrínyi Miklós út 32. | J18: 4 | K18: =IF(J18="","",IF(J18<20,"20 alatti",IF(J18<100,"20-99",IF(J18<500,"100-500","500-")))) -> 20 alatti | L18: =ROUND(IF(K18="20 alatti",J18*1,0),0) -> 4 | M18: =ROUND(IF(K18="20-99",J18*10.5,0),0) -> 0 | O18: =ROUND((IF(J18<100,0,J18*$C$6)/$C$7),0) -> 0 | P18: =ROUND(Q18*$G$9,0) -> 79261 | Q18: =SUM(AD18:AO18) -> 99076 | R18: 585 | S18: 1024 | T18: 1782 | U18: 1800 | V18: 1350 | W18: 1090 | X18: 670 | Y18: 350 | Z18: 150 | AA18: 145 | AB18: 145 | AC18: 295 | AD18: =ROUND((R18*$C$6)/$C$7,0) -> 6175 | AE18: =ROUND((S18*$C$6)/$C$7,0) -> 10809 | AF18: =ROUND((T18*$C$6)/$C$7,0) -> 18810 | AG18: =ROUND((U18*$C$6)/$C$7,0) -> 19000 | AH18: =ROUND((V18*$C$6)/$C$7,0) -> 14250 | AI18: =ROUND((W18*$C$6)/$C$7,0) -> 11506 | AJ18: =ROUND((X18*$C$6)/$C$7,0) -> 7072 | AK18: =ROUND((Y18*$C$6)/$C$7,0) -> 3695 | ... AO18: =ROUND((AC18*$C$6)/$C$7,0) -> 3114
A19: Nemzeti Szakértői és Kutató Központ | B19: 1087 Bp.Mosonyi u. 9. | C19: Nemzeti Szakértői és Kutató Központ | D19: 1087 Bp.Mosonyi u. 9. | E19: 39N050138643000U | F19: 9700 Szombathely, Rákóczi Ferenc u.78 | G19: MVM Next Energiakereskedelmi Zrt. | H19: =IF(E19="","",VLOOKUP(LEFT(E19,5),'Technikai cellák'!B:C,2,0)) -> MVM ÉGÁZ-DÉGÁZ Földgázhálózati Zrt. | I19: =IF(E19="","",VLOOKUP(H19,'Technikai cellák'!$C$1:$D$12,2,0)) -> 6724 Szeged, Pulcz u. 44. | J19: 4 | K19: =IF(J19="","",IF(J19<20,"20 alatti",IF(J19<100,"20-99",IF(J19<500,"100-500","500-")))) -> 20 alatti | L19: =ROUND(IF(K19="20 alatti",J19*1,0),0) -> 4 | M19: =ROUND(IF(K19="20-99",J19*10.5,0),0) -> 0 | O19: =ROUND((IF(J19<100,0,J19*$C$6)/$C$7),0) -> 0 | P19: =ROUND(Q19*$G$9,0) -> 41388 | Q19: =SUM(AD19:AO19) -> 51735 | R19: 445 | S19: 715 | T19: 995 | U19: 950 | V19: 800 | W19: 500 | X19: 245 | Y19: 75 | Z19: 10 | AA19: 10 | AB19: 10 | AC19: 146 | AD19: =ROUND((R19*$C$6)/$C$7,0) -> 4697 | AE19: =ROUND((S19*$C$6)/$C$7,0) -> 7547 | AF19: =ROUND((T19*$C$6)/$C$7,0) -> 10503 | AG19: =ROUND((U19*$C$6)/$C$7,0) -> 10028 | AH19: =ROUND((V19*$C$6)/$C$7,0) -> 8445 | AI19: =ROUND((W19*$C$6)/$C$7,0) -> 5278 | AJ19: =ROUND((X19*$C$6)/$C$7,0) -> 2586 | AK19: =ROUND((Y19*$C$6)/$C$7,0) -> 792 | ... AO19: =ROUND((AC19*$C$6)/$C$7,0) -> 1541
A20: Nemzeti Szakértői és Kutató Központ | B20: 1087 Bp.Mosonyi u. 9. | C20: Nemzeti Szakértői és Kutató Központ | D20: 1087 Bp.Mosonyi u. 9. | E20: 39N111122243000S | F20: 3527 Miskolc, Bajcsy-Zsilinszky u.13 | G20: MVM Next Energiakereskedelmi Zrt. | H20: =IF(E20="","",VLOOKUP(LEFT(E20,5),'Technikai cellák'!B:C,2,0)) -> TIGÁZ Földgázelosztó Zrt. | I20: =IF(E20="","",VLOOKUP(H20,'Technikai cellák'!$C$1:$D$12,2,0)) -> 4200 Hajdúszoboszló, Rákóczi Ferenc út 184. | J20: 6 | K20: =IF(J20="","",IF(J20<20,"20 alatti",IF(J20<100,"20-99",IF(J20<500,"100-500","500-")))) -> 20 alatti | L20: =ROUND(IF(K20="20 alatti",J20*1,0),0) -> 6 | M20: =ROUND(IF(K20="20-99",J20*10.5,0),0) -> 0 | O20: =ROUND((IF(J20<100,0,J20*$C$6)/$C$7),0) -> 0 | P20: =ROUND(Q20*$G$9,0) -> 74314 | Q20: =SUM(AD20:AO20) -> 92893 | R20: 518 | S20: 1270 | T20: 1500 | U20: 1500 | V20: 1266 | W20: 1060 | X20: 642 | Y20: 260 | Z20: 180 | AA20: 180 | AB20: 180 | AC20: 244 | AD20: =ROUND((R20*$C$6)/$C$7,0) -> 5468 | AE20: =ROUND((S20*$C$6)/$C$7,0) -> 13406 | AF20: =ROUND((T20*$C$6)/$C$7,0) -> 15834 | AG20: =ROUND((U20*$C$6)/$C$7,0) -> 15834 | AH20: =ROUND((V20*$C$6)/$C$7,0) -> 13364 | AI20: =ROUND((W20*$C$6)/$C$7,0) -> 11189 | AJ20: =ROUND((X20*$C$6)/$C$7,0) -> 6777 | AK20: =ROUND((Y20*$C$6)/$C$7,0) -> 2745 | ... AO20: =ROUND((AC20*$C$6)/$C$7,0) -> 2576
A21: Nemzeti Védelmi Szolgálat | B21: Budapest, Kerepesi út 47-49. | C21: Nemzeti Védelmi Szolgálat | D21: Budapest, Kerepesi út 47-49. | E21: 39N060912658000A | F21: Budapest, Kerepesi út 47-49. | G21: MVM Next Energiakereskedelmi Zrt. | H21: NKM Földgázhálózati Kft. | I21: 1081 Budapest, II. János Pál pápa tér 20. | J21: 16 | K21: 20 alatti | L21: 16 | M21: 0 | O21: 0 | P21: 177507 | Q21: 221884 | R21: 2300 | S21: 2300 | T21: 2500 | U21: 3500 | V21: 2900 | W21: 1500 | X21: 800 | Y21: 780 | Z21: 780 | AA21: 780 | AB21: 780 | AC21: 2100 | AD21: 24278 | AE21: 24278 | AF21: 26389 | AG21: 36945 | AH21: 30612 | AI21: 15834 | AJ21: 8445 | AK21: 8234 | AL21: 8234 | AM21: 8234 | AN21: 8234 | AO21: 22167
A22: Országos Idegenrendészeti Főigazgatóság | B22: 1117 Budapest, Budafoki út 60.sz. | C22: Országos Idegenrendészeti Főigazgatóság | D22: 1117 Budapest, Budafoki út 60.sz. | E22: 39N0600063370004 | F22: 1117 Budapest, Budafoki út 60.sz. | G22: MVM Next Energiakereskedelmi Zrt. | H22: =IF(E22="","",VLOOKUP(LEFT(E22,5),'Technikai cellák'!B:C,2,0)) -> MVM FŐGÁZ Földgázhálózati Kft. | I22: =IF(E22="","",VLOOKUP(H22,'Technikai cellák'!$C$1:$D$12,2,0)) -> 1081 Budapest, II. János Pál pápa tér 20. | J22: =40+100 -> 140 | K22: =IF(J22="","",IF(J22<20,"20 alatti",IF(J22<100,"20-99",IF(J22<500,"100-500","500-")))) -> 100-500 | L22: =ROUND(IF(K22="20 alatti",J22*1,0),0) -> 0 | M22: =ROUND(IF(K22="20-99",J22*10.5,0),0) -> 0 | O22: =ROUND((IF(J22<100,0,J22*$C$6)/$C$7),0) -> 1478 | P22: =ROUND(Q22*$G$9,0) -> 1138286 | Q22: =SUM(AD22:AO22) -> 1422858 | R22: 10690 | S22: 14889 | T22: 16023 | U22: 20550 | V22: 20518 | W22: 15657 | X22: 12046 | Y22: 7112 | Z22: 4000 | AA22: 4000 | AB22: 4000 | AC22: 5309 | AD22: =ROUND((R22*$C$6)/$C$7,0) -> 112841 | AE22: =ROUND((S22*$C$6)/$C$7,0) -> 157165 | AF22: =ROUND((T22*$C$6)/$C$7,0) -> 169136 | AG22: =ROUND((U22*$C$6)/$C$7,0) -> 216922 | AH22: =ROUND((V22*$C$6)/$C$7,0) -> 216584 | AI22: =ROUND((W22*$C$6)/$C$7,0) -> 165272 | AJ22: =ROUND((X22*$C$6)/$C$7,0) -> 127155 | AK22: =ROUND((Y22*$C$6)/$C$7,0) -> 75073 | ... AO22: =ROUND((AC22*$C$6)/$C$7,0) -> 56041
A23: Országos Idegenrendészeti Főigazgatóság | B23: 1117 Budapest, Budafoki út 60.sz. | C23: Oraszágos Idegenrendészeti Főigazgatóság | D23: 1117 Budapest, Budafoki út 60.sz. | E23: 39N061166020000S | F23: 1117 Budapest, Budafoki út 60.sz. | G23: MVM Next Energiakereskedelmi Zrt. | H23: =IF(E23="","",VLOOKUP(LEFT(E23,5),'Technikai cellák'!B:C,2,0)) -> MVM FŐGÁZ Földgázhálózati Kft. | I23: =IF(E23="","",VLOOKUP(H23,'Technikai cellák'!$C$1:$D$12,2,0)) -> 1081 Budapest, II. János Pál pápa tér 20. | J23: 25 | K23: =IF(J23="","",IF(J23<20,"20 alatti",IF(J23<100,"20-99",IF(J23<500,"100-500","500-")))) -> 20-99 | L23: =ROUND(IF(K23="20 alatti",J23*1,0),0) -> 0 | M23: =ROUND(IF(K23="20-99",J23*10.5,0),0) -> 263 | N23: 263 | O23: =ROUND((IF(J23<100,0,J23*$C$6)/$C$7),0) -> 0 | P23: =ROUND(Q23*$G$9,0) -> 176763 | Q23: =SUM(AD23:AO23) -> 220954 | R23: 2299 | S23: 2604 | T23: 3680 | U23: 3625 | V23: 1851 | W23: 2351 | X23: 1360 | Y23: 494 | Z23: 607 | AA23: 607 | AB23: 607 | AC23: 847 | AD23: =ROUND((R23*$C$6)/$C$7,0) -> 24268 | AE23: =ROUND((S23*$C$6)/$C$7,0) -> 27487 | AF23: =ROUND((T23*$C$6)/$C$7,0) -> 38845 | AG23: =ROUND((U23*$C$6)/$C$7,0) -> 38265 | AH23: =ROUND((V23*$C$6)/$C$7,0) -> 19539 | AI23: =ROUND((W23*$C$6)/$C$7,0) -> 24817 | AJ23: =ROUND((X23*$C$6)/$C$7,0) -> 14356 | AK23: =ROUND((Y23*$C$6)/$C$7,0) -> 5215 | ... AO23: =ROUND((AC23*$C$6)/$C$7,0) -> 8941
A24: Országos Idegenrendészeti Főigazgatóság | B24: 1117 Budapest, Budafoki út 60.sz. | C24: Oraszágos Idegenrendészeti Főigazgatóság | D24: 1117 Budapest, Budafoki út 60.sz. | E24: 39N050751898000D | F24: Szeged, dr.Boros József utca 5. | G24: MVM Next Energiakereskedelmi Zrt. | H24: =IF(E24="","",VLOOKUP(LEFT(E24,5),'Technikai cellák'!B:C,2,0)) -> MVM ÉGÁZ-DÉGÁZ Földgázhálózati Zrt. | I24: =IF(E24="","",VLOOKUP(H24,'Technikai cellák'!$C$1:$D$12,2,0)) -> 6724 Szeged, Pulcz u. 44. | J24: =25+25 -> 50 | K24: =IF(J24="","",IF(J24<20,"20 alatti",IF(J24<100,"20-99",IF(J24<500,"100-500","500-")))) -> 20-99 | L24: =ROUND(IF(K24="20 alatti",J24*1,0),0) -> 0 | M24: =ROUND(IF(K24="20-99",J24*10.5,0),0) -> 525 | N24: 525 | O24: =ROUND((IF(J24<100,0,J24*$C$6)/$C$7),0) -> 0 | P24: =ROUND(Q24*$G$9,0) -> 378322 | Q24: =SUM(AD24:AO24) -> 472902 | R24: 3400 | S24: 6000 | T24: 6000 | U24: 7000 | V24: 7000 | W24: 4600 | X24: 3700 | Y24: 2200 | Z24: 1200 | AA24: 1200 | AB24: 1000 | AC24: 1500 | AD24: =ROUND((R24*$C$6)/$C$7,0) -> 35890 | AE24: =ROUND((S24*$C$6)/$C$7,0) -> 63335 | AF24: =ROUND((T24*$C$6)/$C$7,0) -> 63335 | AG24: =ROUND((U24*$C$6)/$C$7,0) -> 73891 | AH24: =ROUND((V24*$C$6)/$C$7,0) -> 73891 | AI24: =ROUND((W24*$C$6)/$C$7,0) -> 48557 | AJ24: =ROUND((X24*$C$6)/$C$7,0) -> 39056 | AK24: =ROUND((Y24*$C$6)/$C$7,0) -> 23223 | ... AO24: =ROUND((AC24*$C$6)/$C$7,0) -> 15834
A25: Országos Idegenrendészeti Főigazgatóság | B25: 1117 Budapest, Budafoki út 60.sz. | C25: Oraszágos Idegenrendészeti Főigazgatóság | D25: 1117 Budapest, Budafoki út 60.sz. | E25: 39N0613367580002 | F25: 1112 Budapest,Törökbálinti út 4/b | G25: MVM Next Energiakereskedelmi Zrt. | H25: =IF(E25="","",VLOOKUP(LEFT(E25,5),'Technikai cellák'!B:C,2,0)) -> MVM FŐGÁZ Földgázhálózati Kft. | I25: =IF(E25="","",VLOOKUP(H25,'Technikai cellák'!$C$1:$D$12,2,0)) -> 1081 Budapest, II. János Pál pápa tér 20. | J25: 4 | K25: =IF(J25="","",IF(J25<20,"20 alatti",IF(J25<100,"20-99",IF(J25<500,"100-500","500-")))) -> 20 alatti | L25: =ROUND(IF(K25="20 alatti",J25*1,0),0) -> 4 | M25: =ROUND(IF(K25="20-99",J25*10.5,0),0) -> 0 | O25: =ROUND((IF(J25<100,0,J25*$C$6)/$C$7),0) -> 0 | P25: =ROUND(Q25*$G$9,0) -> 11738 | Q25: =SUM(AD25:AO25) -> 14672 | R25: 187 | S25: 187 | T25: 121 | U25: 390 | V25: 50 | W25: 50 | X25: 50 | Y25: 40 | Z25: 40 | AA25: 40 | AB25: 195 | AC25: 40 | AD25: =ROUND((R25*$C$6)/$C$7,0) -> 1974 | AE25: =ROUND((S25*$C$6)/$C$7,0) -> 1974 | AF25: =ROUND((T25*$C$6)/$C$7,0) -> 1277 | AG25: =ROUND((U25*$C$6)/$C$7,0) -> 4117 | AH25: =ROUND((V25*$C$6)/$C$7,0) -> 528 | AI25: =ROUND((W25*$C$6)/$C$7,0) -> 528 | AJ25: =ROUND((X25*$C$6)/$C$7,0) -> 528 | AK25: =ROUND((Y25*$C$6)/$C$7,0) -> 422 | ... AO25: =ROUND((AC25*$C$6)/$C$7,0) -> 422
A26: Országos Idegenrendészeti Főigazgatóság | B26: 1117 Budapest, Budafoki út 60.sz. | C26: Oraszágos Idegenrendészeti Főigazgatóság | D26: 1117 Budapest, Budafoki út 60.sz. | E26: 39N030288529000P | F26: 8000 Székesfehérvár, József A.u.38.sz. | G26: MVM Next Energiakereskedelmi Zrt. | H26: =IF(E26="","",VLOOKUP(LEFT(E26,5),'Technikai cellák'!B:C,2,0)) -> E.ON Dél-dunántúli Gázhálózati Zrt. | I26: =IF(E26="","",VLOOKUP(H26,'Technikai cellák'!$C$1:$D$12,2,0)) -> 7626 Pécs, Búza tér 8/a | J26: 25 | K26: =IF(J26="","",IF(J26<20,"20 alatti",IF(J26<100,"20-99",IF(J26<500,"100-500","500-")))) -> 20-99 | L26: =ROUND(IF(K26="20 alatti",J26*1,0),0) -> 0 | M26: =ROUND(IF(K26="20-99",J26*10.5,0),0) -> 263 | N26: 263 | O26: =ROUND((IF(J26<100,0,J26*$C$6)/$C$7),0) -> 0 | P26: =ROUND(Q26*$G$9,0) -> 75544 | Q26: =SUM(AD26:AO26) -> 94430 | R26: 996 | S26: 1330 | T26: 1330 | U26: 1500 | V26: 1200 | W26: 1100 | X26: 850 | Y26: 200 | Z26: 200 | AA26: 80 | AB26: 80 | AC26: 80 | AD26: =ROUND((R26*$C$6)/$C$7,0) -> 10514 | AE26: =ROUND((S26*$C$6)/$C$7,0) -> 14039 | AF26: =ROUND((T26*$C$6)/$C$7,0) -> 14039 | AG26: =ROUND((U26*$C$6)/$C$7,0) -> 15834 | AH26: =ROUND((V26*$C$6)/$C$7,0) -> 12667 | AI26: =ROUND((W26*$C$6)/$C$7,0) -> 11611 | AJ26: =ROUND((X26*$C$6)/$C$7,0) -> 8972 | AK26: =ROUND((Y26*$C$6)/$C$7,0) -> 2111 | ... AO26: =ROUND((AC26*$C$6)/$C$7,0) -> 844
A27: Országos Idegenrendészeti Főigazgatóság | B27: 1117 Budapest, Budafoki út 60.sz. | C27: Oraszágos Idegenrendészeti Főigazgatóság | D27: 1117 Budapest, Budafoki út 60.sz. | E27: 39N060963471000V | F27: 1104 Budapest, Harmat u. 131. | G27: MVM Next Energiakereskedelmi Zrt. | H27: =IF(E27="","",VLOOKUP(LEFT(E27,5),'Technikai cellák'!B:C,2,0)) -> MVM FŐGÁZ Földgázhálózati Kft. | I27: =IF(E27="","",VLOOKUP(H27,'Technikai cellák'!$C$1:$D$12,2,0)) -> 1081 Budapest, II. János Pál pápa tér 20. | J27: =4+4 -> 8 | K27: =IF(J27="","",IF(J27<20,"20 alatti",IF(J27<100,"20-99",IF(J27<500,"100-500","500-")))) -> 20 alatti | L27: =ROUND(IF(K27="20 alatti",J27*1,0),0) -> 8 | M27: =ROUND(IF(K27="20-99",J27*10.5,0),0) -> 0 | O27: =ROUND((IF(J27<100,0,J27*$C$6)/$C$7),0) -> 0 | P27: =ROUND(Q27*$G$9,0) -> 150865 | Q27: =SUM(AD27:AO27) -> 188581 | R27: 1700 | S27: 1800 | T27: 2000 | U27: 2000 | V27: 1900 | W27: 1950 | X27: 1610 | Y27: 950 | Z27: 855 | AA27: 800 | AB27: 800 | AC27: 1500 | AD27: =ROUND((R27*$C$6)/$C$7,0) -> 17945 | AE27: =ROUND((S27*$C$6)/$C$7,0) -> 19000 | AF27: =ROUND((T27*$C$6)/$C$7,0) -> 21112 | AG27: =ROUND((U27*$C$6)/$C$7,0) -> 21112 | AH27: =ROUND((V27*$C$6)/$C$7,0) -> 20056 | AI27: =ROUND((W27*$C$6)/$C$7,0) -> 20584 | AJ27: =ROUND((X27*$C$6)/$C$7,0) -> 16995 | AK27: =ROUND((Y27*$C$6)/$C$7,0) -> 10028 | ... AO27: =ROUND((AC27*$C$6)/$C$7,0) -> 15834
A28: Országos Idegenrendészeti Főigazgatóság | B28: 1117 Budapest, Budafoki út 60.sz. | C28: Oraszágos Idegenrendészeti Főigazgatóság | D28: 1117 Budapest, Budafoki út 60.sz. | E28: 39N0302499440001 | F28: 7102 Szekszárd, Szent István tér 23. | G28: MVM Next Energiakereskedelmi Zrt. | H28: =IF(E28="","",VLOOKUP(LEFT(E28,5),'Technikai cellák'!B:C,2,0)) -> E.ON Dél-dunántúli Gázhálózati Zrt. | I28: =IF(E28="","",VLOOKUP(H28,'Technikai cellák'!$C$1:$D$12,2,0)) -> 7626 Pécs, Búza tér 8/a | J28: 6 | K28: =IF(J28="","",IF(J28<20,"20 alatti",IF(J28<100,"20-99",IF(J28<500,"100-500","500-")))) -> 20 alatti | L28: =ROUND(IF(K28="20 alatti",J28*1,0),0) -> 6 | M28: =ROUND(IF(K28="20-99",J28*10.5,0),0) -> 0 | O28: =ROUND((IF(J28<100,0,J28*$C$6)/$C$7),0) -> 0 | P28: =ROUND(Q28*$G$9,0) -> 61479 | Q28: =SUM(AD28:AO28) -> 76849 | R28: 230 | S28: 950 | T28: 1000 | U28: 1900 | V28: 1500 | W28: 800 | X28: 300 | Y28: 200 | Z28: 100 | AA28: 100 | AB28: 100 | AC28: 100 | AD28: =ROUND((R28*$C$6)/$C$7,0) -> 2428 | AE28: =ROUND((S28*$C$6)/$C$7,0) -> 10028 | AF28: =ROUND((T28*$C$6)/$C$7,0) -> 10556 | AG28: =ROUND((U28*$C$6)/$C$7,0) -> 20056 | AH28: =ROUND((V28*$C$6)/$C$7,0) -> 15834 | AI28: =ROUND((W28*$C$6)/$C$7,0) -> 8445 | AJ28: =ROUND((X28*$C$6)/$C$7,0) -> 3167 | AK28: =ROUND((Y28*$C$6)/$C$7,0) -> 2111 | ... AO28: =ROUND((AC28*$C$6)/$C$7,0) -> 1056
A29: Országos Idegenrendészeti Főigazgatóság | B29: 1117 Budapest, Budafoki út 60.sz. | C29: Oraszágos Idegenrendészeti Főigazgatóság | D29: 1117 Budapest, Budafoki út 60.sz. | E29: 39N112634376000D | F29: 3526 Miskolc, Hatvanötösök útja 2. | G29: MVM Next Energiakereskedelmi Zrt. | H29: =IF(E29="","",VLOOKUP(LEFT(E29,5),'Technikai cellák'!B:C,2,0)) -> TIGÁZ Földgázelosztó Zrt. | I29: =IF(E29="","",VLOOKUP(H29,'Technikai cellák'!$C$1:$D$12,2,0)) -> 4200 Hajdúszoboszló, Rákóczi Ferenc út 184. | J29: 6 | K29: =IF(J29="","",IF(J29<20,"20 alatti",IF(J29<100,"20-99",IF(J29<500,"100-500","500-")))) -> 20 alatti | L29: =ROUND(IF(K29="20 alatti",J29*1,0),0) -> 6 | M29: =ROUND(IF(K29="20-99",J29*10.5,0),0) -> 0 | O29: =ROUND((IF(J29<100,0,J29*$C$6)/$C$7),0) -> 0 | P29: =ROUND(Q29*$G$9,0) -> 31846 | Q29: =SUM(AD29:AO29) -> 39808 | R29: 274 | S29: 510 | T29: 1441 | U29: 352 | V29: 362 | W29: 232 | X29: 100 | Y29: 100 | Z29: 100 | AA29: 100 | AB29: 100 | AC29: 100 | AD29: =ROUND((R29*$C$6)/$C$7,0) -> 2892 | AE29: =ROUND((S29*$C$6)/$C$7,0) -> 5383 | AF29: =ROUND((T29*$C$6)/$C$7,0) -> 15211 | AG29: =ROUND((U29*$C$6)/$C$7,0) -> 3716 | AH29: =ROUND((V29*$C$6)/$C$7,0) -> 3821 | AI29: =ROUND((W29*$C$6)/$C$7,0) -> 2449 | AJ29: =ROUND((X29*$C$6)/$C$7,0) -> 1056 | AK29: =ROUND((Y29*$C$6)/$C$7,0) -> 1056 | ... AO29: =ROUND((AC29*$C$6)/$C$7,0) -> 1056
A30: Országos Idegenrendészeti Főigazgatóság | B30: 1117 Budapest, Budafoki út 60.sz. | C30: Oraszágos Idegenrendészeti Főigazgatóság | D30: 1117 Budapest, Budafoki út 60.sz. | E30: 39N112612555000D | F30: 2660 Balassagyarmat, Kossuth L. u. 43. | G30: MVM Next Energiakereskedelmi Zrt. | H30: =IF(E30="","",VLOOKUP(LEFT(E30,5),'Technikai cellák'!B:C,2,0)) -> TIGÁZ Földgázelosztó Zrt. | I30: =IF(E30="","",VLOOKUP(H30,'Technikai cellák'!$C$1:$D$12,2,0)) -> 4200 Hajdúszoboszló, Rákóczi Ferenc út 184. | J30: 16 | K30: =IF(J30="","",IF(J30<20,"20 alatti",IF(J30<100,"20-99",IF(J30<500,"100-500","500-")))) -> 20 alatti | L30: =ROUND(IF(K30="20 alatti",J30*1,0),0) -> 16 | M30: =ROUND(IF(K30="20-99",J30*10.5,0),0) -> 0 | O30: =ROUND((IF(J30<100,0,J30*$C$6)/$C$7),0) -> 0 | P30: =ROUND(Q30*$G$9,0) -> 171874 | Q30: =SUM(AD30:AO30) -> 214842 | R30: 1427 | S30: 2559 | T30: 2693 | U30: 2700 | V30: 2700 | W30: 2600 | X30: 2000 | Y30: 1474 | Z30: 500 | AA30: 500 | AB30: 600 | AC30: 600 | AD30: =ROUND((R30*$C$6)/$C$7,0) -> 15063 | AE30: =ROUND((S30*$C$6)/$C$7,0) -> 27012 | AF30: =ROUND((T30*$C$6)/$C$7,0) -> 28427 | AG30: =ROUND((U30*$C$6)/$C$7,0) -> 28501 | AH30: =ROUND((V30*$C$6)/$C$7,0) -> 28501 | AI30: =ROUND((W30*$C$6)/$C$7,0) -> 27445 | AJ30: =ROUND((X30*$C$6)/$C$7,0) -> 21112 | AK30: =ROUND((Y30*$C$6)/$C$7,0) -> 15559 | ... AO30: =ROUND((AC30*$C$6)/$C$7,0) -> 6333
A31: Országos Idegenrendészeti Főigazgatóság | B31: 1117 Budapest, Budafoki út 60.sz. | C31: Oraszágos Idegenrendészeti Főigazgatóság | D31: 1117 Budapest, Budafoki út 60.sz. | E31: 39N0502837610006 | F31: 9700 Szombathely, Kisfaludy u.1. | G31: MVM Next Energiakereskedelmi Zrt. | H31: =IF(E31="","",VLOOKUP(LEFT(E31,5),'Technikai cellák'!B:C,2,0)) -> MVM ÉGÁZ-DÉGÁZ Földgázhálózati Zrt. | I31: =IF(E31="","",VLOOKUP(H31,'Technikai cellák'!$C$1:$D$12,2,0)) -> 6724 Szeged, Pulcz u. 44. | J31: 6 | K31: =IF(J31="","",IF(J31<20,"20 alatti",IF(J31<100,"20-99",IF(J31<500,"100-500","500-")))) -> 20 alatti | L31: =ROUND(IF(K31="20 alatti",J31*1,0),0) -> 6 | M31: =ROUND(IF(K31="20-99",J31*10.5,0),0) -> 0 | O31: =ROUND((IF(J31<100,0,J31*$C$6)/$C$7),0) -> 0 | P31: =ROUND(Q31*$G$9,0) -> 17158 | Q31: =SUM(AD31:AO31) -> 21448 | R31: 118 | S31: 218 | T31: 252 | U31: 175 | V31: 175 | W31: 175 | X31: 175 | Y31: 175 | Z31: 175 | AA31: 175 | AB31: 110 | AC31: 109 | AD31: =ROUND((R31*$C$6)/$C$7,0) -> 1246 | AE31: =ROUND((S31*$C$6)/$C$7,0) -> 2301 | AF31: =ROUND((T31*$C$6)/$C$7,0) -> 2660 | AG31: =ROUND((U31*$C$6)/$C$7,0) -> 1847 | AH31: =ROUND((V31*$C$6)/$C$7,0) -> 1847 | AI31: =ROUND((W31*$C$6)/$C$7,0) -> 1847 | AJ31: =ROUND((X31*$C$6)/$C$7,0) -> 1847 | AK31: =ROUND((Y31*$C$6)/$C$7,0) -> 1847 | ... AO31: =ROUND((AC31*$C$6)/$C$7,0) -> 1151
A32: Országos Idegenrendészeti Főigazgatóság | B32: 1117 Budapest, Budafoki út 60.sz. | C32: Oraszágos Idegenrendészeti Főigazgatóság | D32: 1117 Budapest, Budafoki út 60.sz. | E32: 39N050444805000N | F32: 5600 Békéscsaba, Kétegyházi út 10.sz. | G32: MVM Next Energiakereskedelmi Zrt. | H32: =IF(E32="","",VLOOKUP(LEFT(E32,5),'Technikai cellák'!B:C,2,0)) -> MVM ÉGÁZ-DÉGÁZ Földgázhálózati Zrt. | I32: =IF(E32="","",VLOOKUP(H32,'Technikai cellák'!$C$1:$D$12,2,0)) -> 6724 Szeged, Pulcz u. 44. | J32: 65 | K32: =IF(J32="","",IF(J32<20,"20 alatti",IF(J32<100,"20-99",IF(J32<500,"100-500","500-")))) -> 20-99 | L32: =ROUND(IF(K32="20 alatti",J32*1,0),0) -> 0 | M32: =ROUND(IF(K32="20-99",J32*10.5,0),0) -> 683 | N32: 683 | O32: =ROUND((IF(J32<100,0,J32*$C$6)/$C$7),0) -> 0 | P32: =ROUND(Q32*$G$9,0) -> 617084 | Q32: =SUM(AD32:AO32) -> 771355 | R32: 4706 | S32: 6850 | T32: 8464 | U32: 8708 | V32: 8105 | W32: 8810 | X32: 7300 | Y32: 7100 | Z32: 3665 | AA32: 3592 | AB32: 2574 | AC32: 3200 | AD32: =ROUND((R32*$C$6)/$C$7,0) -> 49676 | AE32: =ROUND((S32*$C$6)/$C$7,0) -> 72307 | AF32: =ROUND((T32*$C$6)/$C$7,0) -> 89344 | AG32: =ROUND((U32*$C$6)/$C$7,0) -> 91920 | AH32: =ROUND((V32*$C$6)/$C$7,0) -> 85555 | AI32: =ROUND((W32*$C$6)/$C$7,0) -> 92997 | AJ32: =ROUND((X32*$C$6)/$C$7,0) -> 77057 | AK32: =ROUND((Y32*$C$6)/$C$7,0) -> 74946 | ... AO32: =ROUND((AC32*$C$6)/$C$7,0) -> 33779
A33: Országos Idegenrendészeti Főigazgatóság | B33: 1117 Budapest, Budafoki út 60.sz. | C33: Oraszágos Idegenrendészeti Főigazgatóság | D33: 1117 Budapest, Budafoki út 60.sz. | E33: 39N112659165000H | F33: 4033 Debrecen, Sámsoni út 145. | G33: MVM Next Energiakereskedelmi Zrt. | H33: =IF(E33="","",VLOOKUP(LEFT(E33,5),'Technikai cellák'!B:C,2,0)) -> TIGÁZ Földgázelosztó Zrt. | I33: =IF(E33="","",VLOOKUP(H33,'Technikai cellák'!$C$1:$D$12,2,0)) -> 4200 Hajdúszoboszló, Rákóczi Ferenc út 184. | J33: 180 | K33: =IF(J33="","",IF(J33<20,"20 alatti",IF(J33<100,"20-99",IF(J33<500,"100-500","500-")))) -> 100-500 | L33: =ROUND(IF(K33="20 alatti",J33*1,0),0) -> 0 | M33: =ROUND(IF(K33="20-99",J33*10.5,0),0) -> 0 | O33: =ROUND((IF(J33<100,0,J33*$C$6)/$C$7),0) -> 1900 | P33: =ROUND(Q33*$G$9,0) -> 586902 | Q33: =SUM(AD33:AO33) -> 733627 | R33: 9000 | S33: 13000 | T33: 11000 | U33: 3000 | V33: 3000 | W33: 3000 | X33: 1500 | Y33: 1500 | Z33: 1500 | AA33: 4000 | AB33: 9000 | AC33: 10000 | AD33: =ROUND((R33*$C$6)/$C$7,0) -> 95002 | AE33: =ROUND((S33*$C$6)/$C$7,0) -> 137225 | AF33: =ROUND((T33*$C$6)/$C$7,0) -> 116114 | AG33: =ROUND((U33*$C$6)/$C$7,0) -> 31667 | AH33: =ROUND((V33*$C$6)/$C$7,0) -> 31667 | AI33: =ROUND((W33*$C$6)/$C$7,0) -> 31667 | AJ33: =ROUND((X33*$C$6)/$C$7,0) -> 15834 | AK33: =ROUND((Y33*$C$6)/$C$7,0) -> 15834 | ... AO33: =ROUND((AC33*$C$6)/$C$7,0) -> 105558
A34: Országos Idegenrendészeti Főigazgatóság | B34: 1117 Budapest, Budafoki út 60.sz. | C34: Oraszágos Idegenrendészeti Főigazgatóság | D34: 1117 Budapest, Budafoki út 60.sz. | E34: 39N050243900000W | F34: Vámosszabadi, Szúnyogház u.3.sz. | G34: MVM Next Energiakereskedelmi Zrt. | H34: =IF(E34="","",VLOOKUP(LEFT(E34,5),'Technikai cellák'!B:C,2,0)) -> MVM ÉGÁZ-DÉGÁZ Földgázhálózati Zrt. | I34: =IF(E34="","",VLOOKUP(H34,'Technikai cellák'!$C$1:$D$12,2,0)) -> 6724 Szeged, Pulcz u. 44. | J34: 40 | K34: =IF(J34="","",IF(J34<20,"20 alatti",IF(J34<100,"20-99",IF(J34<500,"100-500","500-")))) -> 20-99 | L34: =ROUND(IF(K34="20 alatti",J34*1,0),0) -> 0 | M34: =ROUND(IF(K34="20-99",J34*10.5,0),0) -> 420 | N34: 420 | O34: =ROUND((IF(J34<100,0,J34*$C$6)/$C$7),0) -> 0 | P34: =ROUND(Q34*$G$9,0) -> 391453 | Q34: =SUM(AD34:AO34) -> 489316 | R34: 3334 | S34: 4486 | T34: 6881 | U34: 7004 | V34: 7734 | W34: 4618 | X34: 3440 | Y34: 3049 | Z34: 1293 | AA34: 1374 | AB34: 1365 | AC34: 1777 | AD34: =ROUND((R34*$C$6)/$C$7,0) -> 35193 | AE34: =ROUND((S34*$C$6)/$C$7,0) -> 47353 | AF34: =ROUND((T34*$C$6)/$C$7,0) -> 72634 | AG34: =ROUND((U34*$C$6)/$C$7,0) -> 73933 | AH34: =ROUND((V34*$C$6)/$C$7,0) -> 81639 | AI34: =ROUND((W34*$C$6)/$C$7,0) -> 48747 | AJ34: =ROUND((X34*$C$6)/$C$7,0) -> 36312 | AK34: =ROUND((Y34*$C$6)/$C$7,0) -> 32185 | ... AO34: =ROUND((AC34*$C$6)/$C$7,0) -> 18758
A35: Baranya Megyei Katasztórfavédelmi Igazgatóság | B35: 7630 Pécs, Engel János József u. 1. | C35: Baranya Megyei Katasztórfavédelmi Igazgatóság | D35: 7630 Pécs, Engel János József u. 1. | E35: 39N030311271000H | F35: 7630 Pécs, Engel J. út 1. | G35: MVM Next Energiakereskedelmi Zrt. | H35: =IF(E35="","",VLOOKUP(LEFT(E35,5),'Technikai cellák'!B:C,2,0)) -> E.ON Dél-dunántúli Gázhálózati Zrt. | I35: =IF(E35="","",VLOOKUP(H35,'Technikai cellák'!$C$1:$D$12,2,0)) -> 7626 Pécs, Búza tér 8/a | J35: 16 | K35: =IF(J35="","",IF(J35<20,"20 alatti",IF(J35<100,"20-99",IF(J35<500,"100-500","500-")))) -> 20 alatti | L35: =ROUND(IF(K35="20 alatti",J35*1,0),0) -> 16 | M35: =ROUND(IF(K35="20-99",J35*10.5,0),0) -> 0 | O35: =ROUND((IF(J35<100,0,J35*$C$6)/$C$7),0) -> 0 | P35: =ROUND(Q35*$G$9,0) -> 113748 | Q35: =SUM(AD35:AO35) -> 142185 | R35: 2690 | S35: 2450 | T35: 1870 | U35: 20 | V35: 25 | W35: 15 | X35: 0 | Y35: 15 | Z35: 20 | AA35: 930 | AB35: 2025 | AC35: 3410 | AD35: =ROUND((R35*$C$6)/$C$7,0) -> 28395 | AE35: =ROUND((S35*$C$6)/$C$7,0) -> 25862 | AF35: =ROUND((T35*$C$6)/$C$7,0) -> 19739 | AG35: =ROUND((U35*$C$6)/$C$7,0) -> 211 | AH35: =ROUND((V35*$C$6)/$C$7,0) -> 264 | AI35: =ROUND((W35*$C$6)/$C$7,0) -> 158 | AJ35: =ROUND((X35*$C$6)/$C$7,0) -> 0 | AK35: =ROUND((Y35*$C$6)/$C$7,0) -> 158 | ... AO35: =ROUND((AC35*$C$6)/$C$7,0) -> 35995
A36: Baranya Megyei Katasztórfavédelmi Igazgatóság | B36: 7630 Pécs, Engel János József u. 1. | C36: Baranya Megyei Katasztórfavédelmi Igazgatóság | D36: 7630 Pécs, Engel János József u. 1. | E36: 39N0302901450005 | F36: 7980 Siklós, Gyűdi út 24. | G36: MVM Next Energiakereskedelmi Zrt. | H36: =IF(E36="","",VLOOKUP(LEFT(E36,5),'Technikai cellák'!B:C,2,0)) -> E.ON Dél-dunántúli Gázhálózati Zrt. | I36: =IF(E36="","",VLOOKUP(H36,'Technikai cellák'!$C$1:$D$12,2,0)) -> 7626 Pécs, Búza tér 8/a | J36: 16 | K36: =IF(J36="","",IF(J36<20,"20 alatti",IF(J36<100,"20-99",IF(J36<500,"100-500","500-")))) -> 20 alatti | L36: =ROUND(IF(K36="20 alatti",J36*1,0),0) -> 16 | M36: =ROUND(IF(K36="20-99",J36*10.5,0),0) -> 0 | O36: =ROUND((IF(J36<100,0,J36*$C$6)/$C$7),0) -> 0 | P36: =ROUND(Q36*$G$9,0) -> 196634 | Q36: =SUM(AD36:AO36) -> 245792 | R36: 4200 | S36: 3200 | T36: 2900 | U36: 1250 | V36: 960 | W36: 310 | X36: 270 | Y36: 285 | Z36: 290 | AA36: 1970 | AB36: 3050 | AC36: 4600 | AD36: =ROUND((R36*$C$6)/$C$7,0) -> 44334 | AE36: =ROUND((S36*$C$6)/$C$7,0) -> 33779 | AF36: =ROUND((T36*$C$6)/$C$7,0) -> 30612 | AG36: =ROUND((U36*$C$6)/$C$7,0) -> 13195 | AH36: =ROUND((V36*$C$6)/$C$7,0) -> 10134 | AI36: =ROUND((W36*$C$6)/$C$7,0) -> 3272 | AJ36: =ROUND((X36*$C$6)/$C$7,0) -> 2850 | AK36: =ROUND((Y36*$C$6)/$C$7,0) -> 3008 | ... AO36: =ROUND((AC36*$C$6)/$C$7,0) -> 48557
A37: Baranya Megyei Katasztórfavédelmi Igazgatóság | B37: 7630 Pécs, Engel János József u. 1. | C37: Baranya Megyei Katasztórfavédelmi Igazgatóság | D37: 7630 Pécs, Engel János József u. 1. | E37: 39N030166005000P | F37: 7700 Mohács, Liszt F. u. 28. | G37: MVM Next Energiakereskedelmi Zrt. | H37: =IF(E37="","",VLOOKUP(LEFT(E37,5),'Technikai cellák'!B:C,2,0)) -> E.ON Dél-dunántúli Gázhálózati Zrt. | I37: =IF(E37="","",VLOOKUP(H37,'Technikai cellák'!$C$1:$D$12,2,0)) -> 7626 Pécs, Búza tér 8/a | J37: 16 | K37: =IF(J37="","",IF(J37<20,"20 alatti",IF(J37<100,"20-99",IF(J37<500,"100-500","500-")))) -> 20 alatti | L37: =ROUND(IF(K37="20 alatti",J37*1,0),0) -> 16 | M37: =ROUND(IF(K37="20-99",J37*10.5,0),0) -> 0 | O37: =ROUND((IF(J37<100,0,J37*$C$6)/$C$7),0) -> 0 | P37: =ROUND(Q37*$G$9,0) -> 176662 | Q37: =SUM(AD37:AO37) -> 220827 | R37: 3500 | S37: 2870 | T37: 2800 | U37: 1170 | V37: 710 | W37: 415 | X37: 400 | Y37: 425 | Z37: 440 | AA37: 1945 | AB37: 2810 | AC37: 3435 | AD37: =ROUND((R37*$C$6)/$C$7,0) -> 36945 | AE37: =ROUND((S37*$C$6)/$C$7,0) -> 30295 | AF37: =ROUND((T37*$C$6)/$C$7,0) -> 29556 | AG37: =ROUND((U37*$C$6)/$C$7,0) -> 12350 | AH37: =ROUND((V37*$C$6)/$C$7,0) -> 7495 | AI37: =ROUND((W37*$C$6)/$C$7,0) -> 4381 | AJ37: =ROUND((X37*$C$6)/$C$7,0) -> 4222 | AK37: =ROUND((Y37*$C$6)/$C$7,0) -> 4486 | ... AO37: =ROUND((AC37*$C$6)/$C$7,0) -> 36259
A38: Baranya Megyei Katasztórfavédelmi Igazgatóság | B38: 7630 Pécs, Engel János József u. 1. | C38: Baranya Megyei Katasztórfavédelmi Igazgatóság | D38: 7630 Pécs, Engel János József u. 1. | E38: 39N030188004000X | F38: 7900 Szigetvár, József A u. 87. | G38: MVM Next Energiakereskedelmi Zrt. | H38: =IF(E38="","",VLOOKUP(LEFT(E38,5),'Technikai cellák'!B:C,2,0)) -> E.ON Dél-dunántúli Gázhálózati Zrt. | I38: =IF(E38="","",VLOOKUP(H38,'Technikai cellák'!$C$1:$D$12,2,0)) -> 7626 Pécs, Búza tér 8/a | J38: 10 | K38: =IF(J38="","",IF(J38<20,"20 alatti",IF(J38<100,"20-99",IF(J38<500,"100-500","500-")))) -> 20 alatti | L38: =ROUND(IF(K38="20 alatti",J38*1,0),0) -> 10 | M38: =ROUND(IF(K38="20-99",J38*10.5,0),0) -> 0 | O38: =ROUND((IF(J38<100,0,J38*$C$6)/$C$7),0) -> 0 | P38: =ROUND(Q38*$G$9,0) -> 163446 | Q38: =SUM(AD38:AO38) -> 204308 | R38: 3770 | S38: 3200 | T38: 2870 | U38: 980 | V38: 420 | W38: 0 | X38: 0 | Y38: 0 | Z38: 75 | AA38: 1690 | AB38: 2520 | AC38: 3830 | AD38: =ROUND((R38*$C$6)/$C$7,0) -> 39795 | AE38: =ROUND((S38*$C$6)/$C$7,0) -> 33779 | AF38: =ROUND((T38*$C$6)/$C$7,0) -> 30295 | AG38: =ROUND((U38*$C$6)/$C$7,0) -> 10345 | AH38: =ROUND((V38*$C$6)/$C$7,0) -> 4433 | AI38: =ROUND((W38*$C$6)/$C$7,0) -> 0 | AJ38: =ROUND((X38*$C$6)/$C$7,0) -> 0 | AK38: =ROUND((Y38*$C$6)/$C$7,0) -> 0 | ... AO38: =ROUND((AC38*$C$6)/$C$7,0) -> 40429
A39: Baranya Megyei Katasztórfavédelmi Igazgatóság | B39: 7630 Pécs, Engel János József u. 1. | C39: Baranya Megyei Katasztórfavédelmi Igazgatóság | D39: 7630 Pécs, Engel János József u. 1. | E39: 39N030291834000X | F39: 7960 Sellye, Dráva u. 23. | G39: MVM Next Energiakereskedelmi Zrt. | H39: =IF(E39="","",VLOOKUP(LEFT(E39,5),'Technikai cellák'!B:C,2,0)) -> E.ON Dél-dunántúli Gázhálózati Zrt. | I39: =IF(E39="","",VLOOKUP(H39,'Technikai cellák'!$C$1:$D$12,2,0)) -> 7626 Pécs, Búza tér 8/a | J39: 4 | K39: =IF(J39="","",IF(J39<20,"20 alatti",IF(J39<100,"20-99",IF(J39<500,"100-500","500-")))) -> 20 alatti | L39: =ROUND(IF(K39="20 alatti",J39*1,0),0) -> 4 | M39: =ROUND(IF(K39="20-99",J39*10.5,0),0) -> 0 | O39: =ROUND((IF(J39<100,0,J39*$C$6)/$C$7),0) -> 0 | P39: =ROUND(Q39*$G$9,0) -> 57382 | Q39: =SUM(AD39:AO39) -> 71727 | R39: 1280 | S39: 920 | T39: 845 | U39: 475 | V39: 260 | W39: 0 | X39: 0 | Y39: 5 | Z39: 80 | AA39: 660 | AB39: 930 | AC39: 1340 | AD39: =ROUND((R39*$C$6)/$C$7,0) -> 13511 | AE39: =ROUND((S39*$C$6)/$C$7,0) -> 9711 | AF39: =ROUND((T39*$C$6)/$C$7,0) -> 8920 | AG39: =ROUND((U39*$C$6)/$C$7,0) -> 5014 | AH39: =ROUND((V39*$C$6)/$C$7,0) -> 2745 | AI39: =ROUND((W39*$C$6)/$C$7,0) -> 0 | AJ39: =ROUND((X39*$C$6)/$C$7,0) -> 0 | AK39: =ROUND((Y39*$C$6)/$C$7,0) -> 53 | ... AO39: =ROUND((AC39*$C$6)/$C$7,0) -> 14145
A40: Baranya Megyei Katasztórfavédelmi Igazgatóság | B40: 7630 Pécs, Engel János József u. 1. | C40: Baranya Megyei Katasztórfavédelmi Igazgatóság | D40: 7630 Pécs, Engel János József u. 1. | E40: 39N0302258650004 | F40: 7726 Véménd, Szabadság tér 11. | G40: MVM Next Energiakereskedelmi Zrt. | H40: =IF(E40="","",VLOOKUP(LEFT(E40,5),'Technikai cellák'!B:C,2,0)) -> E.ON Dél-dunántúli Gázhálózati Zrt. | I40: =IF(E40="","",VLOOKUP(H40,'Technikai cellák'!$C$1:$D$12,2,0)) -> 7626 Pécs, Búza tér 8/a | J40: 4 | K40: =IF(J40="","",IF(J40<20,"20 alatti",IF(J40<100,"20-99",IF(J40<500,"100-500","500-")))) -> 20 alatti | L40: =ROUND(IF(K40="20 alatti",J40*1,0),0) -> 4 | M40: =ROUND(IF(K40="20-99",J40*10.5,0),0) -> 0 | O40: =ROUND((IF(J40<100,0,J40*$C$6)/$C$7),0) -> 0 | P40: =ROUND(Q40*$G$9,0) -> 52526 | Q40: =SUM(AD40:AO40) -> 65658 | R40: 1110 | S40: 825 | T40: 805 | U40: 410 | V40: 300 | W40: 95 | X40: 90 | Y40: 90 | Z40: 115 | AA40: 525 | AB40: 875 | AC40: 980 | AD40: =ROUND((R40*$C$6)/$C$7,0) -> 11717 | AE40: =ROUND((S40*$C$6)/$C$7,0) -> 8709 | AF40: =ROUND((T40*$C$6)/$C$7,0) -> 8497 | AG40: =ROUND((U40*$C$6)/$C$7,0) -> 4328 | AH40: =ROUND((V40*$C$6)/$C$7,0) -> 3167 | AI40: =ROUND((W40*$C$6)/$C$7,0) -> 1003 | AJ40: =ROUND((X40*$C$6)/$C$7,0) -> 950 | AK40: =ROUND((Y40*$C$6)/$C$7,0) -> 950 | ... AO40: =ROUND((AC40*$C$6)/$C$7,0) -> 10345
...

Sheet számoló tábla
A1: Ajánlati ártáblázat
A2: FÖLDGÁZ KÖZBESZERZÉS a 2021 - 2022. gázévre
A5: Szerződéses időszak kezdete: | D5: ='Műszaki adattábla'!C3 -> 44470 | I5: Kerreskedő neve: | J5: MVM Next Energiakereskedelmi Zrt.
A6: Szerződéses időszak vége: | D6: ='Műszaki adattábla'!C4 -> 44834 | I6: Kereskedő címe: | J6: 1081 Budapest, II. János Pál pápa tér 20.
A7: Szerződéses hónapok száma: | D7: ='Műszaki adattábla'!C5 -> 12
A8: Tervezett fogyasztás a szerződéses időszakban (kWh): | D8: =SUM(E:E) -> 406251848 | F8: Tájékoztató jellegű információ: | I8: =CONCATENATE(J5," ", 'Technikai cellák'!A8, " ", "hónapra maximalizált keretmegállapodásos földgáz termék ára (GE22max) (molekula díj) - Ft/kWh") -> MVM Next Energiakereskedelmi Zrt. 2021. november hónapra maximalizált keretmegállapodásos földgáz termék ára (GE22max) (molekula díj) - Ft/kWh
F9: A keretmegállapodás alapján | I9: 20.03
A10: Földgáz termék ár (Molekula díj) - egységár: | D10: 17.331 | F10: =IF(D10<=I9,"megfelelő",IF(D10>I9,"magas ár")) -> megfelelő
A12: Földgáz termék ár a tervezett fogyasztási mennyiségre | D12: =ROUND(D8*D10,0) -> 7040750778 | I12: Szín magyarázat:
A13: Forgalom független rendszerhasználati díjtétel a szerződéses időszakra: | D13: =SUM(K:K) -> 813595025 | J13: = Kitöltendő elemek, egész szám pontossággal
A14: Forgalmi díj a tervezett fogyasztási mennyiségre: | D14: =SUM(L:L) -> 125337254 | J14: = Kitöltendő elemek, három tizedes jegy pontossággal
J15: = Rögzített elemek
A16: Egyösszegű ajánlati ár | J16: = Kalkulált elemek
A17: Fajlagos egységár (Földgáz termék ár + Rendszerhasználati ár): | D17: =ROUND(D18/D8,3) -> 19.642 | J17: = Ajánlati díjelem, három tizedes jegy pontossággal
A18: Teljes összköltség (Földgáz termék ár + Rendszerhasználati ár): | D18: =SUM(D12:D14) -> 7979683057 | J18: = A felolvasólapra kerülő ajánlati ár
A21: Cégnév | B21: Sorszám | C21: Felhasználási hely címe | D21: POD | E21: Tervezett fogyasztás a szerződéses időszakban (kWh) | F21: Mérők névleges összteljesítménye (20 m3/h alatt) (m3/h): | G21: Lekötött teljesítmény (20-99 m3/h között) (kWh/h): | H21: Lekötött teljesítmény (100 m3/h - ) (kWh/h) | I21: Kapacitásdíj (Ft/kWh/h/év) | J21: Forgalmi díj (Ft/MWh) | K21: Forgalom független rendszerhasználati díjtétel (Kapacitásdíj) (Ft/szerződéses időszak): | L21: Forgalmi díj (Ft/szerződéses időszak):
B22: =IF(D22="","",1) -> 1 | C22: =IF(D22="","",VLOOKUP(D22,'Műszaki adattábla'!E:H,2,0)) -> 1087 Bp.Mosonyi u. 9. | D22: =IF('Műszaki adattábla'!E14="","",'Műszaki adattábla'!E14) -> 39N060006316000L | E22: =IF('Műszaki adattábla'!E14="","",'Műszaki adattábla'!Q14) -> 2299474 | F22: =IF(D22="","",VLOOKUP(D22,'Műszaki adattábla'!E:N,8,0)) -> 0 | G22: =IF(D22="","",IF('Műszaki adattábla'!K14="20-99",IF('Műszaki adattábla'!N14="","Nem adott meg lekötött teljesítményt",VLOOKUP(D22,'Műszaki adattábla'!E:P,10,0)),0)) -> 0 | H22: =IF(D22="","",VLOOKUP(D22,'Műszaki adattábla'!E:Q,11,0)) -> 1478 | I22: 2721.89 | J22: 122.75 | K22: =IF(D22="","",ROUND(((F22*I22*'Műszaki adattábla'!$C$6/'Műszaki adattábla'!$C$7)+(G22*I22)+(H22*I22))/12*$D$7,0)) -> 4022953 | L22: =IF(D22="","",ROUND((J22/1000)*E22,0)) -> 282260
B23: =IF(D23="","",B22+1) -> 2 | C23: =IF(D23="","",VLOOKUP(D23,'Műszaki adattábla'!E:H,2,0)) -> 1135 Bp.XIII. Szabolcs u. 33 | D23: =IF('Műszaki adattábla'!E15="","",'Műszaki adattábla'!E15) -> 39N0614327190006 | E23: =IF('Műszaki adattábla'!E15="","",'Műszaki adattábla'!Q15) -> 368472 | F23: =IF(D23="","",VLOOKUP(D23,'Műszaki adattábla'!E:N,8,0)) -> 0 | G23: =IF(D23="","",IF('Műszaki adattábla'!K15="20-99",IF('Műszaki adattábla'!N15="","Nem adott meg lekötött teljesítményt",VLOOKUP(D23,'Műszaki adattábla'!E:P,10,0)),0)) -> 210 | H23: =IF(D23="","",VLOOKUP(D23,'Műszaki adattábla'!E:Q,11,0)) -> 0 | I23: 2804.11 | J23: 131.18 | K23: =IF(D23="","",ROUND(((F23*I23*'Műszaki adattábla'!$C$6/'Műszaki adattábla'!$C$7)+(G23*I23)+(H23*I23))/12*$D$7,0)) -> 588863 | L23: =IF(D23="","",ROUND((J23/1000)*E23,0)) -> 48336
B24: =IF(D24="","",B23+1) -> 3 | C24: =IF(D24="","",VLOOKUP(D24,'Műszaki adattábla'!E:H,2,0)) -> 5000 Szolnok, Tószegi út 24 | D24: =IF('Műszaki adattábla'!E16="","",'Műszaki adattábla'!E16) -> 39N110799410000R | E24: =IF('Műszaki adattábla'!E16="","",'Műszaki adattábla'!Q16) -> 50709 | F24: =IF(D24="","",VLOOKUP(D24,'Műszaki adattábla'!E:N,8,0)) -> 6 | G24: =IF(D24="","",IF('Műszaki adattábla'!K16="20-99",IF('Műszaki adattábla'!N16="","Nem adott meg lekötött teljesítményt",VLOOKUP(D24,'Műszaki adattábla'!E:P,10,0)),0)) -> 0 | H24: =IF(D24="","",VLOOKUP(D24,'Műszaki adattábla'!E:Q,11,0)) -> 0 | I24: 1973.63 | J24: 1169.71 | K24: =IF(D24="","",ROUND(((F24*I24*'Műszaki adattábla'!$C$6/'Műszaki adattábla'!$C$7)+(G24*I24)+(H24*I24))/12*$D$7,0)) -> 124999 | L24: =IF(D24="","",ROUND((J24/1000)*E24,0)) -> 59315
B25: =IF(D25="","",B24+1) -> 4 | C25: =IF(D25="","",VLOOKUP(D25,'Műszaki adattábla'!E:H,2,0)) -> 7400 Kaposvár, 48-as ifjúság útja 5 | D25: =IF('Műszaki adattábla'!E17="","",'Műszaki adattábla'!E17) -> 39N040246359000O | E25: =IF('Műszaki adattábla'!E17="","",'Műszaki adattábla'!Q17) -> 32763 | F25: =IF(D25="","",VLOOKUP(D25,'Műszaki adattábla'!E:N,8,0)) -> 6 | G25: =IF(D25="","",IF('Műszaki adattábla'!K17="20-99",IF('Műszaki adattábla'!N17="","Nem adott meg lekötött teljesítményt",VLOOKUP(D25,'Műszaki adattábla'!E:P,10,0)),0)) -> 0 | H25: =IF(D25="","",VLOOKUP(D25,'Műszaki adattábla'!E:Q,11,0)) -> 0 | I25: 1973.63 | J25: 1626.5 | K25: =IF(D25="","",ROUND(((F25*I25*'Műszaki adattábla'!$C$6/'Műszaki adattábla'!$C$7)+(G25*I25)+(H25*I25))/12*$D$7,0)) -> 124999 | L25: =IF(D25="","",ROUND((J25/1000)*E25,0)) -> 53289
B26: =IF(D26="","",B25+1) -> 5 | C26: =IF(D26="","",VLOOKUP(D26,'Műszaki adattábla'!E:H,2,0)) -> 8200 Veszprém, Dózsa György u.30 | D26: =IF('Műszaki adattábla'!E18="","",'Műszaki adattábla'!E18) -> 39N040152352000I | E26: =IF('Műszaki adattábla'!E18="","",'Műszaki adattábla'!Q18) -> 99076 | F26: =IF(D26="","",VLOOKUP(D26,'Műszaki adattábla'!E:N,8,0)) -> 4 | G26: =IF(D26="","",IF('Műszaki adattábla'!K18="20-99",IF('Műszaki adattábla'!N18="","Nem adott meg lekötött teljesítményt",VLOOKUP(D26,'Műszaki adattábla'!E:P,10,0)),0)) -> 0 | H26: =IF(D26="","",VLOOKUP(D26,'Műszaki adattábla'!E:Q,11,0)) -> 0 | I26: 1973.63 | J26: 1626.5 | K26: =IF(D26="","",ROUND((F26*I26*'Műszaki adattábla'!$C$6/'Műszaki adattábla'!$C$7)+(G26*I26)+(H26*I26)/12*$D$7,0)) -> 83333 | L26: =IF(D26="","",ROUND((J26/1000)*E26,0)) -> 161147
B27: =IF(D27="","",B26+1) -> 6 | C27: =IF(D27="","",VLOOKUP(D27,'Műszaki adattábla'!E:H,2,0)) -> 9700 Szombathely, Rákóczi Ferenc u.78 | D27: =IF('Műszaki adattábla'!E19="","",'Műszaki adattábla'!E19) -> 39N050138643000U | E27: =IF('Műszaki adattábla'!E19="","",'Műszaki adattábla'!Q19) -> 51735 | F27: =IF(D27="","",VLOOKUP(D27,'Műszaki adattábla'!E:N,8,0)) -> 4 | G27: =IF(D27="","",IF('Műszaki adattábla'!K19="20-99",IF('Műszaki adattábla'!N19="","Nem adott meg lekötött teljesítményt",VLOOKUP(D27,'Műszaki adattábla'!E:P,10,0)),0)) -> 0 | H27: =IF(D27="","",VLOOKUP(D27,'Műszaki adattábla'!E:Q,11,0)) -> 0 | I27: 1954.93 | J27: 1138.91 | K27: =IF(D27="","",ROUND((F27*I27*'Műszaki adattábla'!$C$6/'Műszaki adattábla'!$C$7)+(G27*I27)+(H27*I27)/12*$D$7,0)) -> 82543 | L27: =IF(D27="","",ROUND((J27/1000)*E27,0)) -> 58922
B28: =IF(D28="","",B27+1) -> 7 | C28: =IF(D28="","",VLOOKUP(D28,'Műszaki adattábla'!E:H,2,0)) -> 3527 Miskolc, Bajcsy-Zsilinszky u.13 | D28: =IF('Műszaki adattábla'!E20="","",'Műszaki adattábla'!E20) -> 39N111122243000S | E28: =IF('Műszaki adattábla'!E20="","",'Műszaki adattábla'!Q20) -> 92893 | F28: =IF(D28="","",VLOOKUP(D28,'Műszaki adattábla'!E:N,8,0)) -> 6 | G28: =IF(D28="","",IF('Műszaki adattábla'!K20="20-99",IF('Műszaki adattábla'!N20="","Nem adott meg lekötött teljesítményt",VLOOKUP(D28,'Műszaki adattábla'!E:P,10,0)),0)) -> 0 | H28: =IF(D28="","",VLOOKUP(D28,'Műszaki adattábla'!E:Q,11,0)) -> 0 | I28: 1973.63 | J28: 1169.71 | K28: =IF(D28="","",ROUND((F28*I28*'Műszaki adattábla'!$C$6/'Műszaki adattábla'!$C$7)+(G28*I28)+(H28*I28)/12*$D$7,0)) -> 124999 | L28: =IF(D28="","",ROUND((J28/1000)*E28,0)) -> 108658
B29: =IF(D29="","",B28+1) -> 8 | C29: =IF(D29="","",VLOOKUP(D29,'Műszaki adattábla'!E:H,2,0)) -> Budapest, Kerepesi út 47-49. | D29: =IF('Műszaki adattábla'!E21="","",'Műszaki adattábla'!E21) -> 39N060912658000A | E29: =IF('Műszaki adattábla'!E21="","",'Műszaki adattábla'!Q21) -> 221884 | F29: =IF(D29="","",VLOOKUP(D29,'Műszaki adattábla'!E:N,8,0)) -> 16 | G29: =IF(D29="","",IF('Műszaki adattábla'!K21="20-99",IF('Műszaki adattábla'!N21="","Nem adott meg lekötött teljesítményt",VLOOKUP(D29,'Műszaki adattábla'!E:P,10,0)),0)) -> 0 | H29: =IF(D29="","",VLOOKUP(D29,'Műszaki adattábla'!E:Q,11,0)) -> 0 | I29: 1973.63 | J29: 131.18 | K29: =IF(D29="","",ROUND((F29*I29*'Műszaki adattábla'!$C$6/'Műszaki adattábla'!$C$7)+(G29*I29)+(H29*I29)/12*$D$7,0)) -> 333332 | L29: =IF(D29="","",ROUND((J29/1000)*E29,0)) -> 29107
B30: =IF(D30="","",B29+1) -> 9 | C30: =IF(D30="","",VLOOKUP(D30,'Műszaki adattábla'!E:H,2,0)) -> 1117 Budapest, Budafoki út 60.sz. | D30: =IF('Műszaki adattábla'!E22="","",'Műszaki adattábla'!E22) -> 39N0600063370004 | E30: =IF('Műszaki adattábla'!E22="","",'Műszaki adattábla'!Q22) -> 1422858 | F30: =IF(D30="","",VLOOKUP(D30,'Műszaki adattábla'!E:N,8,0)) -> 0 | G30: =IF(D30="","",IF('Műszaki adattábla'!K22="20-99",IF('Műszaki adattábla'!N22="","Nem adott meg lekötött teljesítményt",VLOOKUP(D30,'Műszaki adattábla'!E:P,10,0)),0)) -> 0 | H30: =IF(D30="","",VLOOKUP(D30,'Műszaki adattábla'!E:Q,11,0)) -> 1478 | I30: 2721.89 | J30: 122.75 | K30: =IF(D30="","",ROUND((F30*I30*'Műszaki adattábla'!$C$6/'Műszaki adattábla'!$C$7)+(G30*I30)+(H30*I30)/12*$D$7,0)) -> 4022953 | L30: =IF(D30="","",ROUND((J30/1000)*E30,0)) -> 174656
B31: =IF(D31="","",B30+1) -> 10 | C31: =IF(D31="","",VLOOKUP(D31,'Műszaki adattábla'!E:H,2,0)) -> 1117 Budapest, Budafoki út 60.sz. | D31: =IF('Műszaki adattábla'!E23="","",'Műszaki adattábla'!E23) -> 39N061166020000S | E31: =IF('Műszaki adattábla'!E23="","",'Műszaki adattábla'!Q23) -> 220954 | F31: =IF(D31="","",VLOOKUP(D31,'Műszaki adattábla'!E:N,8,0)) -> 0 | G31: =IF(D31="","",IF('Műszaki adattábla'!K23="20-99",IF('Műszaki adattábla'!N23="","Nem adott meg lekötött teljesítményt",VLOOKUP(D31,'Műszaki adattábla'!E:P,10,0)),0)) -> 263 | H31: =IF(D31="","",VLOOKUP(D31,'Műszaki adattábla'!E:Q,11,0)) -> 0 | I31: 2804.11 | J31: 131.18 | K31: =IF(D31="","",ROUND((F31*I31*'Műszaki adattábla'!$C$6/'Műszaki adattábla'!$C$7)+(G31*I31)+(H31*I31)/12*$D$7,0)) -> 737481 | L31: =IF(D31="","",ROUND((J31/1000)*E31,0)) -> 28985
B32: =IF(D32="","",B31+1) -> 11 | C32: =IF(D32="","",VLOOKUP(D32,'Műszaki adattábla'!E:H,2,0)) -> Szeged, dr.Boros József utca 5. | D32: =IF('Műszaki adattábla'!E24="","",'Műszaki adattábla'!E24) -> 39N050751898000D | E32: =IF('Műszaki adattábla'!E24="","",'Műszaki adattábla'!Q24) -> 472902 | F32: =IF(D32="","",VLOOKUP(D32,'Műszaki adattábla'!E:N,8,0)) -> 0 | G32: =IF(D32="","",IF('Műszaki adattábla'!K24="20-99",IF('Műszaki adattábla'!N24="","Nem adott meg lekötött teljesítményt",VLOOKUP(D32,'Műszaki adattábla'!E:P,10,0)),0)) -> 525 | H32: =IF(D32="","",VLOOKUP(D32,'Műszaki adattábla'!E:Q,11,0)) -> 0 | I32: 1875.5 | J32: 164.72 | K32: =IF(D32="","",ROUND((F32*I32*'Műszaki adattábla'!$C$6/'Műszaki adattábla'!$C$7)+(G32*I32)+(H32*I32)/12*$D$7,0)) -> 984638 | L32: =IF(D32="","",ROUND((J32/1000)*E32,0)) -> 77896
B33: =IF(D33="","",B32+1) -> 12 | C33: =IF(D33="","",VLOOKUP(D33,'Műszaki adattábla'!E:H,2,0)) -> 1112 Budapest,Törökbálinti út 4/b | D33: =IF('Műszaki adattábla'!E25="","",'Műszaki adattábla'!E25) -> 39N0613367580002 | E33: =IF('Műszaki adattábla'!E25="","",'Műszaki adattábla'!Q25) -> 14672 | F33: =IF(D33="","",VLOOKUP(D33,'Műszaki adattábla'!E:N,8,0)) -> 4 | G33: =IF(D33="","",IF('Műszaki adattábla'!K25="20-99",IF('Műszaki adattábla'!N25="","Nem adott meg lekötött teljesítményt",VLOOKUP(D33,'Műszaki adattábla'!E:P,10,0)),0)) -> 0 | H33: =IF(D33="","",VLOOKUP(D33,'Műszaki adattábla'!E:Q,11,0)) -> 0 | I33: 1973.63 | J33: 131.18 | K33: =IF(D33="","",ROUND((F33*I33*'Műszaki adattábla'!$C$6/'Műszaki adattábla'!$C$7)+(G33*I33)+(H33*I33)/12*$D$7,0)) -> 83333 | L33: =IF(D33="","",ROUND((J33/1000)*E33,0)) -> 1925
B34: =IF(D34="","",B33+1) -> 13 | C34: =IF(D34="","",VLOOKUP(D34,'Műszaki adattábla'!E:H,2,0)) -> 8000 Székesfehérvár, József A.u.38.sz. | D34: =IF('Műszaki adattábla'!E26="","",'Műszaki adattábla'!E26) -> 39N030288529000P | E34: =IF('Műszaki adattábla'!E26="","",'Műszaki adattábla'!Q26) -> 94430 | F34: =IF(D34="","",VLOOKUP(D34,'Műszaki adattábla'!E:N,8,0)) -> 0 | G34: =IF(D34="","",IF('Műszaki adattábla'!K26="20-99",IF('Műszaki adattábla'!N26="","Nem adott meg lekötött teljesítményt",VLOOKUP(D34,'Műszaki adattábla'!E:P,10,0)),0)) -> 263 | H34: =IF(D34="","",VLOOKUP(D34,'Műszaki adattábla'!E:Q,11,0)) -> 0 | I34: 3089.46 | J34: 180.21 | K34: =IF(D34="","",ROUND((F34*I34*'Műszaki adattábla'!$C$6/'Műszaki adattábla'!$C$7)+(G34*I34)+(H34*I34)/12*$D$7,0)) -> 812528 | L34: =IF(D34="","",ROUND((J34/1000)*E34,0)) -> 17017
B35: =IF(D35="","",B34+1) -> 14 | C35: =IF(D35="","",VLOOKUP(D35,'Műszaki adattábla'!E:H,2,0)) -> 1104 Budapest, Harmat u. 131. | D35: =IF('Műszaki adattábla'!E27="","",'Műszaki adattábla'!E27) -> 39N060963471000V | E35: =IF('Műszaki adattábla'!E27="","",'Műszaki adattábla'!Q27) -> 188581 | F35: =IF(D35="","",VLOOKUP(D35,'Műszaki adattábla'!E:N,8,0)) -> 8 | G35: =IF(D35="","",IF('Műszaki adattábla'!K27="20-99",IF('Műszaki adattábla'!N27="","Nem adott meg lekötött teljesítményt",VLOOKUP(D35,'Műszaki adattábla'!E:P,10,0)),0)) -> 0 | H35: =IF(D35="","",VLOOKUP(D35,'Műszaki adattábla'!E:Q,11,0)) -> 0 | I35: 1973.63 | J35: 131.18 | K35: =IF(D35="","",ROUND((F35*I35*'Műszaki adattábla'!$C$6/'Műszaki adattábla'!$C$7)+(G35*I35)+(H35*I35)/12*$D$7,0)) -> 166666 | L35: =IF(D35="","",ROUND((J35/1000)*E35,0)) -> 24738
B36: =IF(D36="","",B35+1) -> 15 | C36: =IF(D36="","",VLOOKUP(D36,'Műszaki adattábla'!E:H,2,0)) -> 7102 Szekszárd, Szent István tér 23. | D36: =IF('Műszaki adattábla'!E28="","",'Műszaki adattábla'!E28) -> 39N0302499440001 | E36: =IF('Műszaki adattábla'!E28="","",'Műszaki adattábla'!Q28) -> 76849 | F36: =IF(D36="","",VLOOKUP(D36,'Műszaki adattábla'!E:N,8,0)) -> 6 | G36: =IF(D36="","",IF('Műszaki adattábla'!K28="20-99",IF('Műszaki adattábla'!N28="","Nem adott meg lekötött teljesítményt",VLOOKUP(D36,'Műszaki adattábla'!E:P,10,0)),0)) -> 0 | H36: =IF(D36="","",VLOOKUP(D36,'Műszaki adattábla'!E:Q,11,0)) -> 0 | I36: 1973.63 | J36: 1333.04 | K36: =IF(D36="","",ROUND((F36*I36*'Műszaki adattábla'!$C$6/'Műszaki adattábla'!$C$7)+(G36*I36)+(H36*I36)/12*$D$7,0)) -> 124999 | L36: =IF(D36="","",ROUND((J36/1000)*E36,0)) -> 102443
B37: =IF(D37="","",B36+1) -> 16 | C37: =IF(D37="","",VLOOKUP(D37,'Műszaki adattábla'!E:H,2,0)) -> 3526 Miskolc, Hatvanötösök útja 2. | D37: =IF('Műszaki adattábla'!E29="","",'Műszaki adattábla'!E29) -> 39N112634376000D | E37: =IF('Műszaki adattábla'!E29="","",'Műszaki adattábla'!Q29) -> 39808 | F37: =IF(D37="","",VLOOKUP(D37,'Műszaki adattábla'!E:N,8,0)) -> 6 | G37: =IF(D37="","",IF('Műszaki adattábla'!K29="20-99",IF('Műszaki adattábla'!N29="","Nem adott meg lekötött teljesítményt",VLOOKUP(D37,'Műszaki adattábla'!E:P,10,0)),0)) -> 0 | H37: =IF(D37="","",VLOOKUP(D37,'Műszaki adattábla'!E:Q,11,0)) -> 0 | I37: 1973.63 | J37: 1169.71 | K37: =IF(D37="","",ROUND((F37*I37*'Műszaki adattábla'!$C$6/'Műszaki adattábla'!$C$7)+(G37*I37)+(H37*I37)/12*$D$7,0)) -> 124999 | L37: =IF(D37="","",ROUND((J37/1000)*E37,0)) -> 46564
... B1336: =IF(D1336="","",B1335+1) -> 1315 | C1336: =IF(D1336="","",VLOOKUP(D1336,'Műszaki adattábla'!E:H,2,0)) -> NBSZ13 | D1336: =IF('Műszaki adattábla'!E1328="","",'Műszaki adattábla'!E1328) -> 39N061005816000K | E1336: =IF('Műszaki adattábla'!E1328="","",'Műszaki adattábla'!Q1328) -> 0 | F1336: =IF(D1336="","",VLOOKUP(D1336,'Műszaki adattábla'!E:N,8,0)) -> 4 | G1336: =IF(D1336="","",IF('Műszaki adattábla'!K1328="20-99",IF('Műszaki adattábla'!N1328="","Nem adott meg lekötött teljesítményt",VLOOKUP(D1336,'Műszaki adattábla'!E:P,10,0)),0)) -> 0 | H1336: =IF(D1336="","",VLOOKUP(D1336,'Műszaki adattábla'!E:Q,11,0)) -> 0 | I1336: 1973.63 | J1336: 131.18 | K1336: =IF(D1336="","",ROUND((F1336*I1336*'Műszaki adattábla'!$C$6/'Műszaki adattábla'!$C$7)+(G1336*I1336)+(H1336*I1336)/12*$D$7,0)) -> 83333 | L1336: =IF(D1336="","",ROUND((J1336/1000)*E1336,0)) -> 0
B1337: =IF(D1337="","",B1336+1) | C1337: =IF(D1337="","",VLOOKUP(D1337,'Műszaki adattábla'!E:H,2,0)) | D1337: =IF('Műszaki adattábla'!E1329="","",'Műszaki adattábla'!E1329) | E1337: =IF('Műszaki adattábla'!E1329="","",'Műszaki adattábla'!Q1329) | F1337: =IF(D1337="","",VLOOKUP(D1337,'Műszaki adattábla'!E:N,8,0)) | G1337: =IF(D1337="","",IF('Műszaki adattábla'!K1329="20-99",IF('Műszaki adattábla'!N1329="","Nem adott meg lekötött teljesítményt",VLOOKUP(D1337,'Műszaki adattábla'!E:P,10,0)),0)) | H1337: =IF(D1337="","",VLOOKUP(D1337,'Műszaki adattábla'!E:Q,11,0)) | K1337: =IF(D1337="","",ROUND((F1337*I1337*'Műszaki adattábla'!$C$6/'Műszaki adattábla'!$C$7)+(G1337*I1337)+(H1337*I1337)/12*$D$7,0)) | L1337: =IF(D1337="","",ROUND((J1337/1000)*E1337,0))
B1338: =IF(D1338="","",B1337+1) | C1338: =IF(D1338="","",VLOOKUP(D1338,'Műszaki adattábla'!E:H,2,0)) | D1338: =IF('Műszaki adattábla'!E1330="","",'Műszaki adattábla'!E1330) | E1338: =IF('Műszaki adattábla'!E1330="","",'Műszaki adattábla'!Q1330) | F1338: =IF(D1338="","",VLOOKUP(D1338,'Műszaki adattábla'!E:N,8,0)) | G1338: =IF(D1338="","",IF('Műszaki adattábla'!K1330="20-99",IF('Műszaki adattábla'!N1330="","Nem adott meg lekötött teljesítményt",VLOOKUP(D1338,'Műszaki adattábla'!E:P,10,0)),0)) | H1338: =IF(D1338="","",VLOOKUP(D1338,'Műszaki adattábla'!E:Q,11,0)) | K1338: =IF(D1338="","",ROUND((F1338*I1338*'Műszaki adattábla'!$C$6/'Műszaki adattábla'!$C$7)+(G1338*I1338)+(H1338*I1338)/12*$D$7,0)) | L1338: =IF(D1338="","",ROUND((J1338/1000)*E1338,0))
B1339: =IF(D1339="","",B1338+1) | C1339: =IF(D1339="","",VLOOKUP(D1339,'Műszaki adattábla'!E:H,2,0)) | D1339: =IF('Műszaki adattábla'!E1331="","",'Műszaki adattábla'!E1331) | E1339: =IF('Műszaki adattábla'!E1331="","",'Műszaki adattábla'!Q1331) | F1339: =IF(D1339="","",VLOOKUP(D1339,'Műszaki adattábla'!E:N,8,0)) | G1339: =IF(D1339="","",IF('Műszaki adattábla'!K1331="20-99",IF('Műszaki adattábla'!N1331="","Nem adott meg lekötött teljesítményt",VLOOKUP(D1339,'Műszaki adattábla'!E:P,10,0)),0)) | H1339: =IF(D1339="","",VLOOKUP(D1339,'Műszaki adattábla'!E:Q,11,0)) | K1339: =IF(D1339="","",ROUND((F1339*I1339*'Műszaki adattábla'!$C$6/'Műszaki adattábla'!$C$7)+(G1339*I1339)+(H1339*I1339)/12*$D$7,0)) | L1339: =IF(D1339="","",ROUND((J1339/1000)*E1339,0))
B1340: =IF(D1340="","",B1339+1) | C1340: =IF(D1340="","",VLOOKUP(D1340,'Műszaki adattábla'!E:H,2,0)) | D1340: =IF('Műszaki adattábla'!E1332="","",'Műszaki adattábla'!E1332) | E1340: =IF('Műszaki adattábla'!E1332="","",'Műszaki adattábla'!Q1332) | F1340: =IF(D1340="","",VLOOKUP(D1340,'Műszaki adattábla'!E:N,8,0)) | G1340: =IF(D1340="","",IF('Műszaki adattábla'!K1332="20-99",IF('Műszaki adattábla'!N1332="","Nem adott meg lekötött teljesítményt",VLOOKUP(D1340,'Műszaki adattábla'!E:P,10,0)),0)) | H1340: =IF(D1340="","",VLOOKUP(D1340,'Műszaki adattábla'!E:Q,11,0)) | K1340: =IF(D1340="","",ROUND((F1340*I1340*'Műszaki adattábla'!$C$6/'Műszaki adattábla'!$C$7)+(G1340*I1340)+(H1340*I1340)/12*$D$7,0)) | L1340: =IF(D1340="","",ROUND((J1340/1000)*E1340,0))
B1341: =IF(D1341="","",B1340+1) | C1341: =IF(D1341="","",VLOOKUP(D1341,'Műszaki adattábla'!E:H,2,0)) | D1341: =IF('Műszaki adattábla'!E1333="","",'Műszaki adattábla'!E1333) | E1341: =IF('Műszaki adattábla'!E1333="","",'Műszaki adattábla'!Q1333) | F1341: =IF(D1341="","",VLOOKUP(D1341,'Műszaki adattábla'!E:N,8,0)) | G1341: =IF(D1341="","",IF('Műszaki adattábla'!K1333="20-99",IF('Műszaki adattábla'!N1333="","Nem adott meg lekötött teljesítményt",VLOOKUP(D1341,'Műszaki adattábla'!E:P,10,0)),0)) | H1341: =IF(D1341="","",VLOOKUP(D1341,'Műszaki adattábla'!E:Q,11,0)) | K1341: =IF(D1341="","",ROUND((F1341*I1341*'Műszaki adattábla'!$C$6/'Műszaki adattábla'!$C$7)+(G1341*I1341)+(H1341*I1341)/12*$D$7,0)) | L1341: =IF(D1341="","",ROUND((J1341/1000)*E1341,0))
B1342: =IF(D1342="","",B1341+1) | C1342: =IF(D1342="","",VLOOKUP(D1342,'Műszaki adattábla'!E:H,2,0)) | D1342: =IF('Műszaki adattábla'!E1334="","",'Műszaki adattábla'!E1334) | E1342: =IF('Műszaki adattábla'!E1334="","",'Műszaki adattábla'!Q1334) | F1342: =IF(D1342="","",VLOOKUP(D1342,'Műszaki adattábla'!E:N,8,0)) | G1342: =IF(D1342="","",IF('Műszaki adattábla'!K1334="20-99",IF('Műszaki adattábla'!N1334="","Nem adott meg lekötött teljesítményt",VLOOKUP(D1342,'Műszaki adattábla'!E:P,10,0)),0)) | H1342: =IF(D1342="","",VLOOKUP(D1342,'Műszaki adattábla'!E:Q,11,0)) | K1342: =IF(D1342="","",ROUND((F1342*I1342*'Műszaki adattábla'!$C$6/'Műszaki adattábla'!$C$7)+(G1342*I1342)+(H1342*I1342)/12*$D$7,0)) | L1342: =IF(D1342="","",ROUND((J1342/1000)*E1342,0))
